Workbook
Name 台灣神隆成交客戶99年: 附表二台灣神隆!$A$4:$G$375

Sheet 犯罪所得 
A1: 附表一、販售未上市櫃公司股票「犯罪所得」及「沒收金額」計算表
A2: （一）賣出金額：
A3: 編號 | B3: 股票名稱 | C3: 期間 | D3: 張數 | E3: 金額 | F3: 平均每股賣價 | G3: 資料來源
A4: 1 | B4: 台灣神隆公司 | C4: =TEXT(MIN(附表二台灣神隆!$B$3:$B$374),"e/mm/dd")&"-"&TEXT(MAX(附表二台灣神隆!$B$3:$B$374),"e/mm/dd") -> 94/07/27-99/02/23 | D4: =附表二台灣神隆!F375 -> 2844 | E4: =附表二台灣神隆!L375 -> 87091000 | F4: =ROUND(E4/D4,2)/1000 -> 30.62271 | G4: 附表二
A5: 2 | B5: 華聯公司 | C5: =TEXT(MIN(附表三華聯!$B$3:$B$565),"e/mm/dd")&"-"&TEXT(MAX(附表三華聯!$B$3:$B$565),"e/mm/dd") -> 97/04/03-102/10/04 | D5: =附表三華聯!F566 -> 4611 | E5: =附表三華聯!L566 -> 163457000 | F5: =ROUND(E5/D5,2)/1000 -> 35.44936 | G5: 附表三
C6: 103/11/20-104/11/23 | D6: =附表三之一華聯!E17/1000 -> 338.202 | E6: =附表三之一華聯!G17 -> 2293040 | F6: =ROUND(E6/D6,2)/1000 -> 6.78009 | G6: 附表三之一
C7: 小計 | D7: =SUM(D5:D6) -> 4949.202 | E7: =SUM(E5:E6) -> 165750040 | F7: =ROUND(E7/D7,2)/1000 -> 33.49026
A8: 3 | B8: 聯相公司 | C8: =TEXT(MIN(附表四聯相!$C$3:$C$861),"e/mm/dd")&"-"&TEXT(MAX(附表四聯相!$C$3:$C$861),"e/mm/dd") -> 99/01/10-102/04/12 | D8: =附表四聯相!G864 -> 5639 | E8: =附表四聯相!M864 -> 229892000 | F8: =ROUND(E8/D8,2)/1000 -> 40.76822 | G8: 附表四
C9: 104/03/25-104/09/02 | D9: =附表四之一聯相!E30/1000 -> 548 | E9: =附表四之一聯相!G30 -> 1661000 | F9: =ROUND(E9/D9,2)/1000 -> 3.03102 | G9: 附表四之一
C10: 小計 | D10: =SUM(D8:D9) -> 6187 | E10: =SUM(E8:E9) -> 231553000 | F10: =ROUND(E10/D10,2)/1000 -> 37.42573
A11: 4 | B11: 台積固態公司 | C11: =TEXT(MIN(附表五台固!$C$3:$C$230),"e/mm/dd")&"-"&TEXT(MAX(附表五台固!$C$3:$C$230),"e/mm/dd") -> 102/08/19-102/12/09 | D11: =附表五台固!G233 -> 1748 | E11: =附表五台固!M233 -> 60541000 | F11: =ROUND(E11/D11,2)/1000 -> 34.63444 | G11: 附表五
C12: 103/01/8-103/12/31 | D12: =附表五之一台固!H328 -> 3515 | E12: =附表五之一台固!I328 -> 137085000 | F12: =ROUND(E12/D12,2)/1000 -> 39 | G12: 附表五之一
C13: 小計 | D13: =SUM(D11:D12) -> 5263 | E13: =SUM(E11:E12) -> 197626000 | F13: =ROUND(E13/D13,2)/1000 -> 37.55007
A14: 5 | B14: 太景生物科技 | C14: =TEXT(MIN(附表六太景!$B$3:$B$382),"e/mm/dd")&"-"&TEXT(MAX(附表六太景!$B$3:$B$382),"e/mm/dd") -> 101/01/28-102/07/11 | D14: =附表六太景!F383 -> 3063 | E14: =附表六太景!N383 -> 98651000 | F14: =ROUND(E14/D14,2)/1000 -> 32.20731 | G14: 附表六
B15: 合計 | C15: 94/07/27-104/11/23 | D15: =D4+D7+D10+D13+D14 -> 22306.202 | E15: =E4+E7+E10+E13+E14 -> 780671040 | F15: =ROUND(E15/D15,2)/1000 -> 34.99794
A16: 註： | B16: 起訴意旨以財政部財政資訊中心回函105年8月1日資裡字第10500000000號函所檢附之唐志驄、唐霈喬及王秀鳳等3人之買賣交易、繳交證券交易稅之記錄（見A21P139-182），作為計算被告唐志驄販售未上市櫃公司股票收入金額，然該計算方式，僅能含括以王秀鳳、唐志驄、唐霈喬為賣出名義人所示之交易，尚未能包含實際確為被告唐志驄所販售，但係逕由上游股票供應商過戶至向被告唐志驄買受股票之客戶部分；再者，上開回函所示證券交易稅繳交記錄，與扣案（107刑保788號扣押物品清單編號29；附表十一編號29）唐霈喬房間光碟（即市調處原始扣押物編號C-6）內檔案「Database..ID_45403」資料表所示各股票成交紀錄（此並經被告唐霈喬自承依勝券公司販售未上市櫃公司股票之真實交易紀錄所登載之成交資料，見本院卷二P73）相互比對，查見同一筆成交交易，有申報不同交易價格並重複繳交證交稅稅款情事（被告唐志驄表示係分別以與上游盤商及買受客戶之交易價格申報，目的係賺取價差，見本院卷二P75），是以前開財政部財政資訊中心函覆資料無法真實反映被告唐志驄之真實販售情狀，本院援以前開扣案唐霈喬房間光碟內檔案所示各股票成交記錄，作為計算被告唐志驄經營勝券公司非法販售未上市櫃股票所得之基礎。又因該扣押資料所記錄之成交內容僅登載至102年間，故此後（103年1月1日至104年11月23日）之銷售股票情形，則引用被告唐志驄所附勝券公司之各業務人員於103年度年終獎金所示成交明細或經整理之財政部財政資訊中心回函資料所示證券交易稅繳交紀錄明細作為計算（依卷證資料顯示，自103年1月1日後，僅有華聯、聯相及台積固態等公司之證券買賣交易資料）。
A17: （二）買進金額：
A18: 編號 | B18: 股票名稱 | C18: 期間 | D18: 股數 | E18: 金額 | F18: 平均每股買價 | G18: 卷證出處
A19: 1 | B19: 台灣神隆公司 | C19: 96/01/19-99/10/25 | D19: 812597 | E19: 21295881 | F19: =ROUND(E19/D19,2) -> 26.21 | G19: 財政資訊中心回函 （A21P141-142）
A20: 2 | B20: 華聯公司 | C20: 97/04/18-104/07/13 | D20: 2101652 | E20: 36426597 | F20: =ROUND(E20/D20,2) -> 17.33 | G20: 財政資訊中心回函 （A21P146-146反）
C21: 99/01/28-104/04/02 | D21: =144000+731+3000+892+4000+755+243+325+1000+620+179 -> 155745 | E21: =144731*15+3892*15+4755*11+243*15+325*11+1620*15+179*11 -> 2315139 | F21: =ROUND(E21/D21,2) -> 14.86 | G21: 元富證券公司回函 （本院卷一P405-407）
C22: 小計 | D22: =SUM(D20:D21) -> 2257397 | E22: =SUM(E20:E21) -> 38741736 | F22: =ROUND(E22/D22,2) -> 17.16
A23: 3 | B23: 聯相公司 | C23: 99/03/19-104/03/26 | D23: 7027584 | E23: 107714834 | F23: =ROUND(E23/D23,2) -> 15.33 | G23: 財政資訊中心回函 （A21P153-155反）
A24: 4 | B24: 台積固態公司 | C24: 102/07/30-104/03/20 | D24: 93606 | E24: 1245769 | F24: =ROUND(E24/D24,2) -> 13.31 | G24: 財政資訊中心回函 （A21P180）
A25: 5 | B25: 太景生物科技 | F25: =(E19+E22+E23+E24)/(D19+D22+D23+D24) -> 16.582786 | G25: 因無直接相關證據，僅能以其他股票之買進成本進行估算
A27: （三）犯罪所得：
A28: 編號 | B28: 股票名稱 | C28: 賣出張數 | D28: 平均每股賣價 | E28: 平均每股買價 | F28: 獲利金額 | G28: 上市櫃顧問費 （附表七） | H28: 總犯罪所得
A29: 1 | B29: 台灣神隆公司 | C29: =D4 -> 2844 | D29: =F4 -> 30.62271 | E29: =F19 -> 26.21 | F29: =(D29-E29)*C29*1000 -> 12549747 | G29: =附表七顧問費!E4 -> 24450 | H29: =F29+G29 -> 12574197
A30: 2 | B30: 華聯公司 | C30: =D7 -> 4949.202 | D30: =F7 -> 33.49026 | E30: =F22 -> 17.16 | F30: =(D30-E30)*C30*1000 -> 80821755 | H30: =F30+G30 -> 80821755
A31: 3 | B31: 聯相公司 | C31: =D10 -> 6187 | D31: =F10 -> 37.42573 | E31: =F23 -> 15.33 | F31: =(D31-E31)*C31*1000 -> 1.3670628e+08 | H31: =F31+G31 -> 1.3670628e+08
A32: 4 | B32: 台積固態公司 | C32: =D13 -> 5263 | D32: =F13 -> 37.55007 | E32: =F24 -> 13.31 | F32: =(D32-E32)*C32*1000 -> 1.2757549e+08 | H32: =F32+G32 -> 1.2757549e+08
A33: 5 | B33: 太景生物科技 | C33: =D14 -> 3063 | D33: =F14 -> 32.20731 | E33: =F25 -> 16.582786 | F33: =(D33-E33)*C33*1000 -> 47857918 | G33: =附表七顧問費!E10 -> 44220 | H33: =F33+G33 -> 47902138
B34: 合計 | F34: =SUM(F29:F33) -> 4.0551119e+08 | G34: =SUM(G29:G33) -> 68670 | H34: =SUM(H29:H33) -> 4.0557986e+08
A36: （四）沒收金額：
A37: 被告 | B37: 犯罪所得 | C37: 員工獎金 （含底薪） （附表八） | D37: 退款（單） （附表九） | E37: 和解金額 （附表十） | F37: 沒收金額
A38: 唐志聰 | B38: ='犯罪所得 '!H34 -> 4.0557986e+08 | C38: =附表八員工獎金!D1406 -> 82508485 | D38: =附表九退款!N126 -> 25634267 | E38: =附表十和解!D6 -> 600000 | F38: =B38-C38-D38-E38 -> 2.9683711e+08
A39: 唐霈喬 | C39: =附表八員工獎金!D1405 -> 5000000 | F39: =C39 -> 5000000

Sheet 附表二台灣神隆
A1: 附表二、被告販售「台灣神隆公司」股票金額彙總表
A2: 編號 | B2: 完款日期 | C2: 姓名 | D2: 戶號 | E2: 價格 (註1) | F2: 張數 (註1) | G2: 業務 | H2: 買價 | J2: 張數 | L2: 合計金額
A3: 1 | B3: 38560 | C3: 詹秀玲 | E3: 29+13 | F3: 1+1 | G3: 簡淑惠 | H3: 29 | I3: 13 | J3: 1 | K3: 1 | L3: =(H3*J3+I3*K3)*1000 -> 42000
A4: 2 | B4: 38579 | C4: 馬小萍 | E4: 29+13 | F4: 1+1 | G4: 簡淑惠 | H4: 29 | I4: 13 | J4: 1 | K4: 1 | L4: =(H4*J4+I4*K4)*1000 -> 42000
A5: 3 | B5: 38586 | C5: 王騰毅 | D5: 1533 | E5: 29+13 | F5: 2+2 | G5: 簡淑惠 | H5: 29 | I5: 13 | J5: 2 | K5: 2 | L5: =(H5*J5+I5*K5)*1000 -> 84000
A6: 4 | B6: 38658 | C6: 劉秋微 | E6: 29+13 | F6: 2+2 | G6: 簡淑惠 | H6: 29 | I6: 13 | J6: 2 | K6: 2 | L6: =(H6*J6+I6*K6)*1000 -> 84000
A7: 5 | B7: 38673 | C7: 廖淑如 | D7: 1577 | E7: 29+13 | F7: 2+2 | G7: 簡淑惠 | H7: 29 | I7: 13 | J7: 2 | K7: 2 | L7: =(H7*J7+I7*K7)*1000 -> 84000
A8: 6 | B8: 38684 | C8: 彭素珍 | E8: 29+13 | F8: 4+4 | G8: 簡淑惠 | H8: 29 | I8: 13 | J8: 4 | K8: 4 | L8: =(H8*J8+I8*K8)*1000 -> 168000
A9: 7 | B9: 38713 | C9: 翁菱鴻 | D9: 1613 | E9: 29+13 | F9: 3+3 | G9: 簡淑惠 | H9: 29 | I9: 13 | J9: 3 | K9: 3 | L9: =(H9*J9+I9*K9)*1000 -> 126000
A10: 8 | B10: 38720 | C10: 陳思穎 | E10: 29 | F10: 1 | G10: 吳佳澐 | H10: 29 | J10: 1 | L10: =(H10*J10+I10*K10)*1000 -> 29000
A11: 9 | B11: 38736 | C11: 林岱萱 | E11: 29+13 | F11: 10+10 | G11: 簡淑惠 | H11: 29 | I11: 13 | J11: 10 | K11: 10 | L11: =(H11*J11+I11*K11)*1000 -> 420000
A12: 10 | B12: 38742 | C12: 邱振芳 | E12: 29+13 | F12: 3+3 | G12: 簡淑惠 | H12: 29 | I12: 13 | J12: 3 | K12: 3 | L12: =(H12*J12+I12*K12)*1000 -> 126000
A13: 11 | B13: 38754 | C13: 吳怡賢 | D13: 1655 | E13: 29+13 | F13: 1+1 | G13: 簡淑惠 | H13: 29 | I13: 13 | J13: 1 | K13: 1 | L13: =(H13*J13+I13*K13)*1000 -> 42000
A14: 12 | B14: 38756 | C14: 吳秉忠 | E14: 29+13 | F14: 3+3 | G14: 簡淑惠 | H14: 29 | I14: 13 | J14: 3 | K14: 3 | L14: =(H14*J14+I14*K14)*1000 -> 126000
A15: 13 | B15: 38761 | C15: 李玉英 | E15: 29+13 | F15: 10+10 | G15: 簡淑惠 | H15: 29 | I15: 13 | J15: 10 | K15: 10 | L15: =(H15*J15+I15*K15)*1000 -> 420000
A16: 14 | B16: 38775 | C16: 陳震國 | E16: 38+18 | F16: 7+7 | G16: 簡淑惠 | H16: 38 | I16: 18 | J16: 7 | K16: 7 | L16: =(H16*J16+I16*K16)*1000 -> 392000
A17: 15 | B17: 38782 | C17: 李曉婷 | D17: 1494 | E17: 29+13 | F17: 10+10 | G17: 王姵今 | H17: 29 | I17: 13 | J17: 10 | K17: 10 | L17: =(H17*J17+I17*K17)*1000 -> 420000
A18: 16 | B18: 38797 | C18: 余中伶 | D18: 1696 | E18: 38+13 | F18: 3+3 | G18: 簡淑惠 | H18: 38 | I18: 13 | J18: 3 | K18: 3 | L18: =(H18*J18+I18*K18)*1000 -> 153000
A19: 17 | B19: 38826 | C19: 張紹明 | D19: 1505 | E19: 29+13 | F19: 3+3 | G19: 王姵今 | H19: 29 | I19: 13 | J19: 3 | K19: 3 | L19: =(H19*J19+I19*K19)*1000 -> 126000
A20: 18 | B20: 38845 | C20: 劉昭課 | D20: 1516 | E20: 29 | F20: 1 | G20: 吳佳澐 | H20: 29 | J20: 1 | L20: =(H20*J20+I20*K20)*1000 -> 29000
A21: 19 | B21: 38849 | C21: 楊仁君 | D21: 1623 | E21: 29+13 | F21: 1+1 | G21: 王姵今 | H21: 29 | I21: 13 | J21: 1 | K21: 1 | L21: =(H21*J21+I21*K21)*1000 -> 42000
A22: 20 | B22: 38853 | C22: 施俊良 | E22: 38+13 | F22: 5+5 | G22: 簡淑惠 | H22: 38 | I22: 13 | J22: 5 | K22: 5 | L22: =(H22*J22+I22*K22)*1000 -> 255000
A23: 21 | B23: 38859 | C23: 黃永義 | D23: 1622 | E23: 29+13 | F23: 10+10 | G23: 王姵今 | H23: 29 | I23: 13 | J23: 10 | K23: 10 | L23: =(H23*J23+I23*K23)*1000 -> 420000
A24: 22 | B24: 38866 | C24: 吳正華 | D24: 1763 | E24: 38+13 | F24: 1+1 | G24: 簡淑惠 | H24: 38 | I24: 13 | J24: 1 | K24: 1 | L24: =(H24*J24+I24*K24)*1000 -> 51000
A25: 23 | B25: 38867 | C25: 莊秀麗 | E25: 38+13 | F25: 1+1 | G25: 簡淑惠 | H25: 38 | I25: 13 | J25: 1 | K25: 1 | L25: =(H25*J25+I25*K25)*1000 -> 51000
A26: 24 | B26: 38869 | C26: 蔡淑玲 | D26: 1541 | E26: 29+13 | F26: 5+5 | G26: 簡淑惠 | H26: 29 | I26: 13 | J26: 5 | K26: 5 | L26: =(H26*J26+I26*K26)*1000 -> 210000
A27: 25 | B27: 38869 | C27: 翁菱璣 | D27: 1514 | E27: 29+13 | F27: 20+20 | G27: 簡淑惠 | H27: 29 | I27: 13 | J27: 20 | K27: 20 | L27: =(H27*J27+I27*K27)*1000 -> 840000
A28: 26 | B28: 38891 | C28: 楊傑閔 | D28: 1779 | E28: 38+13 | F28: 1+1 | G28: 簡淑惠 | H28: 38 | I28: 13 | J28: 1 | K28: 1 | L28: =(H28*J28+I28*K28)*1000 -> 51000
A29: 27 | B29: 38929 | C29: 藍素萍 | D29: 1527 | E29: 29+13 | F29: 1+1 | G29: 簡淑惠 | H29: 29 | I29: 13 | J29: 1 | K29: 1 | L29: =(H29*J29+I29*K29)*1000 -> 42000
A30: 28 | B30: 38931 | C30: 游安君 | D30: 1523 | E30: 29+13 | F30: 1+1 | G30: 簡淑惠 | H30: 29 | I30: 13 | J30: 1 | K30: 1 | L30: =(H30*J30+I30*K30)*1000 -> 42000
A31: 29 | B31: 38933 | C31: 邱 滿 | E31: 29+13 | F31: 5+5 | G31: 簡淑惠 | H31: 29 | I31: 13 | J31: 5 | K31: 5 | L31: =(H31*J31+I31*K31)*1000 -> 210000
A32: 30 | B32: 38933 | C32: 羅鳳英 | E32: 29+13 | F32: 1+1 | G32: 吳佳澐 | H32: 29 | I32: 13 | J32: 1 | K32: 1 | L32: =(H32*J32+I32*K32)*1000 -> 42000
A33: 31 | B33: 38965 | C33: 洪秀雲 | D33: 1542 | E33: 29+13 | F33: 2+2 | G33: 簡淑惠 | H33: 29 | I33: 13 | J33: 2 | K33: 2 | L33: =(H33*J33+I33*K33)*1000 -> 84000
A34: 32 | B34: 38967 | C34: 簡蔚瑾 | D34: 1540 | E34: 29+13 | F34: 1+1 | G34: 簡淑惠 | H34: 29 | I34: 13 | J34: 1 | K34: 1 | L34: =(H34*J34+I34*K34)*1000 -> 42000
A35: 33 | B35: 38968 | C35: 曾美榮 | D35: 1539 | E35: 29+13 | F35: 1+1 | G35: 簡淑惠 | H35: 29 | I35: 13 | J35: 1 | K35: 1 | L35: =(H35*J35+I35*K35)*1000 -> 42000
A36: 34 | B36: 38968 | C36: 林士景 | D36: 1544 | E36: 29+13 | F36: 1+1 | G36: 簡淑惠 | H36: 29 | I36: 13 | J36: 1 | K36: 1 | L36: =(H36*J36+I36*K36)*1000 -> 42000
A37: 35 | B37: 38968 | C37: 胡景文 | D37: 1537 | E37: 29+13 | F37: 1+1 | G37: 吳佳澐 | H37: 29 | I37: 13 | J37: 1 | K37: 1 | L37: =(H37*J37+I37*K37)*1000 -> 42000
A38: 36 | B38: 38978 | C38: 林聰賓 | E38: 29+13 | F38: 10+10 | G38: 吳佳澐 | H38: 29 | I38: 13 | J38: 10 | K38: 10 | L38: =(H38*J38+I38*K38)*1000 -> 420000
A39: 37 | B39: 38985 | C39: 諸葛娟 | D39: 1548 | E39: 29+13 | F39: 2+2 | G39: 簡淑惠 | H39: 29 | I39: 13 | J39: 2 | K39: 2 | L39: =(H39*J39+I39*K39)*1000 -> 84000
A40: 38 | B40: 38985 | C40: 諸葛珍 | D40: 1549 | E40: 29+13 | F40: 2+2 | G40: 簡淑惠 | H40: 29 | I40: 13 | J40: 2 | K40: 2 | L40: =(H40*J40+I40*K40)*1000 -> 84000
...

Sheet 附表三華聯
A1: 附表三、被告於102年12月31日以前販售「華聯公司」股票金額彙總表
A2: 編號 | B2: 完款日期 | C2: 姓名 | D2: 戶號 | E2: 價格 (註1) | F2: 張數 (註1) | G2: 業務 | H2: 買價 | J2: 張數 | L2: 合計金額
A3: 1 | B3: 39541 | C3: 鄭彩華 | D3: 320 | E3: 39+18 | F3: 4+4 | G3: 王億芯 | H3: 39 | I3: 18 | J3: 4 | K3: 4 | L3: =(H3*J3+I3*K3)*1000 -> 228000
A4: 2 | B4: 39546 | C4: 顏秀芳 | D4: 322 | E4: 39+18 | F4: 1+1 | G4: 王億芯 | H4: 39 | I4: 18 | J4: 1 | K4: 1 | L4: =(H4*J4+I4*K4)*1000 -> 57000
A5: 3 | B5: 39547 | C5: 王佳玉 | E5: 39+18 | F5: 5+5 | G5: 簡淑惠 | H5: 39 | I5: 18 | J5: 5 | K5: 5 | L5: =(H5*J5+I5*K5)*1000 -> 285000
A6: 4 | B6: 39548 | C6: 李偲寧 | D6: 321 | E6: 39+18 | F6: 1+1 | G6: 王億芯 | H6: 39 | I6: 18 | J6: 1 | K6: 1 | L6: =(H6*J6+I6*K6)*1000 -> 57000
A7: 5 | B7: 39548 | C7: 郭淑珍 | D7: 323 | E7: 39+18 | F7: 1+1 | G7: 王億芯 | H7: 39 | I7: 18 | J7: 1 | K7: 1 | L7: =(H7*J7+I7*K7)*1000 -> 57000
A8: 6 | B8: 39548 | C8: 馮濬明 | D8: 325 | E8: 39+18 | F8: 3+3 | G8: 王億芯 | H8: 39 | I8: 18 | J8: 3 | K8: 3 | L8: =(H8*J8+I8*K8)*1000 -> 171000
A9: 7 | B9: 39548 | C9: 蔡雅婷 | D9: 328 | E9: 39+18 | F9: 3+3 | G9: 王億芯 | H9: 39 | I9: 18 | J9: 3 | K9: 3 | L9: =(H9*J9+I9*K9)*1000 -> 171000
A10: 8 | B10: 39549 | C10: 周志霖 | D10: 324 | E10: 39+18 | F10: 1+1 | G10: 王億芯 | H10: 39 | I10: 18 | J10: 1 | K10: 1 | L10: =(H10*J10+I10*K10)*1000 -> 57000
A11: 9 | B11: 39554 | C11: 王淼駿 | D11: 327 | E11: 39+18 | F11: 1+1 | G11: 王億芯 | H11: 39 | I11: 18 | J11: 1 | K11: 1 | L11: =(H11*J11+I11*K11)*1000 -> 57000
A12: 10 | B12: 39559 | C12: 洪介岩 | D12: 330 | E12: 39+18 | F12: 40+40 | G12: 王億芯 | H12: 39 | I12: 18 | J12: 40 | K12: 40 | L12: =(H12*J12+I12*K12)*1000 -> 2280000
A13: 11 | B13: 39559 | C13: 洪唐素美 | D13: 332 | E13: 39+18 | F13: 40+40 | G13: 王億芯 | H13: 39 | I13: 18 | J13: 40 | K13: 40 | L13: =(H13*J13+I13*K13)*1000 -> 2280000
A14: 12 | B14: 39559 | C14: 洪琇茜 | D14: 336 | E14: 39+18 | F14: 5+5 | G14: 王億芯 | H14: 39 | I14: 18 | J14: 5 | K14: 5 | L14: =(H14*J14+I14*K14)*1000 -> 285000
A15: 13 | B15: 39559 | C15: 洪緗筌 | D15: 335 | E15: 39+18 | F15: 5+5 | G15: 王億芯 | H15: 39 | I15: 18 | J15: 5 | K15: 5 | L15: =(H15*J15+I15*K15)*1000 -> 285000
A16: 14 | B16: 39559 | C16: 洪緗瑢 | D16: 334 | E16: 39+18 | F16: 5+5 | G16: 王億芯 | H16: 39 | I16: 18 | J16: 5 | K16: 5 | L16: =(H16*J16+I16*K16)*1000 -> 285000
A17: 15 | B17: 39559 | C17: 洪緗暿 | D17: 337 | E17: 39+18 | F17: 5+5 | G17: 王億芯 | H17: 39 | I17: 18 | J17: 5 | K17: 5 | L17: =(H17*J17+I17*K17)*1000 -> 285000
... A34: 32 | B34: 39587 | C34: 謝秉勳 | D34: 368 | E34: 39+18 | F34: 1+1 | G34: 簡淑惠 | H34: 39 | I34: 18 | J34: 1 | K34: 1 | L34: =(H34*J34+I34*K34)*1000 -> 57000
A35: 33 | B35: 39594 | C35: 曾宇任 | E35: 39+18 | F35: 1+1 | G35: 簡淑惠 | H35: 39 | I35: 18 | J35: 1 | K35: 1 | L35: =(H35*J35+I35*K35)*1000 -> 57000
A36: 34 | B36: 39603 | C36: 洪緗筌 | D36: 335 | E36: 39+18 | F36: 5+5 | G36: 王億芯 | H36: 39 | I36: 18 | J36: 5 | K36: 5 | L36: =(H36*J36+I36*K36)*1000 -> 285000
A37: 35 | B37: 39603 | C37: 蔡棏躍 | D37: 382 | E37: 39+18 | F37: 8+8 | G37: 王億芯 | H37: 39 | I37: 18 | J37: 8 | K37: 8 | L37: =(H37*J37+I37*K37)*1000 -> 456000
A38: 36 | B38: 39604 | C38: 林鈺芳 | D38: 369 | E38: 39+13 | F38: 2 | G38: 王億芯 | H38: 39 | I38: 13 | J38: 1 | K38: 1 | L38: =(H38*J38+I38*K38)*1000 -> 52000
A39: 37 | B39: 39604 | C39: 洪琇茜 | D39: 336 | E39: 39+18 | F39: 5+5 | G39: 王億芯 | H39: 39 | I39: 18 | J39: 5 | K39: 5 | L39: =(H39*J39+I39*K39)*1000 -> 285000
A40: 38 | B40: 39604 | C40: 洪緗瑢 | D40: 334 | E40: 39+18 | F40: 5+5 | G40: 王億芯 | H40: 39 | I40: 18 | J40: 5 | K40: 5 | L40: =(H40*J40+I40*K40)*1000 -> 285000
A41: 39 | B41: 39604 | C41: 洪緗暿 | D41: 337 | E41: 39+18 | F41: 5+5 | G41: 王億芯 | H41: 39 | I41: 18 | J41: 5 | K41: 5 | L41: =(H41*J41+I41*K41)*1000 -> 285000
A42: 40 | B42: 39604 | C42: 江昆儒 | E42: 39+18 | F42: 1+1 | G42: 簡淑惠 | H42: 39 | I42: 18 | J42: 1 | K42: 1 | L42: =(H42*J42+I42*K42)*1000 -> 57000
A43: 41 | B43: 39608 | C43: 李偲寧 | D43: 321 | E43: 39+18 | F43: 1+1 | G43: 王億芯 | H43: 39 | I43: 18 | J43: 1 | K43: 1 | L43: =(H43*J43+I43*K43)*1000 -> 57000
A44: 42 | B44: 39610 | C44: 陳怡芬 | D44: 370 | E44: 39+18 | F44: 1+1 | G44: 王億芯 | H44: 39 | I44: 18 | J44: 1 | K44: 1 | L44: =(H44*J44+I44*K44)*1000 -> 57000
A45: 43 | B45: 39610 | C45: 駱奕良 | D45: 371 | E45: 39+18 | F45: 2+2 | G45: 王億芯 | H45: 39 | I45: 18 | J45: 2 | K45: 2 | L45: =(H45*J45+I45*K45)*1000 -> 114000
A46: 44 | B46: 39617 | C46: 洪珮玲 | D46: 380 | E46: 39+18 | F46: 2+2 | G46: 王億芯 | H46: 39 | I46: 18 | J46: 2 | K46: 2 | L46: =(H46*J46+I46*K46)*1000 -> 114000
A47: 45 | B47: 39623 | C47: 高振庭 | D47: 381 | E47: 39+18 | F47: 1+1 | G47: 王億芯 | H47: 39 | I47: 18 | J47: 1 | K47: 1 | L47: =(H47*J47+I47*K47)*1000 -> 57000
A48: 46 | B48: 39625 | C48: 藍偉銓 | D48: 384 | E48: 39+18 | F48: 3+3 | G48: 王億芯 | H48: 39 | I48: 18 | J48: 3 | K48: 3 | L48: =(H48*J48+I48*K48)*1000 -> 171000
A49: 47 | B49: 39633 | C49: 杜長洋 | D49: 386 | E49: 39+18 | F49: 1+1 | G49: 王億芯 | H49: 39 | I49: 18 | J49: 1 | K49: 1 | L49: =(H49*J49+I49*K49)*1000 -> 57000
A50: 48 | B50: 39664 | C50: 姜修齊 | D50: 391 | E50: 39+18 | F50: 2+2 | G50: 王億芯 | H50: 39 | I50: 18 | J50: 2 | K50: 2 | L50: =(H50*J50+I50*K50)*1000 -> 114000
A51: 49 | B51: 39668 | C51: 李偲寧 | D51: 321 | E51: 39+18 | F51: 1+1 | G51: 王億芯 | H51: 39 | I51: 18 | J51: 1 | K51: 1 | L51: =(H51*J51+I51*K51)*1000 -> 57000
A52: 50 | B52: 39668 | C52: 林彥璋 | D52: 393 | E52: 39+18 | F52: 2+2 | G52: 王億芯 | H52: 39 | I52: 18 | J52: 2 | K52: 2 | L52: =(H52*J52+I52*K52)*1000 -> 114000
A53: 51 | B53: 39669 | C53: 謝德鈺 | D53: 389 | E53: 39+18 | F53: 5+5 | G53: 王億芯 | H53: 39 | I53: 18 | J53: 5 | K53: 5 | L53: =(H53*J53+I53*K53)*1000 -> 285000
A54: 52 | B54: 39681 | C54: 蘇美如 | D54: 394 | E54: 39+18 | F54: 1+1 | G54: 簡淑惠 | H54: 39 | I54: 18 | J54: 1 | K54: 1 | L54: =(H54*J54+I54*K54)*1000 -> 57000
... A60: 58 | B60: 39702 | C60: 鮑震谷 | D60: 397 | E60: 39+18 | F60: 5+5 | G60: 簡淑惠 | H60: 39 | I60: 18 | J60: 5 | K60: 5 | L60: =(H60*J60+I60*K60)*1000 -> 285000
A61: 59 | B61: 39709 | C61: 郭世政 | E61: 39+18 | F61: 3+3 | G61: 簡淑惠 | H61: 39 | I61: 18 | J61: 3 | K61: 3 | L61: =(H61*J61+I61*K61)*1000 -> 171000
...

Sheet 附表三之一華聯
A1: 附表三之一、被告於103年1月1日以後販售「華聯公司」股票金額彙總表
A2: 編號 | B2: 買受人 | C2: 出賣人 | D2: 交割日期 | E2: 成交股數 | F2: 成交單價 | G2: 成交總價
A3: 1 | B3: 吳志文 | C3: 唐志驄 | D3: 103/11/20 | E3: 10000 | F3: 4 | G3: 40000
A4: 2 | B4: 吳志文 | C4: 唐志驄 | D4: 103/11/20 | E4: 30000 | F4: 3.6 | G4: 108000
A5: 3 | B5: 吳志文 | C5: 唐志驄 | D5: 103/11/25 | E5: 100000 | F5: 4.6 | G5: 460000
A6: 4 | B6: 吳志文 | C6: 唐志驄 | D6: 103/11/25 | E6: 50000 | F6: 4.5 | G6: 225000
A7: 5 | B7: 吳志文 | C7: 唐志驄 | D7: 103/11/26 | E7: 50000 | F7: 5.2 | G7: 260000
A8: 6 | B8: 吳志文 | C8: 唐志驄 | D8: 103/12/31 | E8: 30000 | F8: 5.1 | G8: 153000
A9: 7 | B9: 吳志文 | C9: 唐志驄 | D9: 104/06/23 | E9: 20000 | F9: 14 | G9: 280000
A10: 8 | B10: 金震國 | C10: 唐志驄 | D10: 104/07/01 | E10: 2000 | F10: 25 | G10: 50000
A11: 9 | B11: 金偉翔 | C11: 唐志驄 | D11: 104/07/01 | E11: 1000 | F11: 25 | G11: 25000
A12: 10 | B12: 簡淑惠 | C12: 唐志驄 | D12: 104/07/01 | E12: 12000 | F12: 25 | G12: 300000
A13: 11 | B13: 許敏航 | C13: 唐志驄 | D13: 104/07/07 | E13: 3000 | F13: 21 | G13: 63000
A14: 12 | B14: 李承濬 | C14: 唐志驄 | D14: 104/07/27 | E14: 202 | F14: 20 | G14: 4040
... A16: 14 | B16: 吳志文 | C16: 唐志驄 | D16: 104/11/23 | E16: 20000 | F16: 11 | G16: 220000
B17: 小計 | E17: =SUM(E3:E16) -> 338202 | G17: =SUM(G3:G16) -> 2293040
A18: 資料來源：係由107年5月16日財政部財政資訊中心回函所附檔案，經利用EXCEL篩選功能篩選「交割日期」在「103年1月1日（含）以後」，「出賣人名稱」為「唐志聰、唐霈喬、王秀鳳」之交易後而得。

Sheet 附表四聯相
A1: 附表四、被告於102年12月31日以前販售「聯相公司」股票金額彙總表
A2: 編號 | B2: 報單日期 | C2: 完款日期 | D2: 姓名 | E2: 戶號 | F2: 價格 (註1) | G2: 張數 (註1) | H2: 業務 | I2: 買價 | K2: 張數 | M2: 合計金額
A3: 1 | B3: 40870 | C3: 40906 | D3: 蔡明憲 | E3: 2277 | F3: 28 | G3: 1 | H3: 陳乃維 | I3: 28 | K3: 1 | M3: =(I3*K3+J3*L3)*1000 -> 28000
A4: 2 | B4: 40877 | C4: 40906 | D4: 陳浩方 | E4: 1995 | F4: 28 | G4: 3 | H4: 王億芯 | I4: 28 | K4: 3 | M4: =(I4*K4+J4*L4)*1000 -> 84000
A5: 3 | B5: 40870 | C5: 40906 | D5: 李松泉 | E5: 2278 | F5: 28 | G5: 2 | H5: 陳乃維 | I5: 28 | K5: 2 | M5: =(I5*K5+J5*L5)*1000 -> 56000
A6: 4 | B6: 40877 | C6: 40906 | D6: 張孟彥 | E6: 1260 | F6: 28 | G6: 2 | H6: 王億芯 | I6: 28 | K6: 2 | M6: =(I6*K6+J6*L6)*1000 -> 56000
A7: 5 | B7: 40862 | C7: 40906 | D7: 董子瑋 | E7: 2187 | F7: 28 | G7: 5 | H7: 簡淑惠 | I7: 28 | K7: 5 | M7: =(I7*K7+J7*L7)*1000 -> 140000
A8: 6 | B8: 40877 | C8: 40906 | D8: 陳姣伶 | E8: 1187 | F8: 28 | G8: 2 | H8: 王億芯 | I8: 28 | K8: 2 | M8: =(I8*K8+J8*L8)*1000 -> 56000
A9: 7 | B9: 40858 | C9: 40906 | D9: 陳黛馨 | E9: 2157 | F9: 28 | G9: 6 | H9: 簡淑惠 | I9: 28 | K9: 6 | M9: =(I9*K9+J9*L9)*1000 -> 168000
A10: 8 | B10: 40878 | C10: 40906 | D10: 張怡仙 | E10: 1406 | F10: 28 | G10: 1 | H10: 王姵今 | I10: 28 | K10: 1 | M10: =(I10*K10+J10*L10)*1000 -> 28000
A11: 9 | B11: 40858 | C11: 40906 | D11: 陳倩馨 | E11: 1986 | F11: 28 | G11: 15 | H11: 簡淑惠 | I11: 28 | K11: 15 | M11: =(I11*K11+J11*L11)*1000 -> 420000
A12: 10 | B12: 40858 | C12: 40906 | D12: 洪紹華 | E12: 1268 | F12: 28 | G12: 2 | H12: 王姵今 | I12: 28 | K12: 2 | M12: =(I12*K12+J12*L12)*1000 -> 56000
A13: 11 | B13: 40954 | C13: 40955 | D13: 陳良泉 | E13: 2316 | F13: 59+28 | G13: 3+3 | H13: 王姵今 | I13: 59 | J13: 28 | K13: 3 | L13: 3 | M13: =(I13*K13+J13*L13)*1000 -> 261000
A14: 12 | B14: 40956 | C14: 40962 | D14: 周子強 | E14: 2341 | F14: 59+28 | G14: 1+1 | H14: 陳乃維 | I14: 59 | J14: 28 | K14: 1 | L14: 1 | M14: =(I14*K14+J14*L14)*1000 -> 87000
A15: 13 | B15: 40961 | D15: 葉素菁 | F15: 59+28 | G15: 5+5 | H15: 簡淑惠 | I15: 59 | J15: 28 | K15: 5 | L15: 5 | M15: =(I15*K15+J15*L15)*1000 -> 435000
A16: 14 | B16: 40968 | C16: 40969 | D16: 蔡杰煬 | E16: 2351 | F16: 59+28 | G16: 1+1 | H16: 王億芯 | I16: 59 | J16: 28 | K16: 1 | L16: 1 | M16: =(I16*K16+J16*L16)*1000 -> 87000
A17: 15 | B17: 40963 | C17: 41176 | D17: 林喬斯 | E17: 2296 | F17: 59+28 | G17: 1+1 | H17: 黃碧真 | I17: 59 | J17: 28 | K17: 1 | L17: 1 | M17: =(I17*K17+J17*L17)*1000 -> 87000
A18: 16 | B18: 40970 | D18: 黃燕妃 | F18: 59+28 | G18: 5+5 | H18: 王億芯 | I18: 59 | J18: 28 | K18: 5 | L18: 5 | M18: =(I18*K18+J18*L18)*1000 -> 435000
A19: 17 | B19: 40969 | C19: 40971 | D19: 翁菱鴻 | E19: 2349 | F19: 59+28 | G19: 2+2 | H19: 簡淑惠 | I19: 59 | J19: 28 | K19: 2 | L19: 2 | M19: =(I19*K19+J19*L19)*1000 -> 174000
A20: 18 | B20: 40640 | C20: 40732 | D20: 吳春玫 | E20: 1808 | F20: 59+28 | G20: 1+1 | H20: 簡淑惠 | I20: 59 | J20: 28 | K20: 1 | L20: 1 | M20: =(I20*K20+J20*L20)*1000 -> 87000
A21: 19 | B21: 40598 | C21: 40732 | D21: 吳羽芃 | E21: 2217 | F21: 59+28 | G21: 42+42 | H21: 簡淑惠 | I21: 59 | J21: 28 | K21: 42 | L21: 42 | M21: =(I21*K21+J21*L21)*1000 -> 3654000
A22: 20 | B22: 40707 | C22: 40731 | D22: 徐銘佐 | E22: 2202 | F22: 59+28 | G22: 2+2 | H22: 簡淑惠 | I22: 59 | J22: 28 | K22: 2 | L22: 2 | M22: =(I22*K22+J22*L22)*1000 -> 174000
A23: 21 | B23: 40714 | C23: 40728 | D23: 廖一昌 | E23: 2201 | F23: 59+28 | G23: 5+5 | H23: 簡淑惠 | I23: 59 | J23: 28 | K23: 5 | L23: 5 | M23: =(I23*K23+J23*L23)*1000 -> 435000
A24: 22 | B24: 40717 | C24: 40728 | D24: 吳安慧 | E24: 1463 | F24: 59+28 | G24: 3+3 | H24: 簡淑惠 | I24: 59 | J24: 28 | K24: 3 | L24: 3 | M24: =(I24*K24+J24*L24)*1000 -> 261000
A25: 23 | B25: 40723 | C25: 40724 | D25: 陳瑞言 | E25: 1897 | F25: 59+28 | G25: 1+1 | H25: 王姵今 | I25: 59 | J25: 28 | K25: 1 | L25: 1 | M25: =(I25*K25+J25*L25)*1000 -> 87000
A26: 24 | B26: 40724 | C26: 40724 | D26: 王姵今 | E26: 1248 | F26: 59+28 | G26: 3+3 | H26: 王姵今 | I26: 59 | J26: 28 | K26: 3 | L26: 3 | M26: =(I26*K26+J26*L26)*1000 -> 261000
A27: 25 | B27: 40708 | C27: 40723 | D27: 劉軍綻 | E27: 1870 | F27: 59+28 | G27: 1+1 | H27: 王姵今 | I27: 59 | J27: 28 | K27: 1 | L27: 1 | M27: =(I27*K27+J27*L27)*1000 -> 87000
A28: 26 | B28: 40714 | C28: 40722 | D28: 莊佩珍 | E28: 2175 | F28: 59 | G28: 1 | H28: 王姵今 | I28: 59 | K28: 1 | M28: =(I28*K28+J28*L28)*1000 -> 59000
A29: 27 | B29: 40718 | C29: 40722 | D29: 林宜樺 | E29: 2193 | F29: 59+28 | G29: 1+1 | H29: 王姵今 | I29: 59 | J29: 28 | K29: 1 | L29: 1 | M29: =(I29*K29+J29*L29)*1000 -> 87000
A30: 28 | B30: 40718 | C30: 40721 | D30: 詹秀玲 | E30: 1988 | F30: 59+28 | G30: 2+2 | H30: 簡淑惠 | I30: 59 | J30: 28 | K30: 2 | L30: 2 | M30: =(I30*K30+J30*L30)*1000 -> 174000
A31: 29 | B31: 40717 | C31: 40721 | D31: 徐秀鳳 | E31: 2170 | F31: 59+28 | G31: 10+10 | H31: 黃碧真 | I31: 59 | J31: 28 | K31: 10 | L31: 10 | M31: =(I31*K31+J31*L31)*1000 -> 870000
A32: 30 | B32: 40654 | C32: 40654 | D32: 藍偉銓 | E32: 1327 | F32: 59+28 | G32: 3+3 | H32: 王億芯 | I32: 59 | J32: 28 | K32: 3 | L32: 3 | M32: =(I32*K32+J32*L32)*1000 -> 261000
A33: 31 | B33: 40647 | C33: 40654 | D33: 王偉澤 | E33: 2133 | F33: 59+28 | G33: 2+2 | H33: 王姵今 | I33: 59 | J33: 28 | K33: 2 | L33: 2 | M33: =(I33*K33+J33*L33)*1000 -> 174000
A34: 32 | B34: 40631 | C34: 40652 | D34: 李文德 | E34: 2003 | F34: 59+28 | G34: 1+1 | H34: 王姵今 | I34: 59 | J34: 28 | K34: 1 | L34: 1 | M34: =(I34*K34+J34*L34)*1000 -> 87000
A35: 33 | B35: 40633 | C35: 40648 | D35: 李玉英 | E35: 2136 | F35: 59+28 | G35: 5+5 | H35: 簡淑惠 | I35: 59 | J35: 28 | K35: 5 | L35: 5 | M35: =(I35*K35+J35*L35)*1000 -> 435000
A36: 34 | B36: 40626 | C36: 40648 | D36: 李玉英 | E36: 2136 | F36: 59+28 | G36: 15+15 | H36: 簡淑惠 | I36: 59 | J36: 28 | K36: 15 | L36: 15 | M36: =(I36*K36+J36*L36)*1000 -> 1305000
A37: 35 | B37: 40623 | C37: 40647 | D37: 廖昭篤 | E37: 1933 | F37: 59+28 | G37: 3+3 | H37: 簡淑惠 | I37: 59 | J37: 28 | K37: 3 | L37: 3 | M37: =(I37*K37+J37*L37)*1000 -> 261000
A38: 36 | B38: 40632 | C38: 40647 | D38: 李荷花 | E38: 2125 | F38: 59+28 | G38: 5+5 | H38: 簡淑惠 | I38: 59 | J38: 28 | K38: 5 | L38: 5 | M38: =(I38*K38+J38*L38)*1000 -> 435000
A39: 37 | B39: 40632 | C39: 40647 | D39: 李淑琴 | E39: 2137 | F39: 59+28 | G39: 5+5 | H39: 簡淑惠 | I39: 59 | J39: 28 | K39: 5 | L39: 5 | M39: =(I39*K39+J39*L39)*1000 -> 435000
A40: 38 | B40: 40855 | C40: 40907 | D40: 柯宗男 | E40: 1470 | F40: 28 | G40: 1 | H40: 王姵今 | I40: 28 | K40: 1 | M40: =(I40*K40+J40*L40)*1000 -> 28000
...

Sheet 附表四之一聯相
A1: 附表四之一、被告於103年1月1日以後販售「聯相公司」股票金額彙總表
A2: 編號 | B2: 買受人 | C2: 出賣人 | D2: 交割日期 | E2: 成交股數 | F2: 成交單價 | G2: 成交總價
A3: 1 | B3: 吳志文 | C3: 唐志驄 | D3: 104/03/25 | E3: 50000 | F3: 3.5 | G3: 175000
A4: 2 | B4: 劉韓儀 | C4: 唐志驄 | D4: 104/06/09 | E4: 6000 | F4: 5 | G4: 30000
A5: 3 | B5: 吳志文 | C5: 唐志驄 | D5: 104/06/16 | E5: 20000 | F5: 2 | G5: 40000
A6: 4 | B6: 金震國 | C6: 唐志驄 | D6: 104/06/25 | E6: 9000 | F6: 3 | G6: 27000
A7: 5 | B7: 金偉翔 | C7: 唐志驄 | D7: 104/06/25 | E7: 3000 | F7: 3 | G7: 9000
A8: 6 | B8: 金偉傑 | C8: 唐志驄 | D8: 104/06/25 | E8: 5000 | F8: 3 | G8: 15000
A9: 7 | B9: 簡淑惠 | C9: 唐志驄 | D9: 104/06/25 | E9: 142000 | F9: 3 | G9: 426000
A10: 8 | B10: 吳志文 | C10: 唐志驄 | D10: 104/07/01 | E10: 5000 | F10: 3 | G10: 15000
A11: 9 | B11: 邱士緁 | C11: 唐志驄 | D11: 104/07/06 | E11: 2000 | F11: 3 | G11: 6000
A12: 10 | B12: 陳文彬 | C12: 唐志驄 | D12: 104/07/06 | E12: 10000 | F12: 3 | G12: 30000
A13: 11 | B13: 陳桂玲 | C13: 唐志驄 | D13: 104/07/06 | E13: 22000 | F13: 3 | G13: 66000
A14: 12 | B14: 陳媛美 | C14: 唐志驄 | D14: 104/07/06 | E14: 60000 | F14: 3 | G14: 180000
... A29: 27 | B29: 陳沿佑 | C29: 王秀鳳 | D29: 104/09/02 | E29: 6000 | F29: 3 | G29: 18000
B30: 小計 | E30: =SUM(E3:E29) -> 548000 | G30: =SUM(G3:G29) -> 1661000
A31: 資料來源：係由107年5月16日財政部財政資訊中心回函所附檔案，經利用EXCEL篩選功能篩選「交割日期」在「103年1月1日（含）以後」，「出賣人名稱」為「唐志聰、唐霈喬、王秀鳳」之交易後而得。

Sheet 附表五台固
A1: 附表五、被告於102年12月31日以前販售「台積固態公司」股票金額彙總表
A2: 編號 | B2: 報單日期 | C2: 完款日期 | D2: 姓名 | E2: 戶號 | F2: 價格 (註1) | G2: 張數 (註1) | H2: 業務 | I2: 買價 | K2: 張數 | M2: 合計金額
A3: 1 | B3: 41495 | C3: 41505 | D3: 葉日榕 | E3: 305 | F3: 49+20 | G3: 1+1 | H3: 黃碧真 | I3: 49 | J3: 20 | K3: 1 | L3: 1 | M3: =(I3*K3+J3*L3)*1000 -> 69000
A4: 2 | B4: 41498 | C4: 41506 | D4: 劉宗翰 | E4: 306 | F4: 49+20 | G4: 1+1 | H4: 黃碧真 | I4: 49 | J4: 20 | K4: 1 | L4: 1 | M4: =(I4*K4+J4*L4)*1000 -> 69000
A5: 3 | B5: 41505 | C5: 41530 | D5: 陳安傑 | E5: 328 | F5: 49+20 | G5: 5+5 | H5: 王億芯 | I5: 49 | J5: 20 | K5: 5 | L5: 5 | M5: =(I5*K5+J5*L5)*1000 -> 345000
A6: 4 | B6: 41506 | C6: 41535 | D6: 陳鵬 | E6: 337 | F6: 49+20 | G6: 3+3 | H6: 王億芯 | I6: 49 | J6: 20 | K6: 3 | L6: 3 | M6: =(I6*K6+J6*L6)*1000 -> 207000
A7: 5 | B7: 41506 | C7: 41592 | D7: 蔡坤崇 | F7: 49+20 | G7: 2+2 | H7: 王億芯 | I7: 49 | J7: 20 | K7: 2 | L7: 2 | M7: =(I7*K7+J7*L7)*1000 -> 138000
A8: 6 | B8: 41509 | C8: 41515 | D8: 劉菁萍 | E8: 304 | F8: 49+20 | G8: 3+3 | H8: 王億芯 | I8: 49 | J8: 20 | K8: 3 | L8: 3 | M8: =(I8*K8+J8*L8)*1000 -> 207000
A9: 7 | B9: 41509 | C9: 41529 | D9: 楊婉甄 | E9: 326 | F9: 49+20 | G9: 10+10 | H9: 王億芯 | I9: 49 | J9: 20 | K9: 10 | L9: 10 | M9: =(I9*K9+J9*L9)*1000 -> 690000
A10: 8 | B10: 41509 | C10: 41535 | D10: 陳鵬來 | E10: 329 | F10: 49+20 | G10: 5+5 | H10: 王億芯 | I10: 49 | J10: 20 | K10: 5 | L10: 5 | M10: =(I10*K10+J10*L10)*1000 -> 345000
A11: 9 | B11: 41509 | C11: 41535 | D11: 高振庭 | E11: 330 | F11: 49+20 | G11: 1+1 | H11: 王億芯 | I11: 49 | J11: 20 | K11: 1 | L11: 1 | M11: =(I11*K11+J11*L11)*1000 -> 69000
A12: 10 | B12: 41514 | C12: 41520 | D12: 黃錦寶 | E12: 318 | F12: 49+20 | G12: 2+2 | H12: 王億芯 | I12: 49 | J12: 20 | K12: 2 | L12: 2 | M12: =(I12*K12+J12*L12)*1000 -> 138000
A13: 11 | B13: 41519 | C13: 41520 | D13: 廖霞 | E13: 317 | F13: 49+20 | G13: 8+8 | H13: 呂國洲 | I13: 49 | J13: 20 | K13: 8 | L13: 8 | M13: =(I13*K13+J13*L13)*1000 -> 552000
A14: 12 | B14: 41515 | C14: 41522 | D14: 王春雀 | E14: 324 | F14: 49+20 | G14: 20+20 | H14: 王億芯 | I14: 49 | J14: 20 | K14: 20 | L14: 20 | M14: =(I14*K14+J14*L14)*1000 -> 1380000
A15: 13 | B15: 41520 | C15: 41540 | D15: 涂靖漢 | E15: 343 | F15: 49+20 | G15: 5+5 | H15: 黃碧真 | I15: 49 | J15: 20 | K15: 5 | L15: 5 | M15: =(I15*K15+J15*L15)*1000 -> 345000
A16: 14 | B16: 41519 | C16: 41542 | D16: 林鴻松 | E16: 346 | F16: 49+20 | G16: 5+5 | H16: 簡淑惠 | I16: 49 | J16: 20 | K16: 5 | L16: 5 | M16: =(I16*K16+J16*L16)*1000 -> 345000
A17: 15 | B17: 41520 | C17: 41547 | D17: 袁興華 | E17: 396 | F17: 49+20 | G17: 1+1 | H17: 簡淑惠 | I17: 49 | J17: 20 | K17: 1 | L17: 1 | M17: =(I17*K17+J17*L17)*1000 -> 69000
A18: 16 | B18: 41522 | C18: 41531 | D18: 林岱萱 | E18: 327 | F18: 49+20 | G18: 3+3 | H18: 簡淑惠 | I18: 49 | J18: 20 | K18: 3 | L18: 3 | M18: =(I18*K18+J18*L18)*1000 -> 207000
A19: 17 | B19: 41521 | C19: 41527 | D19: 史玲瑋 | E19: 316 | F19: 49+20 | G19: 5+5 | H19: 簡淑惠 | I19: 49 | J19: 20 | K19: 5 | L19: 5 | M19: =(I19*K19+J19*L19)*1000 -> 345000
A20: 18 | B20: 41528 | C20: 41542 | D20: 徐秀鳳 | E20: 344 | F20: 49+20 | G20: 5+5 | H20: 黃碧真 | I20: 49 | J20: 20 | K20: 5 | L20: 5 | M20: =(I20*K20+J20*L20)*1000 -> 345000
A21: 19 | B21: 41529 | C21: 41533 | D21: 唐素秋 | F21: 49+20 | G21: 5+5 | H21: 簡淑惠 | I21: 49 | J21: 20 | K21: 5 | L21: 5 | M21: =(I21*K21+J21*L21)*1000 -> 345000
A22: 20 | B22: 41531 | C22: 41543 | D22: 陳震國 | E22: 338 | F22: 49+20 | G22: 3+3 | H22: 簡淑惠 | I22: 49 | J22: 20 | K22: 3 | L22: 3 | M22: =(I22*K22+J22*L22)*1000 -> 207000
A23: 21 | B23: 41531 | C23: 41543 | D23: 傅群憶 | E23: 348 | F23: 49+20 | G23: 2+2 | H23: 簡淑惠 | I23: 49 | J23: 20 | K23: 2 | L23: 2 | M23: =(I23*K23+J23*L23)*1000 -> 138000
A24: 22 | B24: 41533 | C24: 41543 | D24: 楊東隆 | E24: 347 | F24: 49+20 | G24: 5+5 | H24: 簡淑惠 | I24: 49 | J24: 20 | K24: 5 | L24: 5 | M24: =(I24*K24+J24*L24)*1000 -> 345000
A25: 23 | B25: 41529 | C25: 41529 | D25: 蔡慧珠 | E25: 323 | F25: 49+20 | G25: 40+40 | H25: 呂國州 | I25: 49 | J25: 20 | K25: 40 | L25: 40 | M25: =(I25*K25+J25*L25)*1000 -> 2760000
A26: 24 | B26: 41534 | C26: 41544 | D26: 張仁俊 | F26: 49+20 | G26: 5+5 | H26: 簡淑惠 | I26: 49 | J26: 20 | K26: 5 | L26: 5 | M26: =(I26*K26+J26*L26)*1000 -> 345000
A27: 25 | B27: 41523 | C27: 41535 | D27: 陳鵬來 | E27: 329 | F27: 49+20 | G27: 1+1 | H27: 王億芯 | I27: 49 | J27: 20 | K27: 1 | L27: 1 | M27: =(I27*K27+J27*L27)*1000 -> 69000
A28: 26 | B28: 41522 | C28: 41535 | D28: 高嘉璘 | E28: 333 | F28: 49+20 | G28: 3+3 | H28: 王億芯 | I28: 49 | J28: 20 | K28: 3 | L28: 3 | M28: =(I28*K28+J28*L28)*1000 -> 207000
A29: 27 | B29: 41540 | C29: 41558 | D29: 葉明忠 | F29: 49+20 | G29: 5+5 | H29: 黃碧真 | I29: 49 | J29: 20 | K29: 5 | L29: 5 | M29: =(I29*K29+J29*L29)*1000 -> 345000
A30: 28 | B30: 41540 | C30: 41544 | D30: 張妙伃 | E30: 354 | F30: 49+20 | G30: 3+3 | H30: 簡淑惠 | I30: 49 | J30: 20 | K30: 3 | L30: 3 | M30: =(I30*K30+J30*L30)*1000 -> 207000
A31: 29 | B31: 41541 | C31: 41544 | D31: 宋小苓 | E31: 356 | F31: 49+20 | G31: 8+8 | H31: 簡淑惠 | I31: 49 | J31: 20 | K31: 8 | L31: 8 | M31: =(I31*K31+J31*L31)*1000 -> 552000
A32: 30 | B32: 41542 | C32: 41549 | D32: 林採盆 | E32: 375 | F32: 49+20 | G32: 2+2 | H32: 黃碧真 | I32: 49 | J32: 20 | K32: 2 | L32: 2 | M32: =(I32*K32+J32*L32)*1000 -> 138000
A33: 31 | B33: 41541 | C33: 41547 | D33: 莫克 | E33: 380 | F33: 49+20 | G33: 5+5 | H33: 黃碧真 | I33: 49 | J33: 20 | K33: 5 | L33: 5 | M33: =(I33*K33+J33*L33)*1000 -> 345000
A34: 32 | B34: 41542 | C34: 41547 | D34: 廖淑如 | E34: 355 | F34: 49+20 | G34: 2+2 | H34: 簡淑惠 | I34: 49 | J34: 20 | K34: 2 | L34: 2 | M34: =(I34*K34+J34*L34)*1000 -> 138000
A35: 33 | B35: 41543 | C35: 41543 | D35: 許明烽 | E35: 353 | F35: 49+20 | G35: 1+1 | H35: 簡淑惠 | I35: 49 | J35: 20 | K35: 1 | L35: 1 | M35: =(I35*K35+J35*L35)*1000 -> 69000
A36: 34 | B36: 41547 | C36: 41554 | D36: 孫禾穎 | E36: 389 | F36: 49+20 | G36: 5+5 | H36: 王億芯 | I36: 49 | J36: 20 | K36: 5 | L36: 5 | M36: =(I36*K36+J36*L36)*1000 -> 345000
A37: 35 | B37: 41547 | C37: 41548 | D37: 王順平 | E37: 397 | F37: 49+20 | G37: 1+1 | H37: 王億芯 | I37: 49 | J37: 20 | K37: 1 | L37: 1 | M37: =(I37*K37+J37*L37)*1000 -> 69000
A38: 36 | B38: 41542 | C38: 41548 | D38: 林祐震 | E38: 352 | F38: 49+20 | G38: 1+1 | H38: 黃碧真 | I38: 49 | J38: 20 | K38: 1 | L38: 1 | M38: =(I38*K38+J38*L38)*1000 -> 69000
A39: 37 | B39: 41549 | C39: 41556 | D39: 陳丹怡 | F39: 49+20 | G39: 5+5 | H39: 簡淑惠 | I39: 49 | J39: 20 | K39: 5 | L39: 5 | M39: =(I39*K39+J39*L39)*1000 -> 345000
A40: 38 | B40: 41549 | C40: 41561 | D40: 陳力萁 | E40: 379 | F40: 49+20 | G40: 5+5 | H40: 黃碧真 | I40: 49 | J40: 20 | K40: 5 | L40: 5 | M40: =(I40*K40+J40*L40)*1000 -> 345000
...

Sheet 附表五之一台固
A1: 附表五之一、被告於103年1月1日以後販售「台積固態公司」股票金額彙總表
A2: 編號 | B2: 完款日期 | C2: 退單日期 | D2: 姓名 | E2: 買價 | F2: 均價 | G2: 張數 | H2: 總張數 | I2: 金額 | J2: 名稱 | K2: 理專 | L2: 卷證出處（註）
A3: 1 | B3: 2014/1/8 | D3: 林採盆 | E3: 50+28 | F3: 39 | G3: 3+3 | H3: 6 | I3: =F3*H3*1000 -> 234000 | J3: 台固 | K3: 黃碧真 | L3: 107.05.18刑事準備二狀卷六（本院卷八）P145
A4: 2 | B4: 2014/1/9 | D4: 林慰信 | E4: 50+28 | F4: 39 | G4: 3+3 | H4: 6 | I4: =F4*H4*1000 -> 234000 | J4: 台固 | K4: 黃碧真 | L4: 107.05.18刑事準備二狀卷六（本院卷八）P145
A5: 3 | B5: 2014/1/17 | D5: 裘守朋 | E5: 50+28 | F5: 39 | G5: 1+1 | H5: 2 | I5: =F5*H5*1000 -> 78000 | J5: 台固 | K5: 黃碧真 | L5: 107.05.18刑事準備二狀卷六（本院卷八）P145
A6: 4 | B6: 2014/1/23 | D6: 黃建智 | E6: 50+28 | F6: 39 | G6: 1+1 | H6: 2 | I6: =F6*H6*1000 -> 78000 | J6: 台固 | K6: 黃碧真 | L6: 107.05.18刑事準備二狀卷六（本院卷八）P145
A7: 5 | B7: 2014/2/7 | D7: 洪堯日 | E7: 50+28 | F7: 39 | G7: 15+15 | H7: 30 | I7: =F7*H7*1000 -> 1170000 | J7: 台固 | K7: 黃碧真 | L7: 107.05.18刑事準備二狀卷六（本院卷八）P145
A8: 6 | B8: 2014/2/7 | D8: 廖志茂 | E8: 50+28 | F8: 39 | G8: 15+15 | H8: 30 | I8: =F8*H8*1000 -> 1170000 | J8: 台固 | K8: 黃碧真 | L8: 107.05.18刑事準備二狀卷六（本院卷八）P145
A9: 7 | B9: 2014/2/11 | D9: 林佩伶 | E9: 50+28 | F9: 39 | G9: 4+4 | H9: 8 | I9: =F9*H9*1000 -> 312000 | J9: 台固 | K9: 黃碧真 | L9: 107.05.18刑事準備二狀卷六（本院卷八）P145
A10: 8 | B10: 2014/2/13 | D10: 沈游春美 | E10: 50+28 | F10: 39 | G10: 1+1 | H10: 2 | I10: =F10*H10*1000 -> 78000 | J10: 台固 | K10: 黃碧真 | L10: 107.05.18刑事準備二狀卷六（本院卷八）P145
A11: 9 | B11: 2014/2/18 | D11: 潘欽惠 | E11: 50+28 | F11: 39 | G11: 3+3 | H11: 6 | I11: =F11*H11*1000 -> 234000 | J11: 台固 | K11: 黃碧真 | L11: 107.05.18刑事準備二狀卷六（本院卷八）P145
A12: 10 | B12: 2014/2/25 | C12: 2014/4/8 | D12: 王政佳 | E12: 50+28 | F12: 39 | G12: 5+5 | H12: 10 | I12: =F12*H12*1000 -> 390000 | J12: 台固 | K12: 黃碧真 | L12: 107.05.18刑事準備二狀卷六（本院卷八）P145
A13: 11 | B13: 2014/3/3 | D13: 徐瑋志 | E13: 50+28 | F13: 39 | G13: 1+1 | H13: 2 | I13: =F13*H13*1000 -> 78000 | J13: 台固 | K13: 黃碧真 | L13: 107.05.18刑事準備二狀卷六（本院卷八）P145
A14: 12 | B14: 2014/3/3 | D14: 曾怡箐 | E14: 50+28 | F14: 39 | G14: 1+1 | H14: 2 | I14: =F14*H14*1000 -> 78000 | J14: 台固 | K14: 黃碧真 | L14: 107.05.18刑事準備二狀卷六（本院卷八）P145
A15: 13 | B15: 2014/3/7 | D15: 陳玟羽 | E15: 50+28 | F15: 39 | G15: 5+5 | H15: 10 | I15: =F15*H15*1000 -> 390000 | J15: 台固 | K15: 黃碧真 | L15: 107.05.18刑事準備二狀卷六（本院卷八）P145
A16: 14 | B16: 2014/3/12 | D16: 陳力萁 | E16: 50+28 | F16: 39 | G16: 10+10 | H16: 20 | I16: =F16*H16*1000 -> 780000 | J16: 台固 | K16: 黃碧真 | L16: 107.05.18刑事準備二狀卷六（本院卷八）P145
A17: 15 | B17: 2014/3/14 | D17: 黃張麗惠 | E17: 50+28 | F17: 39 | G17: 2+2 | H17: 4 | I17: =F17*H17*1000 -> 156000 | J17: 台固 | K17: 黃碧真 | L17: 107.05.18刑事準備二狀卷六（本院卷八）P145
A18: 16 | B18: 2014/3/25 | D18: 陳文哲 | E18: 50+28 | F18: 39 | G18: 5+5 | H18: 10 | I18: =F18*H18*1000 -> 390000 | J18: 台固 | K18: 黃碧真 | L18: 107.05.18刑事準備二狀卷六（本院卷八）P145
A19: 17 | B19: 2014/3/28 | D19: 石琬緞 | E19: 50+28 | F19: 39 | G19: 20+20 | H19: 40 | I19: =F19*H19*1000 -> 1560000 | J19: 台固 | K19: 黃碧真 | L19: 107.05.18刑事準備二狀卷六（本院卷八）P145
A20: 18 | B20: 2014/3/28 | D20: 楊寶雲 | E20: 50+28 | F20: 39 | G20: 5+5 | H20: 10 | I20: =F20*H20*1000 -> 390000 | J20: 台固 | K20: 黃碧真 | L20: 107.05.18刑事準備二狀卷六（本院卷八）P145
A21: 19 | B21: 2014/3/31 | C21: 2015/1/16 | D21: 陳秋樺 | E21: 50+28 | F21: 39 | G21: 1+1 | H21: 2 | I21: =F21*H21*1000 -> 78000 | J21: 台固 | K21: 黃碧真 | L21: 107.05.18刑事準備二狀卷六（本院卷八）P145
A22: 20 | B22: 2014/4/10 | D22: 廖信寬 | E22: 50+28 | F22: 39 | G22: 2+2 | H22: 4 | I22: =F22*H22*1000 -> 156000 | J22: 台固 | K22: 黃碧真 | L22: 107.05.18刑事準備二狀卷六（本院卷八）P145
A23: 21 | B23: 2014/4/15 | D23: 周美女 | E23: 50+28 | F23: 39 | G23: 2+2 | H23: 4 | I23: =F23*H23*1000 -> 156000 | J23: 台固 | K23: 黃碧真 | L23: 107.05.18刑事準備二狀卷六（本院卷八）P145
A24: 22 | B24: 2014/4/17 | D24: 陳美玉 | E24: 50+28 | F24: 39 | G24: 8+8 | H24: 16 | I24: =F24*H24*1000 -> 624000 | J24: 台固 | K24: 黃碧真 | L24: 107.05.18刑事準備二狀卷六（本院卷八）P145
A25: 23 | B25: 2014/4/21 | D25: 林文仁 | E25: 50+28 | F25: 39 | G25: 1+1 | H25: 2 | I25: =F25*H25*1000 -> 78000 | J25: 台固 | K25: 黃碧真 | L25: 107.05.18刑事準備二狀卷六（本院卷八）P145
A26: 24 | B26: 2014/4/28 | D26: 周玉娟 | E26: 50+28 | F26: 39 | G26: 3+3 | H26: 6 | I26: =F26*H26*1000 -> 234000 | J26: 台固 | K26: 黃碧真 | L26: 107.05.18刑事準備二狀卷六（本院卷八）P145
A27: 25 | B27: 2014/4/30 | D27: 周玉娟 | E27: 50+28 | F27: 39 | G27: 1+1 | H27: 2 | I27: =F27*H27*1000 -> 78000 | J27: 台固 | K27: 黃碧真 | L27: 107.05.18刑事準備二狀卷六（本院卷八）P145
A28: 26 | B28: 2014/5/2 | D28: 陳伯銓 | E28: 50+28 | F28: 39 | G28: 3+3 | H28: 6 | I28: =F28*H28*1000 -> 234000 | J28: 台固 | K28: 黃碧真 | L28: 107.05.18刑事準備二狀卷六（本院卷八）P145
A29: 27 | B29: 2014/5/20 | D29: 江源福 | E29: 50+28 | F29: 39 | G29: 3+3 | H29: 6 | I29: =F29*H29*1000 -> 234000 | J29: 台固 | K29: 黃碧真 | L29: 107.05.18刑事準備二狀卷六（本院卷八）P145
A30: 28 | B30: 2014/5/20 | D30: 陳鯨棉 | E30: 50+28 | F30: 39 | G30: 1+1 | H30: 2 | I30: =F30*H30*1000 -> 78000 | J30: 台固 | K30: 黃碧真 | L30: 107.05.18刑事準備二狀卷六（本院卷八）P145
A31: 29 | B31: 2014/5/20 | D31: 劉玉惠 | E31: 50+28 | F31: 39 | G31: 1+1 | H31: 2 | I31: =F31*H31*1000 -> 78000 | J31: 台固 | K31: 黃碧真 | L31: 107.05.18刑事準備二狀卷六（本院卷八）P145
A32: 30 | B32: 2014/5/21 | D32: 王柔蘋 | E32: 50+28 | F32: 39 | G32: 1+1 | H32: 2 | I32: =F32*H32*1000 -> 78000 | J32: 台固 | K32: 黃碧真 | L32: 107.05.18刑事準備二狀卷六（本院卷八）P145
A33: 31 | B33: 2014/5/22 | D33: 謝德星 | E33: 50+28 | F33: 39 | G33: 5+5 | H33: 10 | I33: =F33*H33*1000 -> 390000 | J33: 台固 | K33: 黃碧真 | L33: 107.05.18刑事準備二狀卷六（本院卷八）P145
... A66: 64 | B66: 2014/1/9 | D66: 陳桂玲 | E66: 50+28 | F66: 39 | G66: 11+11 | H66: 22 | I66: =F66*H66*1000 -> 858000 | J66: 台固 | K66: 林香孟 | L66: 107.05.18刑事準備二狀卷四（本院卷六）P445
A67: 65 | B67: 41649 | D67: 郭士銘 | E67: 50+28 | F67: 39 | G67: 5+5 | H67: 10 | I67: =F67*H67*1000 -> 390000 | J67: 台固 | K67: 林香孟 | L67: 107.05.18刑事準備二狀卷四（本院卷六）P445
A68: 66 | B68: 2014/1/15 | D68: 林宜樺 | E68: 50+28 | F68: 39 | G68: 5+5 | H68: 10 | I68: =F68*H68*1000 -> 390000 | J68: 台固 | K68: 林香孟 | L68: 107.05.18刑事準備二狀卷四（本院卷六）P445
A69: 67 | B69: 2014/1/21 | D69: 沐美珍 | E69: 50+28 | F69: 39 | G69: 28+28 | H69: 56 | I69: =F69*H69*1000 -> 2184000 | J69: 台固 | K69: 林香孟 | L69: 107.05.18刑事準備二狀卷四（本院卷六）P445
A70: 68 | B70: 2014/2/6 | D70: 陳妙英 | E70: 50+28 | F70: 39 | G70: 4+4 | H70: 8 | I70: =F70*H70*1000 -> 312000 | J70: 台固 | K70: 林香孟 | L70: 107.05.18刑事準備二狀卷四（本院卷六）P445
A71: 69 | B71: 2014/2/7 | D71: 何芊芊 | E71: 50+28 | F71: 39 | G71: 5+5 | H71: 10 | I71: =F71*H71*1000 -> 390000 | J71: 台固 | K71: 林香孟 | L71: 107.05.18刑事準備二狀卷四（本院卷六）P445
A72: 70 | B72: 2014/2/10 | D72: 李盛華 | E72: 50+28 | F72: 39 | G72: 5+5 | H72: 10 | I72: =F72*H72*1000 -> 390000 | J72: 台固 | K72: 林香孟 | L72: 107.05.18刑事準備二狀卷四（本院卷六）P445
...

Sheet 附表六太景
A1: 附表六、被告販售「太景公司」股票金額彙總表
A2: 編號 | B2: 完款日期 | C2: 姓名 | D2: 戶號 | E2: 買價 | F2: 張數 | G2: 理專 | H2: 張數 | J2: 換算後張數 | K2: 買價 | M2: 相加 | N2: 金額
A3: 1 | B3: 41211 | C3: 王騰毅 | D3: 773 | E3: 38+18 | F3: 4 | G3: 簡淑惠 | H3: 4 | J3: 2 | K3: 38 | L3: 18 | M3: =K3+L3 -> 56 | N3: =M3*J3*1000 -> 112000
A4: 2 | B4: 41194 | C4: 史玲瑋 | D4: 706 | E4: 38+18 | F4: 10 | G4: 簡淑惠 | H4: 10 | J4: 5 | K4: 38 | L4: 18 | M4: =K4+L4 -> 56 | N4: =M4*J4*1000 -> 280000
A5: 3 | B5: 41215 | C5: 吳文進 | D5: 849 | E5: 38+18 | F5: 20 | G5: 簡淑惠 | H5: 20 | J5: 10 | K5: 38 | L5: 18 | M5: =K5+L5 -> 56 | N5: =M5*J5*1000 -> 560000
A6: 4 | B6: 41191 | C6: 吳佳享 | D6: 703 | E6: 38+18 | F6: 2 | G6: 王億芯 | H6: 2 | J6: 1 | K6: 38 | L6: 18 | M6: =K6+L6 -> 56 | N6: =M6*J6*1000 -> 56000
A7: 5 | B7: 41212 | C7: 吳佩芬 | E7: 38+18 | F7: 10 | G7: 簡淑惠 | H7: 10 | J7: 5 | K7: 38 | L7: 18 | M7: =K7+L7 -> 56 | N7: =M7*J7*1000 -> 280000
A8: 6 | B8: 41199 | C8: 吳俊欣 | D8: 775 | E8: 38+18 | F8: 2 | G8: 陳乃維 | H8: 2 | J8: 1 | K8: 38 | L8: 18 | M8: =K8+L8 -> 56 | N8: =M8*J8*1000 -> 56000
A9: 7 | B9: 41193 | C9: 李心怡 | D9: 705 | E9: 38+18 | F9: 10 | G9: 王億芯 | H9: 10 | J9: 5 | K9: 38 | L9: 18 | M9: =K9+L9 -> 56 | N9: =M9*J9*1000 -> 280000
A10: 8 | B10: 41191 | C10: 李松泉 | D10: 728 | E10: 38+18 | F10: 8 | G10: 陳乃維 | H10: 8 | J10: 4 | K10: 38 | L10: 18 | M10: =K10+L10 -> 56 | N10: =M10*J10*1000 -> 224000
A11: 9 | B11: 41204 | C11: 李彥緯 | D11: 743 | E11: 38+18 | F11: 2 | G11: 陳乃維 | H11: 2 | J11: 1 | K11: 38 | L11: 18 | M11: =K11+L11 -> 56 | N11: =M11*J11*1000 -> 56000
A12: 10 | B12: 41166 | C12: 李思嫺 | D12: 606 | E12: 38+18 | F12: 10 | G12: 簡淑惠 | H12: 10 | J12: 5 | K12: 38 | L12: 18 | M12: =K12+L12 -> 56 | N12: =M12*J12*1000 -> 280000
A13: 11 | B13: 41207 | C13: 李國樑 | D13: 785 | E13: 38+18 | F13: 60 | G13: 簡淑惠 | H13: 60 | J13: 30 | K13: 38 | L13: 18 | M13: =K13+L13 -> 56 | N13: =M13*J13*1000 -> 1680000
A14: 12 | B14: 41218 | C14: 李曉婷 | D14: 848 | E14: 38+18 | F14: 20 | G14: 王億芯 | H14: 20 | J14: 10 | K14: 38 | L14: 18 | M14: =K14+L14 -> 56 | N14: =M14*J14*1000 -> 560000
A15: 13 | B15: 41185 | C15: 周志霖 | D15: 662 | E15: 38+18 | F15: 2 | G15: 王億芯 | H15: 2 | J15: 1 | K15: 38 | L15: 18 | M15: =K15+L15 -> 56 | N15: =M15*J15*1000 -> 56000
A16: 14 | B16: 41177 | C16: 周昌憲 | D16: 639 | E16: 38+18 | F16: 10 | G16: 王億芯 | H16: 10 | J16: 5 | K16: 38 | L16: 18 | M16: =K16+L16 -> 56 | N16: =M16*J16*1000 -> 280000
A17: 15 | B17: 41207 | C17: 孟慶豪 | D17: 778 | E17: 38+18 | F17: 4 | G17: 黃碧真 | H17: 4 | J17: 2 | K17: 38 | L17: 18 | M17: =K17+L17 -> 56 | N17: =M17*J17*1000 -> 112000
A18: 16 | B18: 41183 | C18: 林文仁 | D18: 645 | E18: 38+18 | F18: 2 | G18: 黃碧真 | H18: 2 | J18: 1 | K18: 38 | L18: 18 | M18: =K18+L18 -> 56 | N18: =M18*J18*1000 -> 56000
A19: 17 | B19: 41186 | C19: 林岱萱 | D19: 689 | E19: 38+18 | F19: 14 | G19: 簡淑惠 | H19: 14 | J19: 7 | K19: 38 | L19: 18 | M19: =K19+L19 -> 56 | N19: =M19*J19*1000 -> 392000
... A21: 19 | B21: 41199 | C21: 林慰信 | D21: 755 | E21: 38+18 | F21: 10 | G21: 黃碧真 | H21: 10 | J21: 5 | K21: 38 | L21: 18 | M21: =K21+L21 -> 56 | N21: =M21*J21*1000 -> 280000
A22: 20 | B22: 41194 | C22: 林澤青 | D22: 709 | E22: 38+18 | F22: 9+9 | G22: 簡淑惠 | H22: 9 | I22: 9 | J22: 9 | K22: 38 | L22: 18 | M22: =K22+L22 -> 56 | N22: =M22*J22*1000 -> 504000
A23: 21 | B23: 41215 | C23: 林麗貞 | D23: 791 | E23: 38+18 | F23: 50 | G23: 簡淑惠 | H23: 50 | J23: 25 | K23: 38 | L23: 18 | M23: =K23+L23 -> 56 | N23: =M23*J23*1000 -> 1400000
A24: 22 | B24: 41187 | C24: 姜佰權 | D24: 691 | E24: 38+18 | F24: 72 | G24: 陳乃維 | H24: 72 | J24: 36 | K24: 38 | L24: 18 | M24: =K24+L24 -> 56 | N24: =M24*J24*1000 -> 2016000
A25: 23 | B25: 41213 | C25: 沈政宏 | E25: 38+18 | F25: 12 | G25: 黃碧真 | H25: 12 | J25: 6 | K25: 38 | L25: 18 | M25: =K25+L25 -> 56 | N25: =M25*J25*1000 -> 336000
A26: 24 | B26: 41185 | C26: 施梅棋 | D26: 644 | E26: 38+18 | F26: 4 | G26: 王億芯 | H26: 4 | J26: 2 | K26: 38 | L26: 18 | M26: =K26+L26 -> 56 | N26: =M26*J26*1000 -> 112000
A27: 25 | B27: 41191 | C27: 洪紹華 | D27: 692 | E27: 38+18 | F27: 10 | G27: 王億芯 | H27: 10 | J27: 5 | K27: 38 | L27: 18 | M27: =K27+L27 -> 56 | N27: =M27*J27*1000 -> 280000
A28: 26 | B28: 41206 | C28: 洪堯日 | D28: 782 | E28: 38+18 | F28: 40 | G28: 黃碧真 | H28: 40 | J28: 20 | K28: 38 | L28: 18 | M28: =K28+L28 -> 56 | N28: =M28*J28*1000 -> 1120000
A29: 27 | B29: 41169 | C29: 孫禾穎 | D29: 607 | E29: 38+18 | F29: 20 | G29: 王億芯 | H29: 20 | J29: 10 | K29: 38 | L29: 18 | M29: =K29+L29 -> 56 | N29: =M29*J29*1000 -> 560000
A30: 28 | B30: 41204 | C30: 孫禾穎 | D30: 607 | E30: 38+18 | F30: 6 | G30: 王億芯 | H30: 6 | J30: 3 | K30: 38 | L30: 18 | M30: =K30+L30 -> 56 | N30: =M30*J30*1000 -> 168000
A31: 29 | B31: 41194 | C31: 馬小萍 | D31: 741 | E31: 38+18 | F31: 4 | G31: 簡淑惠 | H31: 4 | J31: 2 | K31: 38 | L31: 18 | M31: =K31+L31 -> 56 | N31: =M31*J31*1000 -> 112000
A32: 30 | B32: 41197 | C32: 馬廣敏 | D32: 708 | E32: 38+18 | F32: 4 | G32: 簡淑惠 | H32: 4 | J32: 2 | K32: 38 | L32: 18 | M32: =K32+L32 -> 56 | N32: =M32*J32*1000 -> 112000
A33: 31 | B33: 41193 | C33: 涂靖漢 | D33: 729 | E33: 38+18 | F33: 2 | G33: 黃碧真 | H33: 2 | J33: 1 | K33: 38 | L33: 18 | M33: =K33+L33 -> 56 | N33: =M33*J33*1000 -> 56000
A34: 32 | B34: 41187 | C34: 梁成舟 | D34: 699 | E34: 38+18 | F34: 2 | G34: 王億芯 | H34: 2 | J34: 1 | K34: 38 | L34: 18 | M34: =K34+L34 -> 56 | N34: =M34*J34*1000 -> 56000
A35: 33 | B35: 41212 | C35: 莊孟峰 | D35: 823 | E35: 38+18 | F35: 10 | G35: 簡淑惠 | H35: 10 | J35: 5 | K35: 38 | L35: 18 | M35: =K35+L35 -> 56 | N35: =M35*J35*1000 -> 280000
A36: 34 | B36: 41198 | C36: 莊淳斐 | D36: 719 | E36: 38+18 | F36: 14 | G36: 簡淑惠 | H36: 14 | J36: 7 | K36: 38 | L36: 18 | M36: =K36+L36 -> 56 | N36: =M36*J36*1000 -> 392000
A37: 35 | B37: 41187 | C37: 陳伯銓 | D37: 674 | E37: 38+18 | F37: 8 | G37: 黃碧真 | H37: 8 | J37: 4 | K37: 38 | L37: 18 | M37: =K37+L37 -> 56 | N37: =M37*J37*1000 -> 224000
... A60: 58 | B60: 41169 | C60: 葉明忠 | D60: 610 | E60: 38+18 | F60: 18 | G60: 黃碧真 | H60: 18 | J60: 9 | K60: 38 | L60: 18 | M60: =K60+L60 -> 56 | N60: =M60*J60*1000 -> 504000
A61: 59 | B61: 41197 | C61: 葉明忠 | E61: 38+18 | F61: 6 | G61: 黃碧真 | H61: 6 | J61: 3 | K61: 38 | L61: 18 | M61: =K61+L61 -> 56 | N61: =M61*J61*1000 -> 168000
A62: 60 | B62: 41213 | C62: 董大衛 | D62: 809 | E62: 38+18 | F62: 2 | G62: 陳乃維 | H62: 2 | J62: 1 | K62: 38 | L62: 18 | M62: =K62+L62 -> 56 | N62: =M62*J62*1000 -> 56000
A63: 61 | B63: 41201 | C63: 董子瑋 | D63: 745 | E63: 38+18 | F63: 4 | G63: 簡淑惠 | H63: 4 | J63: 2 | K63: 38 | L63: 18 | M63: =K63+L63 -> 56 | N63: =M63*J63*1000 -> 112000
...

Sheet 附表七顧問費
A1: 附表七、被告收受「太景公司」、「台灣神隆公司」股票上市櫃顧問費明細表
A2: 編號 | B2: 股票 | C2: 日期 | D2: 投資人 | E2: 金額 | F2: 卷證出處
A3: 1 | B3: 台灣神隆 | C3: 100.05.04 | D3: 黃瑞池 | E3: 24450 | F3: 發票（A1P12） 匯款申請書（A1P13）
C4: 小計 | E4: =E3 -> 24450
A5: 2 | B5: 太景 | C5: 102.11.13 | D5: 黃瑞池 | E5: 25200 | F5: 匯款申請書（A3P21）
A6: 3 | B6: 太景 | C6: 102.10.08 | D6: 吳雪珍 | E6: 8400 | F6: 收據【107刑保788號扣押物品清單編號16「太景顧問費」（即市調處原始扣押物編號A-16）】
A7: 4 | B7: 太景 | C7: 102.09.29 | D7: 陳怡芬 | E7: 8400 | F7: 同上
A8: 5 | B8: 太景 | C8: 102.10.24 | D8: 張明珠 | E8: 1380 | F8: 同上
A9: 6 | B9: 太景 | C9: 102.10.23 | D9: 張顥鐙 | E9: 840 | F9: 同上
B10: 小計 | E10: =SUM(E5:E9) -> 44220
B11: 合計 | E11: =E4+E10 -> 68670

Sheet 附表八員工獎金
A1: 附表八、被告唐志驄發放員工薪資獎金之金額彙總表
A2: 編號 | B2: 員工 | C2: 領取日期 | D2: 金額 | E2: 卷證出處 | F2: 備註
A3: 1 | B3: 王億芯 （更名前為王姵今） | C3: 96.12.14 | D3: 600000 | E3: 107.05.18刑事準備二狀卷一（本院卷三）P29
A4: =A3 -> 1 | C4: 97.01.04 | D4: 20000 | E4: 107.05.18刑事準備二狀卷一（本院卷三）P31
A5: =A4 -> 1 | C5: 97.01.04 | D5: 100000 | E5: 107.05.18刑事準備二狀卷一（本院卷三）P33
A6: =A5 -> 1 | C6: 97.01.04 | D6: 25000 | E6: 107.05.18刑事準備二狀卷一（本院卷三）P35
A7: =A6 -> 1 | C7: 97.02.01 | D7: 10000 | E7: 107.05.18刑事準備二狀卷一（本院卷三）P37
A8: =A7 -> 1 | C8: 97.03.10 | D8: 310000 | E8: 107.05.18刑事準備二狀卷一（本院卷三）P39
A9: =A8 -> 1 | C9: 97.03.03 | D9: 5000 | E9: 107.05.18刑事準備二狀卷一（本院卷三）P41
A10: =A9 -> 1 | C10: 97.03.31 | D10: 5000 | E10: 107.05.18刑事準備二狀卷一（本院卷三）P43
A11: =A10 -> 1 | C11: 97.04.07 | D11: 20000 | E11: 107.05.18刑事準備二狀卷一（本院卷三）P45
A12: =A11 -> 1 | C12: 97.04.07 | D12: 180000 | E12: 107.05.18刑事準備二狀卷一（本院卷三）P47
A13: =A12 -> 1 | C13: 97.04.14 | D13: 95000 | E13: 107.05.18刑事準備二狀卷一（本院卷三）P49
A14: =A13 -> 1 | C14: 97.04.21 | D14: 5000 | E14: 107.05.18刑事準備二狀卷一（本院卷三）P51
A15: =A14 -> 1 | C15: 97.04.28 | D15: 550000 | E15: 107.05.18刑事準備二狀卷一（本院卷三）P53
... A47: =A46 -> 1 | C47: 98.03.02 | D47: 0 | E47: 107.05.18刑事準備二狀卷一（本院卷三）P119
A48: =A47 -> 1 | C48: 98.03.16 | D48: =25000+20000+14704 -> 59704 | E48: 107.05.18刑事準備二狀卷一（本院卷三）P121
A49: =A48 -> 1 | C49: 98.03.30 | D49: 5000 | E49: 107.05.18刑事準備二狀卷一（本院卷三）P123
A50: =A49 -> 1 | C50: 98.04.06 | D50: 0 | E50: 107.05.18刑事準備二狀卷一（本院卷三）P125
A51: =A50 -> 1 | C51: 98.04.13 | D51: 5000 | E51: 107.05.18刑事準備二狀卷一（本院卷三）P127
A52: =A51 -> 1 | C52: 98.05.05 | D52: 30000 | E52: 107.05.18刑事準備二狀卷一（本院卷三）P129
A53: =A52 -> 1 | C53: 98.05.11 | D53: 10000 | E53: 107.05.18刑事準備二狀卷一（本院卷三）P131
A54: =A53 -> 1 | C54: 98.05.25 | D54: 300000 | E54: 107.05.18刑事準備二狀卷一（本院卷三）P133
A55: =A54 -> 1 | C55: 98.06.01 | D55: 50000 | E55: 107.05.18刑事準備二狀卷一（本院卷三）P135
A56: =A55 -> 1 | C56: 98.06.01 | D56: 20000 | E56: 107.05.18刑事準備二狀卷一（本院卷三）P137
A57: =A56 -> 1 | C57: 98.06.08 | D57: 10000 | E57: 107.05.18刑事準備二狀卷一（本院卷三）P139
A58: =A57 -> 1 | C58: 98.06.22 | D58: 160000 | E58: 107.05.18刑事準備二狀卷一（本院卷三）P141
A59: =A58 -> 1 | C59: 98.07.06 | D59: 10000 | E59: 107.05.18刑事準備二狀卷一（本院卷三）P143
A60: =A59 -> 1 | C60: 98.07.06 | D60: 20000 | E60: 107.05.18刑事準備二狀卷一（本院卷三）P145
... A70: =A69 -> 1 | C70: 98.09.15 | D70: 5000 | E70: 107.05.18刑事準備二狀卷一（本院卷三）P165
A71: =A69 -> 1 | C71: 98.09.22 | D71: 305000 | E71: 107.06.07刑事準備三狀卷（本院卷十）P203
A72: =A70 -> 1 | C72: 98.10.05 | D72: 15000 | E72: 107.05.18刑事準備二狀卷一（本院卷三）P167
A73: =A72 -> 1 | C73: 98.10.05 | D73: 20000 | E73: 107.05.18刑事準備二狀卷一（本院卷三）P169
A74: =A73 -> 1 | C74: 98.10.12 | D74: 375000 | E74: 107.05.18刑事準備二狀卷一（本院卷三）P171
A75: =A74 -> 1 | C75: 98.10.20 | D75: 140000 | E75: 107.05.18刑事準備二狀卷一（本院卷三）P173
A76: =A75 -> 1 | C76: 98.10.26 | D76: 25000 | E76: 107.05.18刑事準備二狀卷一（本院卷三）P175
A77: =A76 -> 1 | C77: 98.11.02 | D77: 20000 | E77: 107.05.18刑事準備二狀卷一（本院卷三）P177
A78: =A77 -> 1 | C78: 98.11.09 | D78: 185000 | E78: 107.05.18刑事準備二狀卷一（本院卷三）P179
A79: =A78 -> 1 | C79: 98.11.16 | D79: 35000 | E79: 107.05.18刑事準備二狀卷一（本院卷三）P181
A80: =A79 -> 1 | C80: 98.11.23 | D80: 25000 | E80: 107.05.18刑事準備二狀卷一（本院卷三）P183
...

Sheet 附表九退款
A1: 附表九、得自犯罪所得中扣除之退回股款明細表
A2: 編號 | B2: 被告提出之退款單據及退款說明 | L2: 對應至附表二至六部分 | N2: 實際得自犯罪所得中扣除之金額 | O2: 備註
B3: 退款日期 | C3: 退款金額 | D3: 姓名 | E3: 原始買進 完款日期 | F3: 投資人 戶號 | G3: 買進 股價 | H3: 買進 張數 | I3: 買進 金額 | J3: 買進 標的 | K3: 卷證出處 | L3: 金額 | M3: 附表及編號
A4: 1 | B4: 2007/6/8 | C4: 27950 | D4: 謝麗雲 | G4: 28 | H4: 1 | I4: =G4*H4*1000 -> 28000 | J4: 聯相 | K4: 107.06.14刑事準備四狀卷（本院卷十一）P9、P15 | L4: 0 | M4: - | N4: 0 | O4: （註1）
A5: 2 | B5: 2009/5/6 | C5: 135000 | D5: 大華測量 (關源欽） | E5: 2006/1/19 | F5: 1578 | G5: 29 | H5: 2 | I5: =G5*H5*1000 -> 58000 | J5: 神隆 | K5: 107.06.14刑事準備四狀卷（本院卷十一）P9、P17 | L5: 0 | M5: - | N5: 0 | O5: （註1）
D6: 大華測量 (關源欽） | E6: 2006/11/23 | F6: 1578 | G6: 13 | H6: 2 | I6: =G6*H6*1000 -> 26000 | K6: 107.06.14刑事準備四狀卷P9 | L6: 0 | M6: 0
D7: 大華測量 (關源欽） | E7: 2007/7/13 | F7: 1578 | G7: 28 | H7: 2 | I7: =G7*H7*1000 -> 56000 | K7: 107.06.14刑事準備四狀卷P9 | L7: 0 | M7: 0
A8: 3 | B8: 2009/5/11 | C8: 198000 | D8: 陳明秋 | G8: 28 | H8: 20 | I8: =G8*H8*1000 -> 560000 | J8: 華聯 | K8: 107.06.14刑事準備四狀卷（本院卷十一）P9、P19 | L8: 0 | M8: - | N8: 0 | O8: （註1）
A9: 4 | B9: 2010/1/7 | C9: 200000 | D9: 吳安慧 | E9: 2009/9/21 | F9: 501 | G9: 28.5 | H9: 7 | I9: =G9*H9*1000 -> 199500 | J9: 華聯 | K9: 107.06.14刑事準備四狀卷（本院卷十一）P9、P21 | L9: 399000 | M9: 附表三編號199 | N9: 399000
A10: 5 | B10: 2010/5/6 | C10: 199000 | D10: 吳安慧 | E10: 2009/9/21 | F10: 501 | G10: 28.5 | H10: 7 | I10: =G10*H10*1000 -> 199500 | J10: 華聯 | K10: 107.06.14刑事準備四狀卷（本院卷十一）P9、P23
A11: 6 | B11: 2015/2/11 | C11: 1526232 | D11: 張仁俊 | E11: 2010/6/8 | F11: 1208 | G11: 56 | H11: 13 | I11: =G11*H11*1000 -> 728000 | J11: 聯相 | K11: 107.06.14刑事準備四狀卷（本院卷十一）P9、P25 | L11: 0 | M11: - | N11: 0 | O11: （註1）
D12: 張仁俊 | E12: 2010/5/5 | F12: 1208 | G12: 56 | H12: 4 | I12: =G12*H12*1000 -> 224000 | J12: 聯相 | K12: 107.06.14刑事準備四狀卷P9 | L12: 0 | M12: 0
D13: 張仁俊 | E13: 2010/8/24 | F13: 1208 | G13: 28 | H13: 17 | I13: =G13*H13*1000 -> 476000 | J13: 聯相 | K13: 107.06.14刑事準備四狀卷P9 | L13: 0 | M13: 0
D14: 張仁俊 | E14: 2011/12/21 | F14: 1208 | G14: 28 | H14: 6 | I14: =G14*H14*1000 -> 168000 | J14: 聯相 | K14: 107.06.14刑事準備四狀卷P9 | L14: 0 | M14: 0
A15: 7 | B15: 2015/1/12 | C15: 568290 | D15: 張仁俊 | E15: 2009/6/30 | F15: 470 | G15: 28.5 | H15: 4 | I15: =G15*H15*1000 -> 114000 | J15: 華聯 | K15: 107.06.14刑事準備四狀卷（本院卷十一）P9、P25 | L15: 0 | N15: 456000 | O15: （註1）
D16: 張仁俊 | E16: 39698 | F16: 470 | G16: 28.5 | H16: 2 | I16: =G16*H16*1000 -> 57000 | J16: 華聯 | L16: 57000 | M16: 附表三編號189
D17: 張仁俊 | E17: 2009/11/6 | F17: 470 | G17: 28.5 | H17: 4 | I17: =G17*H17*1000 -> 114000 | J17: 華聯 | K17: 107.06.14刑事準備四狀卷P9 | L17: 114000 | M17: 附表三編號248
D18: 張仁俊 | E18: 2010/1/19 | F18: 470 | G18: 28.5 | H18: 10 | I18: =G18*H18*1000 -> 285000 | J18: 華聯 | K18: 107.06.14刑事準備四狀卷P9 | L18: 285000 | M18: 附表三編號316
A19: 8 | B19: 2010/2/1 | C19: 12105 | D19: 張仁俊 | E19: 2011/12/21 | F19: 470 | G19: 28.5 | H19: 10 | I19: =G19*H19*1000 -> 285000 | J19: 華聯 | K19: 107.06.14刑事準備四狀卷（本院卷十一）P9、P27 | L19: 0 | M19: 0 | N19: 0 | O19: （註1）
A20: 9 | B20: 2010/9/8 | C20: 1684930 | D20: 石燕燕 | E20: 2010/5/5 | F20: 1196 | G20: 56 | H20: 20 | I20: =G20*H20*1000 -> 1120000 | J20: 聯相 | K20: 107.06.14刑事準備四狀卷（本院卷十一）P9、P29 | L20: 0 | M20: 0 | N20: 570000 | O20: （註1）
D21: 石燕燕 | E21: 2010/2/26 | F21: 590 | G21: 28.5 | H21: 20 | I21: =G21*H21*1000 -> 570000 | J21: 華聯 | K21: 107.06.14刑事準備四狀卷P9 | L21: 570000 | M21: 附表三編號328
A22: 10 | B22: 2010/11/23 | C22: 87000 | D22: 金麗雲 | E22: 2010/11/12 | F22: 1474 | G22: 43.5 | H22: 2 | I22: =G22*H22*1000 -> 87000 | J22: 聯相 | K22: 107.06.14刑事準備四狀卷（本院卷十一）P9、P31 | L22: 0 | M22: 0 | N22: 0 | O22: （註1）
A23: 11 | B23: 2010/11/26 | C23: 87000 | D23: 林賢得 | E23: 2010/10/27 | F23: 1802 | G23: 43.5 | H23: 2 | I23: =G23*H23*1000 -> 87000 | J23: 聯相 | K23: 107.06.14刑事準備四狀卷（本院卷十一）P9、P33 | L23: 0 | M23: 0 | N23: 0 | O23: （註1）
A24: 12 | B24: 2011/4/25 | C24: 870000 | D24: 黃政 | E24: 2011/4/1 | F24: 2107 | G24: 43.5 | H24: 20 | I24: =G24*H24*1000 -> 870000 | J24: 聯相 | K24: 107.06.14刑事準備四狀卷（本院卷十一）P9、P35 | L24: 0 | M24: 0 | N24: 0 | O24: （註1）
A25: 13 | B25: 2011/6/3 | C25: 312000 | D25: 廖學聰 | G25: 39 | H25: 8 | I25: =G25*H25*1000 -> 312000 | J25: 華聯 | K25: 107.06.14刑事準備四狀卷（本院卷十一）P9、P37 | L25: 0 | M25: 0 | N25: 0 | O25: （註1）
A26: 14 | B26: 2011/9/15 | C26: 20000 | D26: 葉仲琦 | G26: 28 | H26: 2 | I26: =G26*H26*1000 -> 56000 | J26: 太景 | K26: 107.06.14刑事準備四狀卷（本院卷十一）P9、P39 | L26: 0 | M26: 0 | N26: 0 | O26: （註1）
A27: 15 | B27: 2011/12/7 | C27: 230000 | D27: 曾瑞文 | E27: 2011/12/1 | F27: 349 | G27: 23 | H27: 10 | I27: =G27*H27*1000 -> 230000 | J27: 太景 | K27: 107.06.14刑事準備四狀卷（本院卷十一）P9、P41 | L27: 0 | M27: 0 | N27: 0 | O27: （註1）
A28: 16 | B28: 2012/1/6 | C28: 607173 | D28: 許德昭 | E28: 2010/11/25 | F28: 1394 | G28: 43.5 | H28: 14 | I28: =G28*H28*1000 -> 609000 | J28: 聯相 | K28: 107.06.14刑事準備四狀卷（本院卷十一）P9、P43 | L28: 0 | M28: 0 | N28: 0 | O28: （註1）
A29: 17 | B29: 2012/7/2 | C29: 371956 | D29: 許德昭 | E29: 2011/2/24 | F29: 572 | G29: 28.5 | H29: 10 | I29: =G29*H29*1000 -> 285000 | J29: 華聯 | K29: 107.06.14刑事準備四狀卷（本院卷十一）P9、P45 | L29: 285000 | M29: 附表三編號303 | N29: 285000 | O29: （註1）
A30: 18 | B30: 2012/2/13 | C30: 87000 | D30: 陳雅芳 | E30: 2011/8/5 | F30: 2231 | G30: 43.5 | H30: 2 | I30: =G30*H30*1000 -> 87000 | J30: 聯相 | K30: 107.06.14刑事準備四狀卷（本院卷十一）P9、P47 | L30: 0 | M30: 0 | N30: 0 | O30: （註1）
A31: 19 | B31: 2012/1/18 | C31: 369500 | D31: 黃春蘭 | I31: =G31*H31*1000 -> 0 | J31: 聯相 | K31: 107.06.14刑事準備四狀卷（本院卷十一）P9、P49 | L31: 0 | M31: 0 | N31: 0 | O31: （註1）
A32: 20 | B32: 2012/2/10 | C32: 85000 | D32: 黃春蘭 | I32: =G32*H32*1000 -> 0 | J32: 聯相 | K32: 107.06.14刑事準備四狀卷（本院卷十一）P9、P49 | L32: 0 | M32: 0 | N32: 0 | O32: （註1）
A33: 21 | B33: 41019 | C33: 1600185 | D33: 黃永義 | E33: 2008/4/24 | F33: 339 | G33: 28.5 | H33: 10 | I33: =G33*H33*1000 -> 285000 | J33: 華聯 | K33: 107.06.14刑事準備四狀卷（本院卷十一）P9、P51 | L33: 285000 | M33: 附表三編號17 | N33: 1605000 | O33: （註2）
A34: 22 | B34: 2012/4/20 | D34: 黃永義 | E34: 2009/12/3 | F34: 339 | G34: 28.5 | H34: 10 | I34: =G34*H34*1000 -> 285000 | J34: 華聯 | K34: 107.06.14刑事準備四狀卷P9 | L34: 285000 | M34: 附表三編號288
A35: 23 | B35: 41019 | D35: 陳鈺宜 | E35: 2011/3/18 | F35: 1460 | G35: 43.5 | H35: 10 | I35: =G35*H35*1000 -> 435000 | J35: 聯相 | K35: 107.06.14刑事準備四狀卷P9 | L35: 435000 | M35: 附表四編號521
A36: 24 | B36: 2012/4/20 | D36: 陳鈺宜 | E36: 2010/10/1 | F36: 1460 | G36: 43.5 | H36: 8 | I36: =G36*H36*1000 -> 348000 | J36: 聯相 | K36: 107.06.14刑事準備四狀卷P9 | L36: 348000 | M36: 附表四編號145
A37: 25 | B37: 2012/4/20 | D37: 陳鈺宜 | E37: 2012/1/16 | F37: 1460 | G37: 28 | H37: 9 | I37: =G37*H37*1000 -> 252000 | J37: 聯相 | K37: 107.06.14刑事準備四狀卷P9 | L37: 252000 | M37: 附表四編號234
A38: 26 | B38: 2012/6/25 | C38: 56000 | D38: 楊仁強 | E38: 2012/6/4 | F38: 456 | G38: 28 | H38: 2 | I38: =G38*H38*1000 -> 56000 | J38: 太景 | K38: 107.06.14刑事準備四狀卷（本院卷十一）P9、P53 | L38: 0 | M38: 0 | N38: 0 | O38: （註1）
A39: 27 | B39: 2012/7/9 | C39: 87000 | D39: 游炘諺 | E39: 2012/1/11 | G39: 43.5 | H39: 2 | I39: =G39*H39*1000 -> 87000 | J39: 聯相 | K39: 107.06.14刑事準備四狀卷（本院卷十一）P9、P55 | L39: 0 | M39: 0 | N39: 0 | O39: （註1）
A40: 28 | B40: 2012/7/9 | C40: 140000 | D40: 呂美玲 (呂盈瑩） | G40: 28 | H40: 5 | I40: =G40*H40*1000 -> 140000 | J40: 太景 | K40: 107.06.14刑事準備四狀卷（本院卷十一）P9、P57 | L40: 0 | M40: 0 | N40: 0 | O40: （註1）
...

Sheet 附表十和解
A1: 附表十、被告唐志驄與投資人和解金額明細表
A3: 編號 | B3: 投資人 | C3: 和解日期 | D3: 和解金額 | E3: 卷證出處
A4: 1 | B4: 蔡佳宏 | C4: 106.01.20 | D4: 200000 | E4: 107.05.18刑事準備二狀卷七（本院卷九）P533
A5: 2 | B5: 陳張財 詹月英 | C5: 106.03.08 | D5: 400000 | E5: 107.05.18刑事準備二狀卷七（本院卷九）P535-536
B6: 合計 | D6: =SUM(D4:D5) -> 600000
