Workbook

Sheet 帳戶資料總表
B1: 附表 一：被告吳德賢等人於95年1月1日至96年6月30日下單信音公司之證券帳戶明細資料：
D3: 註：1. | E3: 本附表「起訴書附表編號」欄列示「1-01」即代表起訴書附表一編號1，「起訴書附表編號」欄列示「2-01」即代表起訴書附表二編號1，餘請依此類推。
D4: 2. | E4: 本附表係依據財團法人中華民國櫃檯買賣中心102年9月4日證櫃交字第1020021888號函之委託成交對應資料(見原審卷OTC 102年9月4日函送委託成交對應資料卷一至四)， 按起訴書附表列示帳戶名稱依序歸納其所屬券商代號、帳號、開始交易日期，並統計其於95年1月1日至96年6月30日間買賣信音公司股票之成交買量、成交賣量、成交買價、 成交賣價等交易資料。(統計資料並未減除買賣交易產生之證券交易稅、手續費、融資利息及融券費用等資料)
D5: 3. | E5: (1)買賣量差若為 " 0 "，即買進及賣出信音股票股數相等，故買賣價差即為損益。
E6: (2)買賣量差若無 ( )，為正值，即表示有庫存信音公司股票，請參考庫存平均成本，伯明翰部分客戶庫存成本高於吳德賢等人。
E7: (3)買賣量差若為 ( )，為負值，即表示賣出大於買入信音公司股票，差異可能為借券或移轉等情形，損益暫時無法判斷。
E8: (4) 庫存平均每股成本若為負數，即表示此帳戶成交賣價己完全收回成本，買賣價差即為該帳戶出售信音公司股票之己實現利益，買賣量差即為該帳戶無成本之庫存信音公司 股數。
A9: 編號 | B9: 起訴書 附表編號 | C9: 帳戶名稱 | D9: 帳戶 身份 | E9: 證券公司 | F9: 券商代號 | G9: 帳號 | H9: 開 始 交易日期 | I9: 起訴書附 表 | J9: 被告吳德賢等人使用之38人共53 證 券 帳 戶 | K9: 供 述 證 據 及 非 供 述 證 據 | L9: 成交買量 (仟股) A | M9: 成交賣量 (仟股) B | N9: 成交買價 (新台幣元) C | O9: 成交賣價 (新台幣元) D | P9: 買賣量差 E=A-B | Q9: 買賣價差 F=D-C | R9: 庫存平均 每股成本 G=-F/E/1000
A10: 1 | B10: 1-01 | C10: 吳德賢 | D10: 被告 | E10: 大永證券 | F10: 7323 | G10: 652358 | H10: 950320 | I10: 未列 | J10: 是 | K10: ●吳德賢稱大永證券7323652358係與金鼎證券582e5652358係同一帳號。(請見本院卷五第180頁，吳德賢刑事答辯三狀) ●吳德賢稱：「…是我名字就一定是我用」。(請見本院卷七第83頁反面面) | L10: =[1]帳戶交易資料按人別帳號日期排序加總!R150 -> 570 | M10: =[1]帳戶交易資料按人別帳號日期排序加總!S150 -> 55 | N10: =[1]帳戶交易資料按人別帳號日期排序加總!T150 -> 17905550 | O10: =[1]帳戶交易資料按人別帳號日期排序加總!U150 -> 1942750 | P10: =L10-M10 -> 515 | Q10: =O10-N10 -> -15962800 | R10: =-Q10/P10/1000 -> 30.995728
A11: 2 | E11: 統一南京 | F11: 585U | G11: 442868 | H11: 950505 | I11: 列入 | J11: 是 | L11: =[1]帳戶交易資料按人別帳號日期排序加總!R859 -> 982 | M11: =[1]帳戶交易資料按人別帳號日期排序加總!S859 -> 226 | N11: =[1]帳戶交易資料按人別帳號日期排序加總!T859 -> 36607750 | O11: =[1]帳戶交易資料按人別帳號日期排序加總!U859 -> 7766950 | P11: =L11-M11 -> 756 | Q11: =O11-N11 -> -28840800 | R11: =-Q11/P11/1000 -> 38.149206
A12: 3 | E12: 亞東證券 | F12: 2180 | G12: 190456 | H12: 951013 | I12: 列入 | J12: 是 | L12: =[1]帳戶交易資料按人別帳號日期排序加總!R347 -> 478 | M12: =[1]帳戶交易資料按人別帳號日期排序加總!S347 -> 422 | N12: =[1]帳戶交易資料按人別帳號日期排序加總!T347 -> 24539100 | O12: =[1]帳戶交易資料按人別帳號日期排序加總!U347 -> 22342400 | P12: =L12-M12 -> 56 | Q12: =O12-N12 -> -2196700 | R12: =-Q12/P12/1000 -> 39.226786
A13: 4 | E13: 金鼎證券 | F13: 582e | G13: 5652358 | H13: 951206 | I13: 未列 | J13: 是 | L13: =[1]帳戶交易資料按人別帳號日期排序加總!R479 -> 105 | M13: =[1]帳戶交易資料按人別帳號日期排序加總!S479 -> 197 | N13: =[1]帳戶交易資料按人別帳號日期排序加總!T479 -> 7796200 | O13: =[1]帳戶交易資料按人別帳號日期排序加總!U479 -> 12980200 | P13: =L13-M13 -> -92 | Q13: =O13-N13 -> 5184000 | R13: 0
A14: 5 | B14: 1-02 | C14: 黃瓊儀 | D14: 被告 吳德賢配偶 | E14: 群益天母 | F14: 527N | G14: 51687 | H14: 950320 | I14: 列入 | J14: 是 | K14: ●吳德賢稱係其個人使用。(請見本院卷五第180頁，吳德賢刑事答辯三狀) | L14: =[1]帳戶交易資料按人別帳號日期排序加總!R1027 -> 441 | M14: =[1]帳戶交易資料按人別帳號日期排序加總!S1027 -> 163 | N14: =[1]帳戶交易資料按人別帳號日期排序加總!T1027 -> 19184400 | O14: =[1]帳戶交易資料按人別帳號日期排序加總!U1027 -> 10819400 | P14: =L14-M14 -> 278 | Q14: =O14-N14 -> -8365000 | R14: =-Q14/P14/1000 -> 30.089928
A15: 6 | E15: 元大大安 | F15: 983N | G15: 8058426 | H15: 950322 | I15: 未列 | J15: 否 | K15: ●吳德賢稱此二帳號係黃瓊儀個人使用，並非其使用。(請見本院卷五第180頁，吳德賢刑事答辯三狀、本院卷七 第84頁) ●另據本院統計於95/1/1~96/6/30間，此二帳戶僅買賣10張信音公司股票。 | L15: =[1]帳戶交易資料按人別帳號日期排序加總!R1036 -> 10 | M15: =[1]帳戶交易資料按人別帳號日期排序加總!S1036 -> 10 | N15: =[1]帳戶交易資料按人別帳號日期排序加總!T1036 -> 253000 | O15: =[1]帳戶交易資料按人別帳號日期排序加總!U1036 -> 550000 | P15: =L15-M15 -> 0 | Q15: =O15-N15 -> 297000 | R15: 0
A16: 7 | E16: 寶來天母 | F16: 9796 | G16: 208298 | H16: 950920 | I16: 未列 | J16: 否 | L16: =[1]帳戶交易資料按人別帳號日期排序加總!R871 -> 0 | M16: =[1]帳戶交易資料按人別帳號日期排序加總!S871 -> 0 | N16: =[1]帳戶交易資料按人別帳號日期排序加總!T871 -> 0 | O16: =[1]帳戶交易資料按人別帳號日期排序加總!U871 -> 0 | P16: =L16-M16 -> 0 | Q16: =O16-N16 -> 0 | R16: 0
A17: 8 | B17: 1-03 | C17: 黃啟源 | D17: 被告 吳德賢妻弟 | E17: 統一南京 | F17: 585U | G17: 437161 | H17: 950321 | I17: 列入 | J17: 是 | K17: ●吳德賢稱：「...黃啟源帳戶是我在使用的。」(請見原審卷一第88頁、本院卷五第180頁，吳德賢刑事答辯三狀) | L17: =[1]帳戶交易資料按人別帳號日期排序加總!R1219 -> 553 | M17: =[1]帳戶交易資料按人別帳號日期排序加總!S1219 -> 203 | N17: =[1]帳戶交易資料按人別帳號日期排序加總!T1219 -> 27353500 | O17: =[1]帳戶交易資料按人別帳號日期排序加總!U1219 -> 14322200 | P17: =L17-M17 -> 350 | Q17: =O17-N17 -> -13031300 | R17: =-Q17/P17/1000 -> 37.232286
A18: 9 | B18: 1-04 | C18: 李彩鳳 | D18: 被告吳德賢母親 | E18: 統一南京 | F18: 585U | G18: 391388 | H18: 950310 | I18: 列入 | J18: 是 | K18: ●吳德賢稱：「我母親…，我使用的是亞東跟統一帳戶」(請見原審卷一第88頁、本院卷五第180頁反面，吳德賢刑事 答辯三狀) | L18: =[1]帳戶交易資料按人別帳號日期排序加總!R2962 -> 1101 | M18: =[1]帳戶交易資料按人別帳號日期排序加總!S2962 -> 811 | N18: =[1]帳戶交易資料按人別帳號日期排序加總!T2962 -> 42863300 | O18: =[1]帳戶交易資料按人別帳號日期排序加總!U2962 -> 48583600 | P18: =L18-M18 -> 290 | Q18: =O18-N18 -> 5720300 | R18: =-Q18/P18/1000 -> -19.725172
A19: 10 | E19: 亞東證券 | F19: 2180 | G19: 109861 | H19: 950314 | I19: 列入 | J19: 是 | K19: ●吳德賢稱：「我母親…，我使用的是亞東跟統一帳戶」。(請見原審卷一第88頁) ●吳德賢稱係其母親李彩鳳個人使用。(請見本院卷五第180頁反面，吳德賢刑事答辯三狀) ●(問：你母親亞東帳戶是你使用，有何意見?)亞東我有用，但是有時候我媽媽想賣就會賣掉一些，我不確定是在亞 東或統一南京，剛才法官提示的時間點確實是我使用。(請見本院卷七第84頁反面) | L19: =[1]帳戶交易資料按人別帳號日期排序加總!R1602 -> 1049 | M19: =[1]帳戶交易資料按人別帳號日期排序加總!S1602 -> 800 | N19: =[1]帳戶交易資料按人別帳號日期排序加總!T1602 -> 41799700 | O19: =[1]帳戶交易資料按人別帳號日期排序加總!U1602 -> 49517400 | P19: =L19-M19 -> 249 | Q19: =O19-N19 -> 7717700 | R19: =-Q19/P19/1000 -> -30.994779
A20: 11 | B20: 1-04 | C20: 李彩鳳 | D20: 被告吳德賢母親 | E20: 大華證券 | F20: 5720 | G20: 6325598 | H20: 950316 | I20: 列入 | J20: 是 | K20: ●吳德賢稱此帳戶係其母親李彩鳳個人使用。(請見本院卷五第180頁反面，吳德賢刑事答辯三狀) ●惟本院審視吳德賢使用其本人帳戶、黃瓊儀群益天母帳戶、黃啟源統一南京帳戶及李彩鳳統一帳戶交易關聯性 ，有以 下委託時間相近情形，例： (1))95年3月20日，李彩鳳大華帳戶在12：56：01：20下單委託買進信音公司股票30張，隨即在12：57：41：31黃瓊儀 群益天母(即券商代號527N帳號51687)帳號亦委託買進10張信音公司股票。(請見本院卷六第5頁) (2) 95年3月22日，李彩鳳大華帳戶在9：24：39：62下單委託進信音公司股票20張，隨即在9：26：43：25吳德賢 大永證券(即券商代號7323帳號652358)亦下單委託買進10張信音公司股票。又同日， 吳德賢於9:36:49:49使用 黃啟源統一南京(即券商代號585U帳號437161)下單買進10張信音公司股票，而李彩鳳大華帳戶隨即在 9：37：18：63下單委託進信音公司股票30張，另吳德賢隨即在9：37：59：12使用同上黃啟源帳戶下單委託 買進15張信音公司股票。(請見本院卷六第5頁反面) (3)另查，李彩鳳大華帳戶在95年3月20日、22日、29日、31日、4月26日、5月4日、5日、6月5日、7日、9日…， 與吳德賢使用下單帳戶多有委託時間相近情事。(請見本院卷六第5頁至43頁) (4)李彩鳳大華帳戶亦是其四個帳戶中買進張數最多之帳戶。 ●另查李彩鳳大華證券帳戶使用之： 1. 大華證券存摺，券商代號5720，帳號6325598，在伯明翰公司被查扣。(扣押物編號：1-3 扣押物名稱 ：存摺)(第1本期間91/09/19~96/01/29)(第2本期間96/01/30~97/10/23) 2. 大華交割使用世華銀行永和分行證券戶活儲存摺2本，存款帳號009-55-032559-1，亦在伯明翰公司同時 被查扣(扣押物編號：1-2 扣押物名稱：存摺)(第1本期間91/09/19~96/01/29)(第2本期間96/01/30~97/10/23) | L20: =[1]帳戶交易資料按人別帳號日期排序加總!R2304 -> 1122 | M20: =[1]帳戶交易資料按人別帳號日期排序加總!S2304 -> 992 | N20: =[1]帳戶交易資料按人別帳號日期排序加總!T2304 -> 48154300 | O20: =[1]帳戶交易資料按人別帳號日期排序加總!U2304 -> 63096200 | P20: =L20-M20 -> 130 | Q20: =O20-N20 -> 14941900 | R20: =-Q20/P20/1000 -> -114.93769
K21: ●本院檢視李彩鳳大華證券交割使用世華銀行永和分行證券戶活儲存摺，存款帳號009-55-032559-1， (扣押物編號：1-2 扣押物名稱：存摺)存提記錄，發現： (1) 該帳戶平常均為交割股款使用，偶有利息及轉帳存入與支出，自95年4月份起可見由吳德賢可掌控李彩鳳 之統一南京證券戶之交割銀行(即國泰世華銀行復興分行018-55-439138-5)帳戶(請見扣押物編號：1-2 扣押物 名稱： 存摺)，電子轉出以下金額至李彩鳳大華證券交割使用世華銀行永和分行證券戶活儲存摺，存款帳號 009-55-032559-1： (A)95年4月20日金額100萬 (B)95年6月5日金額200萬 (C)95年6月6日電子轉入100萬 以上合計400萬， ，且雙方帳戶可相互勾稽確認。 (2)另查大華證券帳戶，券商代號5720，帳號6325598(扣押物編號：1-3 扣押物名稱：存摺)，該帳戶自95年10月 3日開始賣出(之前僅有買入未曾賣出)信音公司股票70張(即仟股，下同)、95年10月18日賣出55張、96年1月16 日賣出50張、96年1月18日賣出400張、96年1月22日賣出120張、96年3月8日賣出88張、96年3月9日賣出10張、 96年3月13日賣出10張、96年3月15日賣出102張，自95年10月18日開始賣出後，截至96年3月15日己賣出905張 ，中間雖有買回300餘張，仍是賣出量大於買回量，而大華證券交割使用世華銀行永和分行證券戶活儲存摺， 存款帳號009-55-032559-1 (扣押物編號：1-2 扣押物名稱：存摺)，自存摺可檢視最早日期91/9/19至95/10/29 均未曾轉出款項至吳德賢私人帳戶，亦開始轉出予吳德賢明細如下： (A)95年10月30日電子轉出吳德賢100萬 (B)96年2月13日電子轉出吳德賢100萬 (C)96年3月5日電子轉出吳德賢200萬 (D)96年3月22日電子轉出吳德賢150萬 (E)96年3月29日電子轉出吳德賢200萬 (F)96年7月13日電子轉出吳德賢200萬 (G)96年8月13日電子轉出吳德賢200萬 (H)96年8月14日電子轉出吳德賢300萬 (I) 96年9月26日電子轉出吳德賢300萬 (J) 96年9月28日電子轉出吳德賢300萬 (K) 96年11月1日電子轉出吳德賢300萬 以上合計2350萬
A22: 12 | E22: 群益新莊 | F22: 527E | G22: 89849 | H22: 950321 | I22: 列入 | J22: 否 | K22: ●吳德賢稱係其母親個人使用。(請見本院卷五第180頁反面，吳德賢刑事答辯三狀) ●另據本院統計於95/1/1~96/6/30間，此帳戶僅買80餘張信音公司股票。 | L22: =[1]帳戶交易資料按人別帳號日期排序加總!R2420 -> 85 | M22: =[1]帳戶交易資料按人別帳號日期排序加總!S2420 -> 45 | N22: =[1]帳戶交易資料按人別帳號日期排序加總!T2420 -> 4019200 | O22: =[1]帳戶交易資料按人別帳號日期排序加總!U2420 -> 2558500 | P22: =L22-M22 -> 40 | Q22: =O22-N22 -> -1460700 | R22: =-Q22/P22/1000 -> 36.5175
A23: 13 | B23: 1-05 | C23: 陳文棋 | D23: 伯明翰客戶 | E23: 群益天母 | F23: 527N | G23: 33359 | H23: 950417 | I23: 未列 | J23: 否 | K23: ●徐桂森稱非伯明翰公司使用。(請見本院卷五第176頁，徐桂森及吳昌恆105/9/29刑事陳報狀) ●吳德賢稱係客戶個人使用。(請見本院卷五第180頁反面，吳德賢刑事答辯三狀) | L23: =[1]帳戶交易資料按人別帳號日期排序加總!R3200 -> 10 | M23: =[1]帳戶交易資料按人別帳號日期排序加總!S3200 -> 0 | N23: =[1]帳戶交易資料按人別帳號日期排序加總!T3200 -> 362500 | O23: =[1]帳戶交易資料按人別帳號日期排序加總!U3200 -> 0 | P23: =L23-M23 -> 10 | Q23: =O23-N23 -> -362500 | R23: =-Q23/P23/1000 -> 36.25
A24: 14 | E24: 寶來天母 | F24: 9796 | G24: 204182 | H24: 950510 | I24: 列入 | J24: 是 | K24: ●陳文棋稱：「...我大概是在94年間委託伯明翰代操，我當初應該是跟周仕昌接觸，並簽訂代操合約，額度是 新台幣500萬，...，我提供我個人設於寶來證券天母分公司的證券帳戶給伯明翰公司使用，...，我是全權委託...， 我記得信音股票是賠的...，我們約定的報酬是獲利的兩成。 」、(問：據查，95年7月27日至96年1月30日間，你設 於寶來證券天母分公司的證券帳戶有頻繁買賣信音公司股票的情形，係由何人下單決定買賣信音公司股票?) 是伯明翰公司的人員下單的。 (請見調查局卷證據一：筆錄卷 第220頁至221頁) ●徐桂森稱起訴書附表一編號5至8、11、12、20、21、22、24、25、27、30、34、35是伯明翰公司之客戶帳戶...。 (請見原審卷一第88頁反面) ●周仕昌稱除了邱議瑩及何明龍外，和起訴書犯罪事實一(一)所記載信音公司等51位投資人接觸過，我會去跟客戶 說我們公司看好哪些公司。(請見原審卷一第79頁至第79頁反面) ●吳德賢稱係伯明翰公司代操帳戶。(請見本院卷五第180頁反面，吳德賢刑事答辯三狀) | L24: =[1]帳戶交易資料按人別帳號日期排序加總!R3190 -> 9989 | M24: =[1]帳戶交易資料按人別帳號日期排序加總!S3190 -> 6322 | N24: =[1]帳戶交易資料按人別帳號日期排序加總!T3190 -> 369750800 | O24: =[1]帳戶交易資料按人別帳號日期排序加總!U3190 -> 394137200 | P24: =L24-M24 -> 3667 | Q24: =O24-N24 -> 24386400 | R24: =-Q24/P24/1000 -> -6.6502318
A25: 15 | B25: 1-06 | C25: 嚴亮姬 | D25: 伯明翰客戶 | E25: 群益證券 | F25: 527v | G25: 172981 | H25: 960118 | I25: 未列 | J25: 否 | K25: ●徐桂森稱非伯明翰公司使用。(請見本院卷五第176頁，徐桂森及吳昌恆105/9/29刑事陳報狀) ●吳德賢稱係客戶個人使用。(請見本院卷五第180頁反面，吳德賢刑事答辯三狀) | L25: =[1]帳戶交易資料按人別帳號日期排序加總!R3360 -> 80 | M25: =[1]帳戶交易資料按人別帳號日期排序加總!S3360 -> 30 | N25: =[1]帳戶交易資料按人別帳號日期排序加總!T3360 -> 4681750 | O25: =[1]帳戶交易資料按人別帳號日期排序加總!U3360 -> 1823350 | P25: =L25-M25 -> 50 | Q25: =O25-N25 -> -2858400 | R25: =-Q25/P25/1000 -> 57.168
A26: 16 | E26: 寶來天母 | F26: 9796 | G26: 214538 | H26: 960123 | I26: 列入 | J26: 否 | K26: ●徐桂森稱我可以確認的客戶有：...嚴亮姬...。(請見原審卷一第79頁至第79頁反面) ●吳德賢稱係伯明翰公司代操帳戶。(請見本院卷五第180頁反面，吳德賢刑事答辯三狀) ●寶來證券營業員劉秀君稱對嚴亮姬授權被告吳德賢下單買賣有印象，但有時候自己下。 (請見本院卷四第10頁 反面至至第11頁) | L26: =[1]帳戶交易資料按人別帳號日期排序加總!R3230 -> 55 | M26: =[1]帳戶交易資料按人別帳號日期排序加總!S3230 -> 25 | N26: =[1]帳戶交易資料按人別帳號日期排序加總!T3230 -> 3857600 | O26: =[1]帳戶交易資料按人別帳號日期排序加總!U3230 -> 1390900 | P26: =L26-M26 -> 30 | Q26: =O26-N26 -> -2466700 | R26: =-Q26/P26/1000 -> 82.223333
A27: 17 | E27: 統一汐止 | F27: 585R | G27: 124639 | H27: 960316 | I27: 未列 | J27: 否 | K27: ●徐桂森稱非伯明翰公司使用。(請見本院卷五第176頁，徐桂森及吳昌恆105/9/29刑事陳報狀) ●吳德賢稱係客戶個人使用。(請見本院卷五第180頁反面，吳德賢刑事答辯三狀) | L27: =[1]帳戶交易資料按人別帳號日期排序加總!R3371 -> 10 | M27: =[1]帳戶交易資料按人別帳號日期排序加總!S3371 -> 10 | N27: =[1]帳戶交易資料按人別帳號日期排序加總!T3371 -> 663500 | O27: =[1]帳戶交易資料按人別帳號日期排序加總!U3371 -> 691000 | P27: =L27-M27 -> 0 | Q27: =O27-N27 -> 27500 | R27: 0
A28: 18 | B28: 1-07 | C28: 楊奕萱 | D28: 伯明翰客戶 | E28: 寶來天母 | F28: 9796 | G28: 201208 | H28: 950323 | I28: 列入 | J28: 是 | K28: ●「(問楊超群(楊奕萱父)：95年7月至96年1月間，...江念錡、楊奕萱證券帳戶曾經買賣上櫃股票交易信音股份有限 公司 ，請問經過詳情? )...，這是我委託伯明翰公司吳德賢代操時，由伯明翰公司的人下單買賣...。將楊奕萱及 江念錡的證券帳戶交給伯明翰吳德賢代操。」、「寶來是劉秀君， 中信是王霈蓮，由伯明翰下單，每個人資金 1000萬。」(請見調查局卷證據一：筆錄卷第270頁至第272頁) ●吳德賢稱係伯明翰公司代操帳戶。(請見本院卷五第180頁反面，吳德賢刑事答辯三狀) ●徐桂森稱起訴書附表一編號5至8係伯明翰公司之客戶帳戶。(請見原審卷一88反面) | L28: =[1]帳戶交易資料按人別帳號日期排序加總!R3899 -> 370 | M28: =[1]帳戶交易資料按人別帳號日期排序加總!S3899 -> 394 | N28: =[1]帳戶交易資料按人別帳號日期排序加總!T3899 -> 13705350 | O28: =[1]帳戶交易資料按人別帳號日期排序加總!U3899 -> 21593200 | P28: =L28-M28 -> -24 | Q28: =O28-N28 -> 7887850 | R28: 0
A29: 19 | E29: 中信證券 | I29: 列入 | J29: 否 | K29: ●起訴書有列此帳戶，惟依財團法人中華民國櫃檯買賣中心102年9月4日證櫃交字第1020021888號函資料期間並無 任何買賣信音公司股票交易資料。 | L29: 0 | M29: 0 | N29: 0 | O29: 0 | P29: 0 | Q29: 0 | R29: 0
A30: 20 | B30: 1-08 | C30: 江念錡 | D30: 伯明翰客戶 | E30: 中信證券 | F30: 565A | G30: 96498 | H30: 951220 | I30: 列入 | J30: 是 | K30: ●「(問楊超群(楊奕萱父)：95年7月至96年1月間，...江念錡、楊奕萱證券帳戶曾經買賣上櫃股票交易信音股份有限 公司 ，請問經過詳情? )...，這是我委託伯明翰公司吳德賢代操時，由伯明翰公司的人下單買賣...。將楊奕萱及 江念錡的證券帳戶交給伯明翰吳德賢代操。」、「寶來是劉秀君， 中信是王霈蓮，由伯明翰下單，每個人資金 1000萬。」(請見調查局卷證據一：筆錄卷第270頁至第272頁)(楊超群至調查局卷作筆錄時，江念錡有一同前往) ● 吳德賢稱：「我有使用...，客戶的部分有使用楊超群提供的楊奕萱及江念錡的證券帳戶...」 (請見調查局卷證據一 ：筆錄卷第68頁至第70頁) ● 徐桂森稱起訴書附表一編號5至8係伯明翰公司之客戶帳戶(請見原審卷一88反面) ● 吳德賢稱係客戶個人使用。(請見本院卷五第180頁反面，吳德賢刑事答辯三狀) ● 另扣押物編號35：吳昌恒隨身碟目錄、路徑\客戶檔案 022008檔案目錄及內含OLD頁面工作表、010207頁面工 作表、011907頁面工作表及061307等頁面工作表之螢幕擷取畫面及完整工作表頁面列印資料均顯示： 「"楊超群(楊董)江念錡"、電話欄及傳真-EMAIL欄均列示"同上"(上一客戶為楊奕萱)及"中信-王霈蓮 、02-8712- 0499(速撥121)、02-8712-0002(速撥122)、0927-628-990"」等字樣，顯示江念錡中信帳戶確係伯明翰公司代操客戶 帳戶之一。（請見本院卷八第209頁至第217頁） | L30: =[1]帳戶交易資料按人別帳號日期排序加總!R3966 -> 205 | M30: =[1]帳戶交易資料按人別帳號日期排序加總!S3966 -> 0 | N30: =[1]帳戶交易資料按人別帳號日期排序加總!T3966 -> 17192300 | O30: =[1]帳戶交易資料按人別帳號日期排序加總!U3966 -> 0 | P30: =L30-M30 -> 205 | Q30: =O30-N30 -> -17192300 | R30: =-Q30/P30/1000 -> 83.864878
A31: 21 | B31: 1-09 | C31: 陳欽約 | D31: 伯明翰客戶 | E31: 康和證券 復興北路 | F31: 8450 | G31: 1351148 | H31: 950519 | I31: 列入 | J31: 是 | K31: ●95年4、5月經由康和證券胡文傑介紹，便在康和證券開設證券帳戶，並投入1000萬委託吳德賢代操，買賣完全由 其決定，若有獲利需繳20%作為績效獎金，另外再收取委託金額1%的費用作為管理費。一般維持在持有10檔左右 的股票，但一定會有信音公司的股票，買賣最多的也是信音，但我沒有干涉他們的下單。期間因為績效不錯，吳 德賢有要求先結算，扣除績效獎金約還賺300萬元，我又將300萬連同本金1000萬於結算後再繼續委託吳德賢操作 。95年12月給伯明翰79萬5千多元，96年6月給29萬1618元，於96年上半年解約，並將帳戶中所有股票出清，結餘約 在1300萬左右。(請見調查局卷證據一：筆錄卷第295頁至第296頁、100偵7486卷二第46頁至第48頁) ●吳德賢稱係伯明翰公司代操帳戶。(請見本院卷五第180頁反面，吳德賢刑事答辯三狀) | L31: =[1]帳戶交易資料按人別帳號日期排序加總!R4140 -> 211 | M31: =[1]帳戶交易資料按人別帳號日期排序加總!S4140 -> 223 | N31: =[1]帳戶交易資料按人別帳號日期排序加總!T4140 -> 9309800 | O31: =[1]帳戶交易資料按人別帳號日期排序加總!U4140 -> 12305900 | P31: =L31-M31 -> -12 | Q31: =O31-N31 -> 2996100 | R31: 0
A32: 22 | E32: 永豐證券 | F32: 5510 | G32: 346136 | H32: 951004 | I32: 未列 | J32: 否 | K32: ●吳德賢稱係客戶個人使用。(請見本院卷五第180頁反面，吳德賢刑事答辯三狀) | L32: =[1]帳戶交易資料按人別帳號日期排序加總!R3981 -> 39 | M32: =[1]帳戶交易資料按人別帳號日期排序加總!S3981 -> 0 | N32: =[1]帳戶交易資料按人別帳號日期排序加總!T3981 -> 2062700 | O32: =[1]帳戶交易資料按人別帳號日期排序加總!U3981 -> 0 | P32: =L32-M32 -> 39 | Q32: =O32-N32 -> -2062700 | R32: =-Q32/P32/1000 -> 52.889744
A33: 23 | B33: 1-10 | C33: 蔡萬俊 | D33: 伯明翰客戶 | E33: 富邦台東 | F33: 9608 | G33: 26911 | H33: 950503 | I33: 列入 | J33: 否 | K33: ●富邦台東營業員羅淯心證稱蔡萬俊帳戶確定係其本人下單。(請見本院卷五第25頁) ●吳德賢稱係客戶個人使用。(請見本院卷五第180頁反面，吳德賢刑事答辯三狀) | L33: =[1]帳戶交易資料按人別帳號日期排序加總!R4189 -> 50 | M33: =[1]帳戶交易資料按人別帳號日期排序加總!S4189 -> 56 | N33: =[1]帳戶交易資料按人別帳號日期排序加總!T4189 -> 1815700 | O33: =[1]帳戶交易資料按人別帳號日期排序加總!U4189 -> 2006400 | P33: =L33-M33 -> -6 | Q33: =O33-N33 -> 190700 | R33: 0
A34: 24 | E34: 康和證券 復興北路 | F34: 8450 | G34: 1350291 | H34: 960321 | I34: 列入 | J34: 否 | K34: ●90年台東寶來營業員吳文傑轉到台北康和證券工作，由他介紹一位代操人員，後來才知係伯明翰公司人員，雙 方無簽訂契約書，提供第一銀行帳戶(???)供其代為下單，陸續委託金額約1千多萬元，約定獲利伯明翰要抽15% ~20%佣金，伯明翰事前有告知要買信音股票，一年以後發現虧損很多，超過七佰萬以上，遂與其解約。(請見調 查局卷證據一：筆錄卷第222頁至第225頁) ●吳德賢稱係客戶個人使用，原審亦己認定客戶個人使用。(請見本院卷五第180頁反面，吳德賢刑事答辯三狀) ●經本院統計95/1/1~96/6/30間，蔡萬俊帳戶購買信音公司股票己超過4千餘萬，與本人供述委託金額約1千多萬差異 甚大。 | L34: =[1]帳戶交易資料按人別帳號日期排序加總!R4151 -> 621 | M34: =[1]帳戶交易資料按人別帳號日期排序加總!S4151 -> 0 | N34: =[1]帳戶交易資料按人別帳號日期排序加總!T4151 -> 43260500 | O34: =[1]帳戶交易資料按人別帳號日期排序加總!U4151 -> 0 | P34: =L34-M34 -> 621 | Q34: =O34-N34 -> -43260500 | R34: =-Q34/P34/1000 -> 69.662641
A35: 25 | B35: 1-11 | C35: 蔡萬忠 | D35: 伯明翰客戶 | E35: 大華台東 | F35: 572A | G35: 2529 | H35: 950331 | I35: 列入 | J35: 否 | K35: ●蔡萬俊稱其弟蔡萬忠亦有委託伯明翰代操，但詳情不知。(請見調查局卷證據一：筆錄卷第222頁至第225頁) ●吳德賢稱係客戶個人使用，原審亦己認定客戶個人使用。(請見本院卷五第180頁反面，吳德賢刑事答辯三狀) | L35: =[1]帳戶交易資料按人別帳號日期排序加總!R4492 -> 165 | M35: =[1]帳戶交易資料按人別帳號日期排序加總!S4492 -> 126 | N35: =[1]帳戶交易資料按人別帳號日期排序加總!T4492 -> 6617400 | O35: =[1]帳戶交易資料按人別帳號日期排序加總!U4492 -> 3729600 | P35: =L35-M35 -> 39 | Q35: =O35-N35 -> -2887800 | R35: =-Q35/P35/1000 -> 74.046154
A36: 26 | E36: 台証台東 | F36: 9465 | G36: 439 | H36: 950411 | I36: 列入 | J36: 否 | K36: ●蔡萬俊稱其弟蔡萬忠亦有委託伯明翰代操，但詳情不知。(請見調查局卷證據一：筆錄卷第222頁至第225頁) ●吳德賢稱係客戶個人使用。(請見本院卷五第180頁反面，吳德賢刑事答辯三狀) ●吳德賢稱編號11是公司的客戶。(請見原審卷一第88頁) ●徐桂森稱起訴書附表一編號5至8、11、12、20、21、22、24、25、27、30、34、35是伯明翰公司之客戶帳戶 (請見原審卷一第88頁反面) ●吳德賢稱係客戶個人使用。(請見本院卷五第180頁反面，吳德賢刑事答辯三狀) ● 另扣押物編號35：吳昌恒隨身碟目錄、路徑\客戶檔案 022008檔案目錄及內含OLD頁面工作表、010207頁面工 作表、011907頁面工作表及061307等頁面工作表之螢幕擷取畫面及完整工作表頁面列印資料均顯示： 「"蔡萬忠"、電話欄列示"02-28285578"、傳真-EMAIL欄列示"t3236@ms21.hinet.net"及"康和-黃淑芬 、02-87611229 (速撥105)"、 02- 27659420(速撥123)、0933-029-645」等字樣，顯示伯明翰公司係使用康和證券帳戶並非台証証 券台東分公司帳戶（請見本院卷八第209頁至第217頁） | L36: =[1]帳戶交易資料按人別帳號日期排序加總!R4420 -> 335 | M36: =[1]帳戶交易資料按人別帳號日期排序加總!S4420 -> 198 | N36: =[1]帳戶交易資料按人別帳號日期排序加總!T4420 -> 15955700 | O36: =[1]帳戶交易資料按人別帳號日期排序加總!U4420 -> 7366950 | P36: =L36-M36 -> 137 | Q36: =O36-N36 -> -8588750 | R36: =-Q36/P36/1000 -> 62.691606
A37: 27 | E37: 康和證券 復興北路 | I37: 列入 | J37: 否 | K37: ●起訴書有列此帳戶，惟依財團法人中華民國櫃檯買賣中心102年9月4日證櫃交字第1020021888號函資料期間並無 任何買賣信音公司股票交易資料。 | L37: =[1]帳戶交易資料按人別帳號日期排序加總!R28245 -> 0 | M37: 0 | N37: =[1]帳戶交易資料按人別帳號日期排序加總!T28245 -> 0 | O37: 0 | P37: =[1]帳戶交易資料按人別帳號日期排序加總!V28245 -> 0 | Q37: =[1]帳戶交易資料按人別帳號日期排序加總!W28245 -> 0 | R37: 0
A38: 28 | E38: 富邦台東 | F38: 9608 | G38: 26018 | H38: 960118 | I38: 未列 | J38: 否 | K38: ●富邦台東營業員羅淯心證稱蔡萬忠帳戶係其本人使用網路下單。(請見本院卷五第25頁) ●吳德賢稱係客戶個人使用。(請見本院卷五第181頁，吳德賢刑事答辯三狀) | L38: =[1]帳戶交易資料按人別帳號日期排序加總!R4438 -> 34 | M38: =[1]帳戶交易資料按人別帳號日期排序加總!S4438 -> 10 | N38: =[1]帳戶交易資料按人別帳號日期排序加總!T4438 -> 2274100 | O38: =[1]帳戶交易資料按人別帳號日期排序加總!U4438 -> 716000 | P38: =L38-M38 -> 24 | Q38: =O38-N38 -> -1558100 | R38: =-Q38/P38/1000 -> 64.920833
A39: 29 | B39: 1-12 | C39: 劉紹毅 | D39: 伯明翰客戶 | E39: 康和證券 復興北路 | F39: 8450 | G39: 1353531 | H39: 950925 | I39: 列入 | J39: 是 | K39: ●95年8、9月間，由康和證券營業員胡文傑介紹伯明翰代操，提供康和84501353531帳戶及資金最多時約超過六千 萬元供代操使用，本人有時也會使用前述帳戶下單，但從沒使用該帳戶買賣過信音，信音股價下跌後，吳德賢 就避不見面，最後損失約數千萬元。(請見調查局卷證據一：筆錄卷第200頁至第201頁) ●劉紹毅原審證稱出入甚大。(請見原審卷五第138頁至第143頁) ●吳德賢稱係伯明翰公司代操帳戶，另證人103年6月11日也證稱自身也會下單。(請見本院卷五第181頁，吳德賢刑 事答辯三狀) ●96/2/5仍有其高買信音交易紀錄，最後一筆係96/2/7買入信音股票，截至96/6/30均未賣出， 買入成本計四千餘萬。 | L39: =[1]帳戶交易資料按人別帳號日期排序加總!R4708 -> 623 | M39: =[1]帳戶交易資料按人別帳號日期排序加總!S4708 -> 0 | N39: =[1]帳戶交易資料按人別帳號日期排序加總!T4708 -> 40807000 | O39: =[1]帳戶交易資料按人別帳號日期排序加總!U4708 -> 0 | P39: =L39-M39 -> 623 | Q39: =O39-N39 -> -40807000 | R39: =-Q39/P39/1000 -> 65.500803
A40: 30 | E40: 群益證券 | F40: 527F | G40: 59768 | H40: 960124 | I40: 未列 | J40: 否 | K40: ●吳德賢稱係客戶個人使用。(請見本院卷五第181頁，吳德賢刑事答辯三狀) | L40: =[1]帳戶交易資料按人別帳號日期排序加總!R4893 -> 327 | M40: =[1]帳戶交易資料按人別帳號日期排序加總!S4893 -> 322 | N40: =[1]帳戶交易資料按人別帳號日期排序加總!T4893 -> 23239100 | O40: =[1]帳戶交易資料按人別帳號日期排序加總!U4893 -> 22667200 | P40: =L40-M40 -> 5 | Q40: =O40-N40 -> -571900 | R40: =-Q40/P40/1000 -> 114.38
A41: 31 | B41: 1-13 | C41: 高李月裡 | D41: 伯明翰客戶 | E41: 群益天母 | F41: 527N | G41: 18989 | H41: 950503 | I41: 列入 | J41: 是 | K41: ●卷內無本人供述，本院傳喚證人未到 (80多歲)。 ●周仕昌稱除了邱議瑩及何明龍外，和起訴書犯罪事實一(一)所記載信音公司等51位投資人接觸過，我會去跟客戶 說我們公司看好哪些公司。(請見原審卷一第79頁至第79頁反面) ●「 (問徐桂森：扣押物編號24p19 中，有一份收據，收到李月裡女士款項 230 萬3300元，為何如此？」 此為李月 裡之代操酬勞。(請見原審卷三第141頁反面) ●吳德賢稱係客戶個人使用(受任人：陳威良)。(請見本院卷五第181頁，吳德賢刑事答辯三狀) ● 另扣押物編號35：吳昌恒隨身碟目錄、路徑\客戶檔案 022008檔案目錄及內含OLD頁面工作表、010207頁面工 作表、011907頁面工作表及061307等頁面工作表之螢幕擷取畫面及完整工作表頁面列印資料均顯示： 「"李月裡"、電話欄列示"0937-852-149 019-86-13901124163"、傳真-EMAIL欄列示"lina_lee_7006@yahoo.com.tw fax:2871-9286(設定3)"及"群益天母-陳玲妃 、02-28764603(速撥104)"」等字樣，顯示高李月裡群益天母帳戶確係 伯明翰公司代操客戶帳戶之一。（請見本院卷八第209頁至第217頁） ●群益天母營業員陳玲妃亦係林宗堯掌控之閻淑慧群益天母帳戶之營業員。(請見99警聲搜1137 卷第181頁至第185頁) | L41: =[1]帳戶交易資料按人別帳號日期排序加總!R5068 -> 145 | M41: =[1]帳戶交易資料按人別帳號日期排序加總!S5068 -> 160 | N41: =[1]帳戶交易資料按人別帳號日期排序加總!T5068 -> 4561250 | O41: =[1]帳戶交易資料按人別帳號日期排序加總!U5068 -> 11284600 | P41: =L41-M41 -> -15 | Q41: =O41-N41 -> 6723350 | R41: =-Q41/P41/1000 -> 448.22333
...
