Workbook

Sheet 犯罪所得統計
B1: 附表一：重利犯罪所得匯總表（註3）
A3: 編號 | B3: 當鋪名稱（註1） | D3: 統計期間 | E3: 繳息小計 | F3: 繳息合計 | G3: 犯罪所得小計 | H3: 犯罪所得 | I3: 計算資料
A4: 1 | B4: 國泰當鋪合計 | D4: 99/8/2~102/1/20 | F4: =國泰當鋪!I1667 -> 20120852 | H4: =國泰當鋪!J1667 -> 13172269 | I4: 附表一之1：依扣案帳冊計算
A5: 2 | B5: 丙全當鋪合計 | F5: =依被害人證述計算!H28 -> 759320 | H5: =依被害人證述計算!I28 -> 444783.33 | I5: 附表一之7：依證人證述計算
A6: 3 | B6: 元一當鋪合計 | F6: =SUM(E7:E8) -> 865100 | H6: =SUM(G7:G8) -> 545480
C7: 元一當鋪 | D7: 102/1/1~102/1/22 | E7: =元一當鋪!D17 -> 47095 | G7: =元一當鋪!D19 -> 31396.667 | I7: 附表一之4：依扣案帳冊計算
C8: 元一當鋪 | E8: =依被害人證述計算!H65 -> 818005 | G8: =依被害人證述計算!I65 -> 514083.33 | I8: 附表一之7：依證人證述計算
A9: 4 | B9: 元崗當鋪合計（註2） | F9: =SUM(E10:E11) -> 3063870 | H9: =SUM(G10:G11) -> 2003280
C10: 元崗當鋪 | D10: 101年7月~102年1月22日 | E10: =元崗當鋪!D1310 -> 2620170 | G10: =元崗當鋪!D1312 -> 1746780 | I10: 附表一之2：依扣案帳冊計算
C11: 元崗當鋪 | E11: =依被害人證述計算!H74 -> 443700 | G11: =依被害人證述計算!I74 -> 256500 | I11: 附表一之7：依證人證述計算
A12: 5 | B12: 元喆當鋪合計 | F12: =SUM(E13:E14) -> 1866895 | H12: =SUM(G13:G14) -> 1244596.7
C13: 元喆當鋪 | D13: 101年11月~102年1月22日 | E13: =元喆當鋪!D586 -> 1094395 | G13: =E13*2/3 -> 729596.67 | I13: 附表一之3：依扣案帳冊計算
C14: 元喆當鋪 | E14: =依被害人證述計算!H90 -> 772500 | G14: =依被害人證述計算!I90 -> 515000 | I14: 附表一之7：依證人證述計算
A15: 6 | B15: 合豐當鋪合計 | F15: =SUM(E16:E17) -> 1061570 | H15: =SUM(G16:G17) -> 702982.08
C16: 合豐當鋪 | D16: 101年1月~101年3月 | E16: =合豐當鋪!E462 -> 597095 | G16: =合豐當鋪!I462 -> 393819.58 | I16: 附表一之5：依扣案帳冊計算
C17: 合豐當鋪 | E17: =依被害人證述計算!H104 -> 464475 | G17: =依被害人證述計算!I104 -> 309162.5 | I17: 附表一之7：依證人證述計算
A18: 7 | B18: 瑞誠當鋪合計 | F18: =SUM(E19:E20) -> 18487714 | H18: =SUM(G19:G20) -> 12044895
C19: 瑞誠當鋪 | D19: 100年2月至102年3月 | E19: =瑞誠當鋪!I2750 -> 17775214 | G19: =瑞誠當鋪!J2750 -> 11569895 | I19: 附表一之6：依扣案帳冊計算
C20: 瑞誠當鋪 | E20: =依被害人證述計算!H107 -> 712500 | G20: =依被害人證述計算!I107 -> 475000 | I20: 附表一之7：依證人證述計算
A21: 上開編號1-6之當鋪合計 | F21: =SUM(F3:F17) -> 27737607 | H21: =SUM(H3:H17) -> 18113391
A22: 上開編號1-7之當鋪合計 | F22: =SUM(F4:F20) -> 46225321 | H22: =SUM(H4:H20)+1 -> 30158287
B23: 註1： | C23: 丙全當鋪因已於100年10月15日登記停業，本案搜索時未能扣得相關帳冊（詳檢察官102年7月26日補充理由書），故僅能依證人証述計算犯罪所得。
B24: 註2： | C24: 起訴書誤將元崗當鋪「繳息小計」、「犯罪所得小計」之金額重複計入「繳息合計」欄、「犯罪所得」欄中。
B25: 註3： | C25: 起訴書附表二、檢察官102年7月16日補充理由書第12頁及第15頁增列之重利被害人周茂正、徐潤祥、凃清城、彭南山、張明文、伍思富、102年7月19日補充理由書第3-5 頁所列張明文、陳志忠、項紀文、林坤增、莊榮昌、劉志鵬、黃冠源、劉昭鎮、李希睿、劉正文、陳瑞章、王進財、陳建華、李永成、陳文進、簡福來等人，除(1)起訴書附表二編號10「張明珠」非本案借款人，(2)起訴書附表二編號9「方士祥」於「丙全當鋪」之借款及(3)附表一之7「註3」所示「借款期間」欄所示借款期間在「97年7月24日」以前之部分，因均係於97年7月24日以前所為的重利行為，其相關重利犯罪所得金額均不列計於本附表內之外，就起訴書、檢察官補充理由書所列其餘被害人部分之重利犯罪所得金額均已列於上開附表一之1至一之7中。

Sheet 國泰當鋪
A1: 編 號 | B1: 會員 編號 | C1: 姓名 | D1: [A]本金 | E1: [B]月利率 (註3) | F1: [C]計息週期(天)(註3) | G1: [D]第一次 繳息日 | H1: [E]繳息 次數 | I1: [F]已繳利息(註4) | J1: [G]犯罪所得 (註5) | K1: 卷證出處 （註1） | L1: 備註
A2: 1 | B2: 1(B) | C2: 張耀童 | D2: 85000 | E2: 0.075 | F2: 15 | G2: 40836 | H2: 31 | I2: =IF(F2="分期",D2*E2*2.5*H2/10,D2*E2*F2*H2/30) -> 98812.5 | J2: =IF(F2="分期",D2*(E2-0.025)*2.5*H2/10,D2*(E2-0.025)*F2/30*H2) -> 65875 | K2: 第1頁
D3: 75000 | E3: 0.075 | F3: 15 | G3: 41298 | H3: 1 | I3: =IF(F3="分期",D3*E3*2.5*H3/10,D3*E3*F3*H3/30)+2 -> 2814.5 | J3: =IF(F3="分期",D3*(E3-0.025)*2.5*H3/10,D3*(E3-0.025)*F3/30*H3) -> 1875 | L3: （註2）
A4: 2 | B4: 3(B) | C4: 徐敏峰 | D4: 155000 | E4: 0.075 | F4: 15 | G4: 40836 | H4: 3 | I4: =IF(F4="分期",D4*E4*2.5*H4/10,D4*E4*F4*H4/30) -> 17437.5 | J4: =IF(F4="分期",D4*(E4-0.025)*2.5*H4/10,D4*(E4-0.025)*F4/30*H4) -> 11625 | K4: 第2頁
D5: 140000 | E5: 0.075 | F5: 15 | G5: 40881 | H5: 1 | I5: =IF(F5="分期",D5*E5*2.5*H5/10,D5*E5*F5*H5/30) -> 5250 | J5: =IF(F5="分期",D5*(E5-0.025)*2.5*H5/10,D5*(E5-0.025)*F5/30*H5) -> 3500
D6: 130000 | E6: 0.075 | F6: 15 | G6: 40896 | H6: 2 | I6: =IF(F6="分期",D6*E6*2.5*H6/10,D6*E6*F6*H6/30) -> 9750 | J6: =IF(F6="分期",D6*(E6-0.025)*2.5*H6/10,D6*(E6-0.025)*F6/30*H6) -> 6500
D7: 120000 | E7: 0.075 | F7: 15 | G7: 40926 | H7: 3 | I7: =IF(F7="分期",D7*E7*2.5*H7/10,D7*E7*F7*H7/30) -> 13500 | J7: =IF(F7="分期",D7*(E7-0.025)*2.5*H7/10,D7*(E7-0.025)*F7/30*H7) -> 9000
D8: 100000 | E8: 0.075 | F8: 15 | G8: 40971 | H8: 1 | I8: =IF(F8="分期",D8*E8*2.5*H8/10,D8*E8*F8*H8/30) -> 3750 | J8: =IF(F8="分期",D8*(E8-0.025)*2.5*H8/10,D8*(E8-0.025)*F8/30*H8) -> 2500
D9: 90000 | E9: 0.075 | F9: 15 | G9: 40986 | H9: 1 | I9: =IF(F9="分期",D9*E9*2.5*H9/10,D9*E9*F9*H9/30) -> 3375 | J9: =IF(F9="分期",D9*(E9-0.025)*2.5*H9/10,D9*(E9-0.025)*F9/30*H9) -> 2250
D10: 80000 | E10: 0.075 | F10: 15 | G10: 41001 | H10: 1 | I10: =IF(F10="分期",D10*E10*2.5*H10/10,D10*E10*F10*H10/30) -> 3000 | J10: =IF(F10="分期",D10*(E10-0.025)*2.5*H10/10,D10*(E10-0.025)*F10/30*H10) -> 2000
D11: 70000 | E11: 0.075 | F11: 15 | G11: 41016 | H11: 2 | I11: =IF(F11="分期",D11*E11*2.5*H11/10,D11*E11*F11*H11/30) -> 5250 | J11: =IF(F11="分期",D11*(E11-0.025)*2.5*H11/10,D11*(E11-0.025)*F11/30*H11) -> 3500
D12: 60000 | E12: 0.075 | F12: 15 | G12: 41046 | H12: 1 | I12: =IF(F12="分期",D12*E12*2.5*H12/10,D12*E12*F12*H12/30) -> 2250 | J12: =IF(F12="分期",D12*(E12-0.025)*2.5*H12/10,D12*(E12-0.025)*F12/30*H12) -> 1500
A13: 3 | B13: 5(B) | C13: 熊明興 | D13: 110000 | E13: 0.075 | F13: 15 | G13: 40836 | H13: 3 | I13: =IF(F13="分期",D13*E13*2.5*H13/10,D13*E13*F13*H13/30) -> 12375 | J13: =IF(F13="分期",D13*(E13-0.025)*2.5*H13/10,D13*(E13-0.025)*F13/30*H13) -> 8250 | K13: 第3頁
A14: 4 | B14: 7(B) | C14: 陳明傳 | D14: 175000 | E14: 0.075 | F14: 15 | G14: 40836 | H14: 2 | I14: =IF(F14="分期",D14*E14*2.5*H14/10,D14*E14*F14*H14/30) -> 13125 | J14: =IF(F14="分期",D14*(E14-0.025)*2.5*H14/10,D14*(E14-0.025)*F14/30*H14) -> 8750 | K14: 第4頁 | L14: 起訴書誤載姓名為「陳明博」
D15: 165000 | E15: 0.075 | F15: 15 | G15: 40896 | H15: 2 | I15: =IF(F15="分期",D15*E15*2.5*H15/10,D15*E15*F15*H15/30) -> 12375 | J15: =IF(F15="分期",D15*(E15-0.025)*2.5*H15/10,D15*(E15-0.025)*F15/30*H15) -> 8250
D16: 150000 | E16: 0.075 | F16: 15 | G16: 40926 | H16: 3 | I16: =IF(F16="分期",D16*E16*2.5*H16/10,D16*E16*F16*H16/30) -> 16875 | J16: =IF(F16="分期",D16*(E16-0.025)*2.5*H16/10,D16*(E16-0.025)*F16/30*H16) -> 11250
D17: 155000 | E17: 0.075 | F17: 15 | G17: 40971 | H17: 2 | I17: =IF(F17="分期",D17*E17*2.5*H17/10,D17*E17*F17*H17/30) -> 11625 | J17: =IF(F17="分期",D17*(E17-0.025)*2.5*H17/10,D17*(E17-0.025)*F17/30*H17) -> 7750
D18: 150000 | E18: 0.075 | F18: 15 | G18: 41001 | H18: 1 | I18: =IF(F18="分期",D18*E18*2.5*H18/10,D18*E18*F18*H18/30) -> 5625 | J18: =IF(F18="分期",D18*(E18-0.025)*2.5*H18/10,D18*(E18-0.025)*F18/30*H18) -> 3750
D19: 155000 | E19: 0.075 | F19: 15 | G19: 41016 | H19: 1 | I19: =IF(F19="分期",D19*E19*2.5*H19/10,D19*E19*F19*H19/30) -> 5812.5 | J19: =IF(F19="分期",D19*(E19-0.025)*2.5*H19/10,D19*(E19-0.025)*F19/30*H19) -> 3875
D20: 145000 | E20: 0.075 | F20: 15 | G20: 41031 | H20: 1 | I20: =IF(F20="分期",D20*E20*2.5*H20/10,D20*E20*F20*H20/30) -> 5437.5 | J20: =IF(F20="分期",D20*(E20-0.025)*2.5*H20/10,D20*(E20-0.025)*F20/30*H20) -> 3625
D21: 140000 | E21: 0.075 | F21: 15 | G21: 41046 | H21: 1 | I21: =IF(F21="分期",D21*E21*2.5*H21/10,D21*E21*F21*H21/30) -> 5250 | J21: =IF(F21="分期",D21*(E21-0.025)*2.5*H21/10,D21*(E21-0.025)*F21/30*H21) -> 3500
D22: 130000 | E22: 0.075 | F22: 15 | G22: 41061 | H22: 1 | I22: =IF(F22="分期",D22*E22*2.5*H22/10,D22*E22*F22*H22/30) -> 4875 | J22: =IF(F22="分期",D22*(E22-0.025)*2.5*H22/10,D22*(E22-0.025)*F22/30*H22) -> 3250
D23: 120000 | E23: 0.075 | F23: 15 | G23: 41076 | H23: 3 | I23: =IF(F23="分期",D23*E23*2.5*H23/10,D23*E23*F23*H23/30) -> 13500 | J23: =IF(F23="分期",D23*(E23-0.025)*2.5*H23/10,D23*(E23-0.025)*F23/30*H23) -> 9000
D24: 10000 | E24: 0.07 | F24: 分期 | G24: 41115 | H24: 10 | I24: =IF(F24="分期",D24*E24*2.5*H24/10,D24*E24*F24*H24/30) -> 1750 | J24: =IF(F24="分期",D24*(E24-0.025)*2.5*H24/10,D24*(E24-0.025)*F24/30*H24) -> 1125
D25: 110000 | E25: 0.075 | F25: 15 | G25: 41121 | H25: 9 | I25: =IF(F25="分期",D25*E25*2.5*H25/10,D25*E25*F25*H25/30) -> 37125 | J25: =IF(F25="分期",D25*(E25-0.025)*2.5*H25/10,D25*(E25-0.025)*F25/30*H25) -> 24750
D26: 10000 | E26: 0.07 | F26: 分期 | G26: 41171 | H26: 10 | I26: =IF(F26="分期",D26*E26*2.5*H26/10,D26*E26*F26*H26/30) -> 1750 | J26: =IF(F26="分期",D26*(E26-0.025)*2.5*H26/10,D26*(E26-0.025)*F26/30*H26) -> 1125
D27: 10000 | E27: 0.07 | F27: 分期 | G27: 41207 | H27: 10 | I27: =IF(F27="分期",D27*E27*2.5*H27/10,D27*E27*F27*H27/30) -> 1750 | J27: =IF(F27="分期",D27*(E27-0.025)*2.5*H27/10,D27*(E27-0.025)*F27/30*H27) -> 1125
D28: 10000 | E28: 0.07 | F28: 分期 | G28: 41222 | H28: 10 | I28: =IF(F28="分期",D28*E28*2.5*H28/10,D28*E28*F28*H28/30) -> 1750 | J28: =IF(F28="分期",D28*(E28-0.025)*2.5*H28/10,D28*(E28-0.025)*F28/30*H28) -> 1125
D29: 90000 | E29: 0.075 | F29: 15 | G29: 41241 | H29: 5 | I29: =IF(F29="分期",D29*E29*2.5*H29/10,D29*E29*F29*H29/30) -> 16875 | J29: =IF(F29="分期",D29*(E29-0.025)*2.5*H29/10,D29*(E29-0.025)*F29/30*H29) -> 11250 | L29: （註2）
D30: 10000 | E30: 0.07 | F30: 分期 | G30: 41253 | H30: 7 | I30: =IF(F30="分期",D30*E30*2.5*H30/10,D30*E30*F30*H30/30) -> 1225 | J30: =IF(F30="分期",D30*(E30-0.025)*2.5*H30/10,D30*(E30-0.025)*F30/30*H30) -> 787.5 | L30: （註2）
D31: 10000 | E31: 0.07 | F31: 分期 | G31: 41271 | H31: 3 | I31: =IF(F31="分期",D31*E31*2.5*H31/10,D31*E31*F31*H31/30) -> 525 | J31: =IF(F31="分期",D31*(E31-0.025)*2.5*H31/10,D31*(E31-0.025)*F31/30*H31) -> 337.5
A32: 5 | B32: 9(B) | C32: 張志惠 | D32: 10000 | E32: 0.07 | F32: 分期 | G32: 40882 | H32: 10 | I32: =IF(F32="分期",D32*E32*2.5*H32/10,D32*E32*F32*H32/30) -> 1750 | J32: =IF(F32="分期",D32*(E32-0.025)*2.5*H32/10,D32*(E32-0.025)*F32/30*H32) -> 1125 | K32: 第5頁
D33: 10000 | E33: 0.07 | F33: 分期 | G33: 40949 | H33: 10 | I33: =IF(F33="分期",D33*E33*2.5*H33/10,D33*E33*F33*H33/30) -> 1750 | J33: =IF(F33="分期",D33*(E33-0.025)*2.5*H33/10,D33*(E33-0.025)*F33/30*H33) -> 1125
D34: 255000 | E34: 0.075 | F34: 15 | G34: 41029 | H34: 19 | I34: =IF(F34="分期",D34*E34*2.5*H34/10,D34*E34*F34*H34/30) -> 181687.5 | J34: =IF(F34="分期",D34*(E34-0.025)*2.5*H34/10,D34*(E34-0.025)*F34/30*H34) -> 121125 | L34: （註2）
D35: 100000 | E35: 0.075 | F35: 15 | G35: 41067 | H35: 15 | I35: =IF(F35="分期",D35*E35*2.5*H35/10,D35*E35*F35*H35/30) -> 56250 | J35: =IF(F35="分期",D35*(E35-0.025)*2.5*H35/10,D35*(E35-0.025)*F35/30*H35) -> 37500
D36: 205000 | E36: 0.075 | F36: 15 | G36: 41202 | H36: 13 | I36: =IF(F36="分期",D36*E36*2.5*H36/10,D36*E36*F36*H36/30) -> 99937.5 | J36: =IF(F36="分期",D36*(E36-0.025)*2.5*H36/10,D36*(E36-0.025)*F36/30*H36) -> 66625
A37: 6 | B37: 11(B) | C37: 王寶珠 | D37: 235000 | E37: 0.075 | F37: 15 | G37: 40836 | H37: 31 | I37: =IF(F37="分期",D37*E37*2.5*H37/10,D37*E37*F37*H37/30) -> 273187.5 | J37: =IF(F37="分期",D37*(E37-0.025)*2.5*H37/10,D37*(E37-0.025)*F37/30*H37) -> 182125 | K37: 第6頁
A38: 7 | B38: 13(B) | C38: 陳文輝 | D38: 145000 | E38: 0.075 | F38: 15 | G38: 40836 | H38: 5 | I38: =IF(F38="分期",D38*E38*2.5*H38/10,D38*E38*F38*H38/30) -> 27187.5 | J38: =IF(F38="分期",D38*(E38-0.025)*2.5*H38/10,D38*(E38-0.025)*F38/30*H38) -> 18125 | K38: 第7頁
A39: 8 | B39: 15(B) | C39: 陳建龍 | D39: 25000 | E39: 0.075 | F39: 15 | G39: 40837 | H39: 2 | I39: =IF(F39="分期",D39*E39*2.5*H39/10,D39*E39*F39*H39/30) -> 1875 | J39: =IF(F39="分期",D39*(E39-0.025)*2.5*H39/10,D39*(E39-0.025)*F39/30*H39) -> 1250 | K39: 第8頁
D40: 130000 | E40: 0.075 | F40: 15 | G40: 40866 | H40: 7 | I40: =IF(F40="分期",D40*E40*2.5*H40/10,D40*E40*F40*H40/30) -> 34125 | J40: =IF(F40="分期",D40*(E40-0.025)*2.5*H40/10,D40*(E40-0.025)*F40/30*H40) -> 22750
D41: 20000 | E41: 0.075 | F41: 15 | G41: 40868 | H41: 9 | I41: =IF(F41="分期",D41*E41*2.5*H41/10,D41*E41*F41*H41/30) -> 6750 | J41: =IF(F41="分期",D41*(E41-0.025)*2.5*H41/10,D41*(E41-0.025)*F41/30*H41) -> 4500
A42: 9 | B42: 17(B) | C42: 吳文欽 | D42: 65000 | E42: 0.075 | F42: 15 | G42: 41203 | H42: 4 | I42: =IF(F42="分期",D42*E42*2.5*H42/10,D42*E42*F42*H42/30) -> 9750 | J42: =IF(F42="分期",D42*(E42-0.025)*2.5*H42/10,D42*(E42-0.025)*F42/30*H42) -> 6500 | K42: 第9頁
A43: 10 | B43: 19(B) | C43: 洪春寶 | D43: 205000 | E43: 0.075 | F43: 15 | G43: 41202 | H43: 2 | I43: =IF(F43="分期",D43*E43*2.5*H43/10,D43*E43*F43*H43/30) -> 15375 | J43: =IF(F43="分期",D43*(E43-0.025)*2.5*H43/10,D43*(E43-0.025)*F43/30*H43) -> 10250 | K43: 第10頁
A44: 11 | B44: 21(B) | C44: 林茂新 | D44: 20000 | E44: 0.075 | F44: 15 | G44: 40836 | H44: 9 | I44: =IF(F44="分期",D44*E44*2.5*H44/10,D44*E44*F44*H44/30) -> 6750 | J44: =IF(F44="分期",D44*(E44-0.025)*2.5*H44/10,D44*(E44-0.025)*F44/30*H44) -> 4500 | K44: 第11頁
D45: 30000 | E45: 0.075 | F45: 15 | G45: 40971 | H45: 7 | I45: =IF(F45="分期",D45*E45*2.5*H45/10,D45*E45*F45*H45/30) -> 7875 | J45: =IF(F45="分期",D45*(E45-0.025)*2.5*H45/10,D45*(E45-0.025)*F45/30*H45) -> 5250
D46: 20000 | E46: 0.075 | F46: 15 | G46: 41076 | H46: 7 | I46: =IF(F46="分期",D46*E46*2.5*H46/10,D46*E46*F46*H46/30) -> 5250 | J46: =IF(F46="分期",D46*(E46-0.025)*2.5*H46/10,D46*(E46-0.025)*F46/30*H46) -> 3500
A47: 12 | B47: 23(B) | C47: 李國安 | D47: 10000 | E47: 0.07 | F47: 分期 | G47: 40830 | H47: 10 | I47: =IF(F47="分期",D47*E47*2.5*H47/10,D47*E47*F47*H47/30) -> 1750 | J47: =IF(F47="分期",D47*(E47-0.025)*2.5*H47/10,D47*(E47-0.025)*F47/30*H47) -> 1125 | K47: 第12頁
D48: 30000 | E48: 0.075 | F48: 15 | G48: 40838 | H48: 7 | I48: =IF(F48="分期",D48*E48*2.5*H48/10,D48*E48*F48*H48/30) -> 7875 | J48: =IF(F48="分期",D48*(E48-0.025)*2.5*H48/10,D48*(E48-0.025)*F48/30*H48) -> 5250
D49: 10000 | E49: 0.07 | F49: 分期 | G49: 40934 | H49: 10 | I49: =IF(F49="分期",D49*E49*2.5*H49/10,D49*E49*F49*H49/30) -> 1750 | J49: =IF(F49="分期",D49*(E49-0.025)*2.5*H49/10,D49*(E49-0.025)*F49/30*H49) -> 1125
D50: 20000 | E50: 0.075 | F50: 15 | G50: 40943 | H50: 6 | I50: =IF(F50="分期",D50*E50*2.5*H50/10,D50*E50*F50*H50/30) -> 4500 | J50: =IF(F50="分期",D50*(E50-0.025)*2.5*H50/10,D50*(E50-0.025)*F50/30*H50) -> 3000
D51: 10000 | E51: 0.07 | F51: 分期 | G51: 41003 | H51: 10 | I51: =IF(F51="分期",D51*E51*2.5*H51/10,D51*E51*F51*H51/30) -> 1750 | J51: =IF(F51="分期",D51*(E51-0.025)*2.5*H51/10,D51*(E51-0.025)*F51/30*H51) -> 1125
A52: 13 | B52: 25(B) | C52: 謝建男 | D52: 20000 | E52: 0.07 | F52: 分期 | G52: 40871 | H52: 10 | I52: =IF(F52="分期",D52*E52*2.5*H52/10,D52*E52*F52*H52/30) -> 3500 | J52: =IF(F52="分期",D52*(E52-0.025)*2.5*H52/10,D52*(E52-0.025)*F52/30*H52) -> 2250 | K52: 第13頁
D53: 20000 | E53: 0.07 | F53: 分期 | G53: 40929 | H53: 10 | I53: =IF(F53="分期",D53*E53*2.5*H53/10,D53*E53*F53*H53/30) -> 3500 | J53: =IF(F53="分期",D53*(E53-0.025)*2.5*H53/10,D53*(E53-0.025)*F53/30*H53) -> 2250
D54: 20000 | E54: 0.07 | F54: 分期 | G54: 40984 | H54: 10 | I54: =IF(F54="分期",D54*E54*2.5*H54/10,D54*E54*F54*H54/30) -> 3500 | J54: =IF(F54="分期",D54*(E54-0.025)*2.5*H54/10,D54*(E54-0.025)*F54/30*H54) -> 2250
D55: 20000 | E55: 0.075 | F55: 15 | G55: 41001 | H55: 15 | I55: =IF(F55="分期",D55*E55*2.5*H55/10,D55*E55*F55*H55/30) -> 11250 | J55: =IF(F55="分期",D55*(E55-0.025)*2.5*H55/10,D55*(E55-0.025)*F55/30*H55) -> 7500
D56: 20000 | E56: 0.07 | F56: 分期 | G56: 41052 | H56: 10 | I56: =IF(F56="分期",D56*E56*2.5*H56/10,D56*E56*F56*H56/30) -> 3500 | J56: =IF(F56="分期",D56*(E56-0.025)*2.5*H56/10,D56*(E56-0.025)*F56/30*H56) -> 2250
D57: 20000 | E57: 0.07 | F57: 分期 | G57: 41101 | H57: 10 | I57: =IF(F57="分期",D57*E57*2.5*H57/10,D57*E57*F57*H57/30) -> 3500 | J57: =IF(F57="分期",D57*(E57-0.025)*2.5*H57/10,D57*(E57-0.025)*F57/30*H57) -> 2250
D58: 20000 | E58: 0.07 | F58: 分期 | G58: 41148 | H58: 10 | I58: =IF(F58="分期",D58*E58*2.5*H58/10,D58*E58*F58*H58/30) -> 3500 | J58: =IF(F58="分期",D58*(E58-0.025)*2.5*H58/10,D58*(E58-0.025)*F58/30*H58) -> 2250
D59: 20000 | E59: 0.07 | F59: 分期 | G59: 41190 | H59: 10 | I59: =IF(F59="分期",D59*E59*2.5*H59/10,D59*E59*F59*H59/30) -> 3500 | J59: =IF(F59="分期",D59*(E59-0.025)*2.5*H59/10,D59*(E59-0.025)*F59/30*H59) -> 2250
D60: 20000 | E60: 0.075 | F60: 15 | G60: 41226 | H60: 4 | I60: =IF(F60="分期",D60*E60*2.5*H60/10,D60*E60*F60*H60/30) -> 3000 | J60: =IF(F60="分期",D60*(E60-0.025)*2.5*H60/10,D60*(E60-0.025)*F60/30*H60) -> 2000
D61: 20000 | E61: 0.07 | F61: 分期 | G61: 41247 | H61: 8 | I61: =IF(F61="分期",D61*E61*2.5*H61/10,D61*E61*F61*H61/30) -> 2800 | J61: =IF(F61="分期",D61*(E61-0.025)*2.5*H61/10,D61*(E61-0.025)*F61/30*H61) -> 1800 | L61: （註2）
A62: 14 | B62: 27(B) | C62: 涂俊男 | D62: 50000 | E62: 0.075 | F62: 15 | G62: 40842 | H62: 31 | I62: =IF(F62="分期",D62*E62*2.5*H62/10,D62*E62*F62*H62/30) -> 58125 | J62: =IF(F62="分期",D62*(E62-0.025)*2.5*H62/10,D62*(E62-0.025)*F62/30*H62) -> 38750 | K62: 第14頁
D63: 10000 | E63: 0.07 | F63: 分期 | G63: 41030 | H63: 10 | I63: =IF(F63="分期",D63*E63*2.5*H63/10,D63*E63*F63*H63/30) -> 1750 | J63: =IF(F63="分期",D63*(E63-0.025)*2.5*H63/10,D63*(E63-0.025)*F63/30*H63) -> 1125
D64: 10000 | E64: 0.07 | F64: 分期 | G64: 41078 | H64: 2 | I64: =IF(F64="分期",D64*E64*2.5*H64/10,D64*E64*F64*H64/30) -> 350 | J64: =IF(F64="分期",D64*(E64-0.025)*2.5*H64/10,D64*(E64-0.025)*F64/30*H64) -> 225
A65: 15 | B65: 29(B) | C65: 蔡鑫山 | D65: 40000 | E65: 0.075 | F65: 15 | G65: 40844 | H65: 10 | I65: =IF(F65="分期",D65*E65*2.5*H65/10,D65*E65*F65*H65/30) -> 15000 | J65: =IF(F65="分期",D65*(E65-0.025)*2.5*H65/10,D65*(E65-0.025)*F65/30*H65) -> 10000 | K65: 第15頁
D66: 10000 | E66: 0.07 | F66: 分期 | G66: 40983 | H66: 10 | I66: =IF(F66="分期",D66*E66*2.5*H66/10,D66*E66*F66*H66/30) -> 1750 | J66: =IF(F66="分期",D66*(E66-0.025)*2.5*H66/10,D66*(E66-0.025)*F66/30*H66) -> 1125
D67: 10000 | E67: 0.07 | F67: 分期 | G67: 40990 | H67: 10 | I67: =IF(F67="分期",D67*E67*2.5*H67/10,D67*E67*F67*H67/30) -> 1750 | J67: =IF(F67="分期",D67*(E67-0.025)*2.5*H67/10,D67*(E67-0.025)*F67/30*H67) -> 1125
D68: 30000 | E68: 0.075 | F68: 15 | G68: 40991 | H68: 4 | I68: =IF(F68="分期",D68*E68*2.5*H68/10,D68*E68*F68*H68/30) -> 4500 | J68: =IF(F68="分期",D68*(E68-0.025)*2.5*H68/10,D68*(E68-0.025)*F68/30*H68) -> 3000
D69: 10000 | E69: 0.07 | F69: 分期 | G69: 41059 | H69: 10 | I69: =IF(F69="分期",D69*E69*2.5*H69/10,D69*E69*F69*H69/30) -> 1750 | J69: =IF(F69="分期",D69*(E69-0.025)*2.5*H69/10,D69*(E69-0.025)*F69/30*H69) -> 1125
D70: 20000 | E70: 0.075 | F70: 15 | G70: 41068 | H70: 6 | I70: =IF(F70="分期",D70*E70*2.5*H70/10,D70*E70*F70*H70/30) -> 4500 | J70: =IF(F70="分期",D70*(E70-0.025)*2.5*H70/10,D70*(E70-0.025)*F70/30*H70) -> 3000
D71: 20000 | E71: 0.075 | F71: 15 | G71: 41122 | H71: 8 | I71: =IF(F71="分期",D71*E71*2.5*H71/10,D71*E71*F71*H71/30) -> 6000 | J71: =IF(F71="分期",D71*(E71-0.025)*2.5*H71/10,D71*(E71-0.025)*F71/30*H71) -> 4000
D72: 50000 | E72: 0.075 | F72: 15 | G72: 41149 | H72: 6 | I72: =IF(F72="分期",D72*E72*2.5*H72/10,D72*E72*F72*H72/30) -> 11250 | J72: =IF(F72="分期",D72*(E72-0.025)*2.5*H72/10,D72*(E72-0.025)*F72/30*H72) -> 7500
D73: 20000 | E73: 0.07 | F73: 分期 | G73: 41180 | H73: 10 | I73: =IF(F73="分期",D73*E73*2.5*H73/10,D73*E73*F73*H73/30) -> 3500 | J73: =IF(F73="分期",D73*(E73-0.025)*2.5*H73/10,D73*(E73-0.025)*F73/30*H73) -> 2250
D74: 20000 | E74: 0.07 | F74: 分期 | G74: 41222 | H74: 10 | I74: =IF(F74="分期",D74*E74*2.5*H74/10,D74*E74*F74*H74/30) -> 3500 | J74: =IF(F74="分期",D74*(E74-0.025)*2.5*H74/10,D74*(E74-0.025)*F74/30*H74) -> 2250 | L74: （註2）
D75: 30000 | E75: 0.075 | F75: 15 | G75: 41239 | H75: 4 | I75: =IF(F75="分期",D75*E75*2.5*H75/10,D75*E75*F75*H75/30) -> 4500 | J75: =IF(F75="分期",D75*(E75-0.025)*2.5*H75/10,D75*(E75-0.025)*F75/30*H75) -> 3000
D76: 20000 | E76: 0.075 | F76: 15 | G76: 41257 | H76: 3 | I76: =IF(F76="分期",D76*E76*2.5*H76/10,D76*E76*F76*H76/30) -> 2250 | J76: =IF(F76="分期",D76*(E76-0.025)*2.5*H76/10,D76*(E76-0.025)*F76/30*H76) -> 1500
A77: 16 | B77: 31(B) | C77: 梁錦昌 | D77: 50000 | E77: 0.075 | F77: 15 | G77: 40859 | H77: 29 | I77: =IF(F77="分期",D77*E77*2.5*H77/10,D77*E77*F77*H77/30) -> 54375 | J77: =IF(F77="分期",D77*(E77-0.025)*2.5*H77/10,D77*(E77-0.025)*F77/30*H77) -> 36250 | K77: 第16頁
A78: 17 | B78: 33(B) | C78: 蔡培火 | D78: 130000 | E78: 0.075 | F78: 15 | G78: 40863 | H78: 3 | I78: =IF(F78="分期",D78*E78*2.5*H78/10,D78*E78*F78*H78/30) -> 14625 | J78: =IF(F78="分期",D78*(E78-0.025)*2.5*H78/10,D78*(E78-0.025)*F78/30*H78) -> 9750 | K78: 第17頁
D79: 10000 | E79: 0.07 | F79: 分期 | G79: 40899 | H79: 10 | I79: =IF(F79="分期",D79*E79*2.5*H79/10,D79*E79*F79*H79/30) -> 1750 | J79: =IF(F79="分期",D79*(E79-0.025)*2.5*H79/10,D79*(E79-0.025)*F79/30*H79) -> 1125
D80: 120000 | E80: 0.075 | F80: 15 | G80: 40908 | H80: 1 | I80: =IF(F80="分期",D80*E80*2.5*H80/10,D80*E80*F80*H80/30) -> 4500 | J80: =IF(F80="分期",D80*(E80-0.025)*2.5*H80/10,D80*(E80-0.025)*F80/30*H80) -> 3000
D81: 10000 | E81: 0.07 | F81: 分期 | G81: 40914 | H81: 10 | I81: =IF(F81="分期",D81*E81*2.5*H81/10,D81*E81*F81*H81/30) -> 1750 | J81: =IF(F81="分期",D81*(E81-0.025)*2.5*H81/10,D81*(E81-0.025)*F81/30*H81) -> 1125
D82: 110000 | E82: 0.075 | F82: 15 | G82: 40923 | H82: 7 | I82: =IF(F82="分期",D82*E82*2.5*H82/10,D82*E82*F82*H82/30) -> 28875 | J82: =IF(F82="分期",D82*(E82-0.025)*2.5*H82/10,D82*(E82-0.025)*F82/30*H82) -> 19250
A83: 18 | B83: 2(B) | C83: 劉林榮 | D83: 235000 | E83: 0.075 | F83: 15 | G83: 40836 | H83: 3 | I83: =IF(F83="分期",D83*E83*2.5*H83/10,D83*E83*F83*H83/30) -> 26437.5 | J83: =IF(F83="分期",D83*(E83-0.025)*2.5*H83/10,D83*(E83-0.025)*F83/30*H83) -> 17625 | K83: 第18頁
D84: 220000 | E84: 0.075 | F84: 15 | G84: 40881 | H84: 1 | I84: =IF(F84="分期",D84*E84*2.5*H84/10,D84*E84*F84*H84/30) -> 8250 | J84: =IF(F84="分期",D84*(E84-0.025)*2.5*H84/10,D84*(E84-0.025)*F84/30*H84) -> 5500
D85: 210000 | E85: 0.075 | F85: 15 | G85: 40896 | H85: 5 | I85: =IF(F85="分期",D85*E85*2.5*H85/10,D85*E85*F85*H85/30) -> 39375 | J85: =IF(F85="分期",D85*(E85-0.025)*2.5*H85/10,D85*(E85-0.025)*F85/30*H85) -> 26250
D86: 190000 | E86: 0.075 | F86: 15 | G86: 40971 | H86: 3 | I86: =IF(F86="分期",D86*E86*2.5*H86/10,D86*E86*F86*H86/30) -> 21375 | J86: =IF(F86="分期",D86*(E86-0.025)*2.5*H86/10,D86*(E86-0.025)*F86/30*H86) -> 14250
D87: 170000 | E87: 0.075 | F87: 15 | G87: 41016 | H87: 1 | I87: =IF(F87="分期",D87*E87*2.5*H87/10,D87*E87*F87*H87/30) -> 6375 | J87: =IF(F87="分期",D87*(E87-0.025)*2.5*H87/10,D87*(E87-0.025)*F87/30*H87) -> 4250
D88: 160000 | E88: 0.075 | F88: 15 | G88: 41031 | H88: 1 | I88: =IF(F88="分期",D88*E88*2.5*H88/10,D88*E88*F88*H88/30) -> 6000 | J88: =IF(F88="分期",D88*(E88-0.025)*2.5*H88/10,D88*(E88-0.025)*F88/30*H88) -> 4000
D89: 150000 | E89: 0.075 | F89: 15 | G89: 41046 | H89: 1 | I89: =IF(F89="分期",D89*E89*2.5*H89/10,D89*E89*F89*H89/30) -> 5625 | J89: =IF(F89="分期",D89*(E89-0.025)*2.5*H89/10,D89*(E89-0.025)*F89/30*H89) -> 3750
D90: 130000 | E90: 0.075 | F90: 15 | G90: 41061 | H90: 1 | I90: =IF(F90="分期",D90*E90*2.5*H90/10,D90*E90*F90*H90/30) -> 4875 | J90: =IF(F90="分期",D90*(E90-0.025)*2.5*H90/10,D90*(E90-0.025)*F90/30*H90) -> 3250
D91: 120000 | E91: 0.075 | F91: 15 | G91: 41076 | H91: 3 | I91: =IF(F91="分期",D91*E91*2.5*H91/10,D91*E91*F91*H91/30) -> 13500 | J91: =IF(F91="分期",D91*(E91-0.025)*2.5*H91/10,D91*(E91-0.025)*F91/30*H91) -> 9000
D92: 100000 | E92: 0.075 | F92: 15 | G92: 41121 | H92: 1 | I92: =IF(F92="分期",D92*E92*2.5*H92/10,D92*E92*F92*H92/30) -> 3750 | J92: =IF(F92="分期",D92*(E92-0.025)*2.5*H92/10,D92*(E92-0.025)*F92/30*H92) -> 2500
D93: 95000 | E93: 0.075 | F93: 15 | G93: 41136 | H93: 3 | I93: =IF(F93="分期",D93*E93*2.5*H93/10,D93*E93*F93*H93/30) -> 10687.5 | J93: =IF(F93="分期",D93*(E93-0.025)*2.5*H93/10,D93*(E93-0.025)*F93/30*H93) -> 7125
D94: 70000 | E94: 0.075 | F94: 15 | G94: 41181 | H94: 1 | I94: =IF(F94="分期",D94*E94*2.5*H94/10,D94*E94*F94*H94/30) -> 2625 | J94: =IF(F94="分期",D94*(E94-0.025)*2.5*H94/10,D94*(E94-0.025)*F94/30*H94) -> 1750
A95: 19 | B95: 4(B) | C95: 林育鋒 | D95: 100000 | E95: 0.075 | F95: 15 | G95: 40836 | H95: 3 | I95: =IF(F95="分期",D95*E95*2.5*H95/10,D95*E95*F95*H95/30) -> 11250 | J95: =IF(F95="分期",D95*(E95-0.025)*2.5*H95/10,D95*(E95-0.025)*F95/30*H95) -> 7500 | K95: 第19頁
D96: 90000 | E96: 0.075 | F96: 15 | G96: 40881 | H96: 2 | I96: =IF(F96="分期",D96*E96*2.5*H96/10,D96*E96*F96*H96/30) -> 6750 | J96: =IF(F96="分期",D96*(E96-0.025)*2.5*H96/10,D96*(E96-0.025)*F96/30*H96) -> 4500
D97: 100000 | E97: 0.075 | F97: 15 | G97: 40911 | H97: 1 | I97: =IF(F97="分期",D97*E97*2.5*H97/10,D97*E97*F97*H97/30) -> 3750 | J97: =IF(F97="分期",D97*(E97-0.025)*2.5*H97/10,D97*(E97-0.025)*F97/30*H97) -> 2500
D98: 110000 | E98: 0.075 | F98: 15 | G98: 40926 | H98: 3 | I98: =IF(F98="分期",D98*E98*2.5*H98/10,D98*E98*F98*H98/30) -> 12375 | J98: =IF(F98="分期",D98*(E98-0.025)*2.5*H98/10,D98*(E98-0.025)*F98/30*H98) -> 8250
D99: 90000 | E99: 0.075 | F99: 15 | G99: 40971 | H99: 1 | I99: =IF(F99="分期",D99*E99*2.5*H99/10,D99*E99*F99*H99/30) -> 3375 | J99: =IF(F99="分期",D99*(E99-0.025)*2.5*H99/10,D99*(E99-0.025)*F99/30*H99) -> 2250
D100: 80000 | E100: 0.075 | F100: 15 | G100: 40986 | H100: 1 | I100: =IF(F100="分期",D100*E100*2.5*H100/10,D100*E100*F100*H100/30) -> 3000 | J100: =IF(F100="分期",D100*(E100-0.025)*2.5*H100/10,D100*(E100-0.025)*F100/30*H100) -> 2000
...

Sheet 元崗當鋪
A1: 編號 | B1: 姓名 | C1: 扣息日期 | D1: 扣息金額 | E1: 卷證出處 （註1） | F1: 備註
A2: 1 | B2: 尹必偉 | C2: 41096 | D2: =6940+755 -> 7695 | E2: 扣押物箱內編號19-3-1第1頁
C3: 41102 | D3: =1690+190 -> 1880 | E3: 扣押物箱內編號19-3-1第1頁
C4: 41112 | D4: 5265 | E4: 扣押物箱內編號19-3-1第1頁
C5: 41120 | D5: =190+375 -> 565 | E5: 扣押物箱內編號19-3-1第1頁
C6: 41123 | D6: 1875 | E6: 扣押物箱內編號19-3-6第34頁
C7: 41125 | D7: 945 | E7: 扣押物箱內編號19-3-6第34頁
C8: 41129 | D8: 1690 | E8: 扣押物箱內編號19-3-6第34頁
C9: 41134 | D9: 755 | E9: 扣押物箱內編號19-3-6第34頁
C10: 41137 | D10: 1875 | E10: 扣押物箱內編號19-3-6第34頁
C11: 41141 | D11: 945 | E11: 扣押物箱內編號19-3-6第34頁
C12: 41145 | D12: 1690 | E12: 扣押物箱內編號19-3-6第34頁
C13: 41148 | D13: 190 | E13: 扣押物箱內編號19-3-6第34頁
C14: 41150 | D14: 2440 | E14: 扣押物箱內編號19-3-6第34頁
C15: 41155 | D15: =190+755+1690 -> 2635 | E15: 扣押物箱內編號19-3-6第33頁
C16: 41163 | D16: 190 | E16: 扣押物箱內編號19-3-6第33頁
C17: 41164 | D17: 375 | E17: 扣押物箱內編號19-3-6第33頁
C18: 41165 | D18: 190 | E18: 扣押物箱內編號19-3-6第33頁
C19: 41169 | D19: 1875 | E19: 扣押物箱內編號19-3-6第33頁
C20: 41170 | D20: 190 | E20: 扣押物箱內編號19-3-6第33頁
C21: 41172 | D21: =755+1690 -> 2445 | E21: 扣押物箱內編號19-3-6第33頁
C22: 41179 | D22: =565+190 -> 755 | E22: 扣押物箱內編號19-3-6第33頁
C23: 41186 | D23: 2820 | E23: 扣押物箱內編號19-3-6第33頁
C24: 41191 | D24: 1690 | E24: 扣押物箱內編號19-3-6第33頁
C25: 41193 | D25: 190 | E25: 扣押物箱內編號19-3-6第33頁
C26: 41194 | D26: 375 | E26: 扣押物箱內編號19-3-6第33頁
C27: 41195 | D27: 190 | E27: 扣押物箱內編號19-3-6第33頁
C28: 41197 | D28: 1875 | E28: 扣押物箱內編號19-3-6第33頁
C29: 41200 | D29: =190+755+1690+565 -> 3200 | E29: 扣押物箱內編號19-3-6第33頁
C30: 41211 | D30: 2065 | E30: 扣押物箱內編號19-3-6第33頁
C31: 41215 | D31: 190 | E31: 扣押物箱內編號19-3-6第32頁
C32: 41232 | D32: 575 | E32: 扣押物箱內編號19-3-6第32頁
C33: 41284 | D33: 1125 | E33: 扣押物箱內編號19-21第15頁
C34: 41285 | D34: 1690 | E34: 扣押物箱內編號19-21第19頁
C35: 41285 | D35: 190 | E35: 扣押物箱內編號19-21第19頁
C36: 41285 | D36: 375 | E36: 扣押物箱內編號19-21第19頁
C37: 41285 | D37: 190 | E37: 扣押物箱內編號19-21第19頁
C38: 41285 | D38: 1875 | E38: 扣押物箱內編號19-21第19頁
A39: 2 | B39: 曾紹峰 | C39: 41159 | D39: 11250 | E39: 扣押物箱內編號19-3-1第2頁
C40: 41275 | D40: 28125 | E40: 扣押物箱內編號19-21第35頁
C41: 41286 | D41: 11250 | E41: 扣押物箱內編號19-21第45頁
A42: 3 | B42: 王武雄 | C42: 41103 | D42: 3565 | E42: 扣押物箱內編號19-3-1第11頁
C43: 41114 | D43: 3565 | E43: 扣押物箱內編號19-3-1第11頁
C44: 41130 | D44: 3565 | E44: 扣押物箱內編號19-3-2第37頁
C45: 41146 | D45: 3565 | E45: 扣押物箱內編號19-3-2第37頁
C46: 41162 | D46: 3565 | E46: 扣押物箱內編號19-3-3第28頁
C47: 41169 | D47: 1315 | E47: 扣押物箱內編號19-3-3第28頁
C48: 41177 | D48: 3565 | E48: 扣押物箱內編號19-3-3第28頁
C49: 41184 | D49: 750 | E49: 扣押物箱內編號19-3-4第66頁
C50: 41193 | D50: 3565 | E50: 扣押物箱內編號19-3-4第66頁
C51: 41197 | D51: 750 | E51: 扣押物箱內編號19-3-4第66頁
C52: 41205 | D52: 3565 | E52: 扣押物箱內編號19-3-4第66頁
C53: 41212 | D53: =375+750 -> 1125 | E53: 扣押物箱內編號19-3-4第66頁
C54: 41220 | D54: 3565 | E54: 扣押物箱內編號19-3-4第29頁
C55: 41229 | D55: 1125 | E55: 扣押物箱內編號19-3-4第29頁
C56: 41238 | D56: 3565 | E56: 扣押物箱內編號19-3-4第29頁
C57: 41242 | D57: 1125 | E57: 扣押物箱內編號19-3-4第29頁
C58: 41276 | D58: 3565 | E58: 扣押物箱內編號19-21第3頁
C59: 41276 | D59: 375 | E59: 扣押物箱內編號19-21第3頁
C60: 41276 | D60: 750 | E60: 扣押物箱內編號19-21第3頁
C61: 41283 | D61: 3565 | E61: 扣押物箱內編號19-21第13頁
C62: 41288 | D62: 375 | E62: 扣押物箱內編號19-21第22頁
C63: 41288 | D63: 750 | E63: 扣押物箱內編號19-21第22頁
A64: 4 | B64: 王南勳 | C64: 41112 | D64: 10500 | E64: 扣押物箱內編號19-3-1第31頁
C65: 41131 | D65: 15000 | E65: 扣押物箱內編號19-3-2第13頁
C66: 41150 | D66: 12000 | E66: 扣押物箱內編號19-3-2第13頁
C67: 41170 | D67: 7500 | E67: 扣押物箱內編號19-3-3第7頁
C68: 41180 | D68: 7500 | E68: 扣押物箱內編號19-3-3第7頁
C69: 41193 | D69: 7500 | E69: 扣押物箱內編號19-3-4第58頁
C70: 41206 | D70: 7500 | E70: 扣押物箱內編號19-3-4第58頁
C71: 41212 | D71: 7500 | E71: 扣押物箱內編號19-3-4第58頁
C72: 41274 | D72: 7500 | E72: 扣押物箱內編號19-3-6第16頁
C73: 41285 | D73: 4500 | E73: 扣押物箱內編號19-21第17頁
A74: 5 | B74: 江憲陽 | C74: 41122 | D74: 15195 | E74: 扣押物箱內編號19-3-6第21頁
C75: 41285 | D75: 5065 | E75: 扣押物箱內編號19-21第17頁
C76: 41285 | D76: 1125 | E76: 扣押物箱內編號19-21第17頁
A77: 6 | B77: 吳國宏 | C77: 41103 | D77: =565+565 -> 1130 | E77: 扣押物箱內編號19-3-1第24頁
C78: 41107 | D78: 1315 | E78: 扣押物箱內編號19-3-1第24頁
C79: 41113 | D79: 190 | E79: 扣押物箱內編號19-3-1第24頁
C80: 41117 | D80: 565 | E80: 扣押物箱內編號19-3-1第24頁
C81: 41121 | D81: 750 | E81: 扣押物箱內編號19-3-1第24頁
C82: 41135 | D82: 1505 | E82: 扣押物箱內編號19-3-2第6頁
C83: 41145 | D83: 755 | E83: 扣押物箱內編號19-3-2第6頁
C84: 41151 | D84: 750 | E84: 扣押物箱內編號19-3-2第6頁
C85: 41159 | D85: 755 | E85: 扣押物箱內編號19-3-3第32頁
A86: 7 | B86: 李希睿 | C86: 41163 | D86: 5625 | E86: 扣押物箱內編號19-3-3第10頁
C87: 41172 | D87: 7125 | E87: 扣押物箱內編號19-3-3第10頁
C88: 41178 | D88: 5625 | E88: 扣押物箱內編號19-3-3第10頁
C89: 41188 | D89: 7125 | E89: 扣押物箱內編號19-3-4第43頁
C90: 41189 | D90: 1125 | E90: 扣押物箱內編號19-3-4第43頁
C91: 41191 | D91: 1500 | E91: 扣押物箱內編號19-3-4第43頁
C92: 41195 | D92: 3000 | E92: 扣押物箱內編號19-3-4第43頁
C93: 41198 | D93: 375 | E93: 扣押物箱內編號19-3-4第43頁
C94: 41200 | D94: 375 | E94: 扣押物箱內編號19-3-4第43頁 | F94: 起訴書漏載
C95: 41202 | D95: 1875 | E95: 扣押物箱內編號19-3-4第43頁
C96: 41207 | D96: 4125 | E96: 扣押物箱內編號19-3-4第43頁
C97: 41212 | D97: 375 | E97: 扣押物箱內編號19-3-4第43頁
C98: 41281 | D98: 1125 | E98: 扣押物箱內編號19-21第9頁
C99: 41281 | D99: 375 | E99: 扣押物箱內編號19-21第9頁
C100: 41284 | D100: 750 | E100: 扣押物箱內編號19-21第16頁
...

Sheet 蕭睿軒非免訴部分
A1: 編號 | B1: 姓名 | C1: 扣息日期 | D1: 扣息金額 | E1: 卷證出處 （註1） | F1: 備註
A2: 1 | B2: 尹必偉 | C2: 41284 | D2: 1125 | E2: 扣押物箱內編號19-21第15頁
C3: 41285 | D3: 1690 | E3: 扣押物箱內編號19-21第19頁
C4: 41285 | D4: 190 | E4: 扣押物箱內編號19-21第19頁
C5: 41285 | D5: 375 | E5: 扣押物箱內編號19-21第19頁
C6: 41285 | D6: 190 | E6: 扣押物箱內編號19-21第19頁
C7: 41285 | D7: 1875 | E7: 扣押物箱內編號19-21第19頁
A8: 2 | B8: 曾紹峰 | C8: 41286 | D8: 11250 | E8: 扣押物箱內編號19-21第45頁
A9: 3 | B9: 王武雄 | C9: 41283 | D9: 3565 | E9: 扣押物箱內編號19-21第13頁
C10: 41288 | D10: 375 | E10: 扣押物箱內編號19-21第22頁
C11: 41288 | D11: 750 | E11: 扣押物箱內編號19-21第22頁
A12: 4 | B12: 王南勳 | C12: 41285 | D12: 4500 | E12: 扣押物箱內編號19-21第17頁
A13: 5 | B13: 江憲陽 | C13: 41285 | D13: 5065 | E13: 扣押物箱內編號19-21第17頁
C14: 41285 | D14: 1125 | E14: 扣押物箱內編號19-21第17頁
A15: 7 | B15: 李希睿 | C15: 41284 | D15: 750 | E15: 扣押物箱內編號19-21第16頁
C16: 41284 | D16: 375 | E16: 扣押物箱內編號19-21第16頁
C17: 41284 | D17: 1875 | E17: 扣押物箱內編號19-21第16頁
C18: 41289 | D18: 375 | E18: 扣押物箱內編號19-21第25頁
C19: 41289 | D19: 375 | E19: 扣押物箱內編號19-21第25頁
C20: 41289 | D20: 375 | E20: 扣押物箱內編號19-21第25頁
C21: 41289 | D21: 375 | E21: 扣押物箱內編號19-21第25頁
C22: 41295 | D22: 1125 | E22: 扣押物箱內編號19-21第33頁
C23: 41295 | D23: 375 | E23: 扣押物箱內編號19-21第33頁
A24: 8 | B24: 李張安 | C24: 41285 | D24: 5440 | E24: 扣押物箱內編號19-21第44頁
C25: 41285 | D25: 375 | E25: 扣押物箱內編號19-21第44頁
C26: 41285 | D26: 1125 | E26: 扣押物箱內編號19-21第44頁
A27: 9 | B27: 沈源興 | C27: 41284 | D27: 190 | E27: 扣押物箱內編號19-21第15頁
C28: 41285 | D28: 1880 | E28: 扣押物箱內編號19-21第17頁
C29: 41285 | D29: 3750 | E29: 扣押物箱內編號19-21第17頁
C30: 41285 | D30: 750 | E30: 扣押物箱內編號19-21第17頁
A31: 10 | B31: 周玉秋 | C31: 41285 | D31: 2065 | E31: 扣押物箱內編號19-21第44頁
C32: 41285 | D32: 1880 | E32: 扣押物箱內編號19-21第44頁
C33: 41285 | D33: 190 | E33: 扣押物箱內編號19-21第44頁
C34: 41285 | D34: 1125 | E34: 扣押物箱內編號19-21第44頁
A35: 11 | B35: 杭永亮 | C35: 41283 | D35: 750 | E35: 扣押物箱內編號19-21第13頁
C36: 41283 | D36: 1500 | E36: 扣押物箱內編號19-21第13頁
C37: 41283 | D37: 1125 | E37: 扣押物箱內編號19-21第13頁
C38: 41283 | D38: 1875 | E38: 扣押物箱內編號19-21第13頁
C39: 41283 | D39: 750 | E39: 扣押物箱內編號19-21第13頁
C40: 41283 | D40: 750 | E40: 扣押物箱內編號19-21第13頁
C41: 41283 | D41: 375 | E41: 扣押物箱內編號19-21第13頁
C42: 41283 | D42: 1125 | E42: 扣押物箱內編號19-21第13頁
C43: 41293 | D43: 750 | E43: 扣押物箱內編號19-21第31頁
C44: 41293 | D44: 1500 | E44: 扣押物箱內編號19-21第31頁
C45: 41293 | D45: 1125 | E45: 扣押物箱內編號19-21第31頁
C46: 41293 | D46: 1875 | E46: 扣押物箱內編號19-21第31頁
C47: 41293 | D47: 750 | E47: 扣押物箱內編號19-21第31頁
... C50: 41293 | D50: 1125 | E50: 扣押物箱內編號19-21第31頁
A51: 13 | B51: 林俊寬 | C51: 41284 | D51: 375 | E51: 扣押物箱內編號19-21第15頁
C52: 41285 | D52: 190 | E52: 扣押物箱內編號19-21第19頁
C53: 41285 | D53: 375 | E53: 扣押物箱內編號19-21第19頁
C54: 41285 | D54: 750 | E54: 扣押物箱內編號19-21第19頁
C55: 41285 | D55: 375 | E55: 扣押物箱內編號19-21第19頁
C56: 41285 | D56: 2625 | E56: 扣押物箱內編號19-21第19頁
C57: 41285 | D57: 375 | E57: 扣押物箱內編號19-21第19頁
A58: 15 | B58: 林清山 | C58: 41291 | D58: 375 | E58: 扣押物箱內編號19-21第28頁
C59: 41295 | D59: 1875 | E59: 扣押物箱內編號19-21第32頁
A60: 16 | B60: 洪秋枝 | C60: 41285 | D60: 1125 | E60: 扣押物箱內編號19-21第44頁
C61: 41285 | D61: 1500 | E61: 扣押物箱內編號19-21第44頁
A62: 17 | B62: 紀力嘉 | C62: 41284 | D62: 10125 | E62: 扣押物箱內編號19-21第43頁
A63: 18 | B63: 涂清城 | C63: 41285 | D63: 3750 | E63: 扣押物箱內編號19-3-6第41頁 | F63: 起訴書漏載
C64: 41285 | D64: 750 | E64: 扣押物箱內編號19-21第17頁
C65: 41285 | D65: 1125 | E65: 扣押物箱內編號19-21第17頁
C66: 41285 | D66: 1875 | E66: 扣押物箱內編號19-21第17頁
C67: 41290 | D67: 2250 | E67: 扣押物箱內編號19-21第26頁
C68: 41290 | D68: 3375 | E68: 扣押物箱內編號19-21第26頁
C69: 41290 | D69: 3375 | E69: 扣押物箱內編號19-21第27頁
C70: 41290 | D70: 5625 | E70: 扣押物箱內編號19-21第27頁
A71: 19 | B71: 馬中興 | C71: 41285 | D71: 375 | E71: 扣押物箱內編號19-21第20頁
C72: 41285 | D72: 750 | E72: 扣押物箱內編號19-21第20頁
C73: 41285 | D73: 3375 | E73: 扣押物箱內編號19-21第20頁
A74: 20 | B74: 馬章軒 | C74: 41285 | D74: 1875 | E74: 扣押物箱內編號19-21第17頁
C75: 41285 | D75: 940 | E75: 扣押物箱內編號19-21第17頁
C76: 41285 | D76: 1125 | E76: 扣押物箱內編號19-21第17頁
A77: 21 | B77: 張木炎 | C77: 41285 | D77: 750 | E77: 扣押物箱內編號19-21第44頁
C78: 41285 | D78: 750 | E78: 扣押物箱內編號19-21第44頁
C79: 41285 | D79: 3000 | E79: 扣押物箱內編號19-21第44頁
A80: 22 | B80: 張志豪 | C80: 41284 | D80: 375 | E80: 扣押物箱內編號19-21第16頁
C81: 41286 | D81: 3750 | E81: 扣押物箱內編號19-21第45頁
C82: 41289 | D82: 1125 | E82: 扣押物箱內編號19-21第24頁
C83: 41289 | D83: 375 | E83: 扣押物箱內編號19-21第24頁
C84: 41291 | D84: 375 | E84: 扣押物箱內編號19-21第28頁
C85: 41291 | D85: 750 | E85: 扣押物箱內編號19-21第28頁
A86: 23 | B86: 張宗文 | C86: 41285 | D86: 9000 | E86: 扣押物箱內編號19-21第44頁
C87: 41285 | D87: 750 | E87: 扣押物箱內編號19-21第44頁
C88: 41285 | D88: 375 | E88: 扣押物箱內編號19-21第44頁
A89: 24 | B89: 張國文 | C89: 41283 | D89: 1875 | E89: 扣押物箱內編號19-21第14頁
C90: 41285 | D90: 1690 | E90: 扣押物箱內編號19-21第18頁
C91: 41286 | D91: 375 | E91: 扣押物箱內編號19-21第21頁
C92: 41288 | D92: 375 | E92: 扣押物箱內編號19-21第22頁
C93: 41291 | D93: 375 | E93: 扣押物箱內編號19-21第28頁
C94: 41292 | D94: 375 | E94: 扣押物箱內編號19-21第30頁
C95: 41292 | D95: 375 | E95: 扣押物箱內編號19-21第30頁
C96: 41292 | D96: 1875 | E96: 扣押物箱內編號19-21第30頁
C97: 41292 | D97: 190 | E97: 扣押物箱內編號19-21第30頁
C98: 41293 | D98: 1875 | E98: 扣押物箱內編號19-21第31頁
C99: 41295 | D99: 190 | E99: 扣押物箱內編號19-21第33頁
C100: 41295 | D100: 375 | E100: 扣押物箱內編號19-21第33頁
A101: 25 | B101: 張溪松 | C101: 41285 | D101: 375 | E101: 扣押物箱內編號19-21第17頁
C102: 41285 | D102: 375 | E102: 扣押物箱內編號19-21第17頁
...

Sheet 元喆當鋪
A1: 編號 | B1: 姓名 | C1: 繳款日期 | D1: 繳息金額 | E1: 摘要 | F1: 證據出處 （註1） | G1: 備註
A2: 1 | B2: 施能華 | C2: 41214 | D2: =3145-1275 -> 1870 | E2: 11/1 375 11/2 185 11/3 560 11/11 750 | F2: 第3頁
A3: 2 | B3: 林基坤 | C3: 41233 | D3: =3750+1125 -> 4875 | E3: 9/12 3750 9/26 1125 | F3: 第4頁
A4: 3 | B4: 戴應能 | C4: 41229 | D4: =2625+1125+375 -> 4125 | E4: 10/24 2625 10/28 1125 11/2 375 | F4: 第5頁
C5: 41232 | D5: 1125 | E5: 11/3 1125 | F5: 第5頁
C6: 41235 | D6: 1125 | E6: 11/5 1125 | F6: 第5頁
C7: 41238 | D7: 2625 | E7: 11/8 2625 | F7: 第5頁
C8: 41240 | D8: =1125+375+1125 -> 2625 | E8: 11/12 1125 11/17 375 11/18 1125 | F8: 第5頁
C9: 41243 | D9: =1125 -> 1125 | E9: 11/20 1125 | F9: 第5頁 | G9: 起訴書誤載繳款日期為「101/11/20」
C10: 41248 | D10: 4125 | E10: 11/23 2625 11/27 1125 12/2 375 | F10: 第5頁
C11: 41250 | D11: 1125 | E11: 12/3 1125 | F11: 第5頁
C12: 41251 | D12: 1125 | E12: 12/5 1125 | F12: 第5頁 | G12: 起訴書漏載
C13: 41255 | D13: 2625 | E13: 12/8 2625 | F13: 第5頁
C14: 41257 | D14: 1125 | E14: 12/12 1125 | F14: 第5頁
C15: 41260 | D15: 375 | E15: 12/17 375 | F15: 第5頁
C16: 41263 | D16: 1125 | E16: 12/18 1125 | F16: 第5頁
C17: 41267 | D17: =1125+2625 -> 3750 | E17: 12/20 1125 12/23 2625 | F17: 第5頁
C18: 41270 | D18: 1125 | E18: 12/27 1125 | F18: 第5頁
C19: 41275 | D19: 375 | E19: 1/1 375 | F19: 第5頁反面
C20: 41277 | D20: 1125 | E20: 1/2 1125 | F20: 第5頁反面
C21: 41279 | D21: 1125 | E21: 1/4 1125 | F21: 第5頁反面
C22: 41281 | D22: 2625 | E22: 1/7 2625 | F22: 第5頁反面
C23: 41286 | D23: =1125+375+1125+1125 -> 3750 | E23: 1/11 1125 1/6 375 1/17 1125 1/18 1125 | F23: 第5頁反面
C24: 41296 | D24: 2625 | E24: 1/22 2625 | F24: 第5頁反面
A25: 4 | B25: 蔡政儒 | C25: 41241 | D25: =4125+4125+4125+4125+2250+2250+2250+1310+1310+1310 -> 27180 | E25: 7/13 4125 7/28 4125 8/12 4125 8/27 4125 7/29 2250 8/13 2250 8/28 2250 8/3 1310 8/18 1310 9/2 1310 | F25: 第6頁
C26: 41274 | D26: =4125+4125+4125+2250+2250+1310+1310 -> 19495 | E26: 9/11 4125 9/26 4125 10/11 4125 9/12 2250 9/27 2250 9/17 1310 10/2 1310 | F26: 第6頁
A27: 5 | B27: 施純堯 | C27: 41229 | D27: 1875 | E27: 11/15 1875 | F27: 第7頁
C28: 41241 | D28: 1125 | E28: 11/28 1125 | F28: 第7頁
C29: 41243 | D29: 1875 | E29: 11/30 1875 | F29: 第7頁
C30: 41256 | D30: 1125 | E30: 12/13 1125 | F30: 第7頁
C31: 41260 | D31: 1875 | E31: 12/18 1875 | F31: 第7頁
C32: 41271 | D32: 1125 | E32: 12/28 1125 | F32: 第7頁
C33: 41274 | D33: 1875 | E33: 12/30 1875 | F33: 第7頁
C34: 41288 | D34: 1125 | E34: 1/12 1125 | F34: 第7頁反面
C35: 41290 | D35: 1875 | E35: 1/14 1875 | F35: 第7頁反面
A36: 6 | B36: 謝文誠 | C36: 41216 | D36: 185 | E36: 11/4 185 | F36: 第8頁
C37: 41219 | D37: 1125 | E37: 11/5 1125 | F37: 第8頁
C38: 41220 | D38: 375 | E38: 11/7 375 | F38: 第8頁
C39: 41223 | D39: =560+2250 -> 2810 | E39: 11/10 560 11/11 2250 | F39: 第8頁
C40: 41223 | D40: 1350 | E40: 11/10(3分) 1350 | F40: 第8頁
C41: 41225 | D41: 1875 | E41: 11/12 1875 | F41: 第8頁
C42: 41227 | D42: 375 | E42: 11/14 375 | F42: 第8頁
C43: 41232 | D43: 185 | E43: 11/19 185 | F43: 第8頁
C44: 41233 | D44: 1125 | E44: 11/20 1125 | F44: 第8頁
C45: 41235 | D45: 375 | E45: 11/22 375 | F45: 第8頁
C46: 41237 | D46: =560 -> 560 | E46: 11/25 560 | F46: 第8頁
C47: 41237 | D47: 1350 | E47: 11/25(3分)1350 | F47: 第8頁
C48: 41239 | D48: 2250 | E48: 11/26 2250 | F48: 第8頁
C49: 41240 | D49: 1875 | E49: 11/27 1875 | F49: 第8頁
C50: 41242 | D50: 375 | E50: 11/29 375 | F50: 第8頁
C51: 41247 | D51: 185 | E51: 12/4 185 | F51: 第8頁
C52: 41248 | D52: 1125 | E52: 12/5 1125 | F52: 第8頁
C53: 41250 | D53: 375 | E53: 12/7 375 | F53: 第8頁
C54: 41253 | D54: =560 -> 560 | E54: 12/10 560 | F54: 第8頁
C55: 41253 | D55: 1350 | E55: 12/10(3分)1350 | F55: 第8頁
C56: 41254 | D56: 2250 | E56: 12/11 2250 | F56: 第8頁
C57: 41255 | D57: 1875 | E57: 12/12 1875 | F57: 第8頁
C58: 41257 | D58: 375 | E58: 12/14 375 | F58: 第8頁
C59: 不明 | D59: 2245 | E59: 12/19 185 12/20 1125 12/22 375 12/25 560 | F59: 第8頁
C60: 不明 | D60: 1350 | E60: 12/25(3分)1350 | F60: 第8頁
C61: 不明 | D61: 2250 | E61: 12/26 2250 | F61: 第8頁
C62: 不明 | D62: 2250 | E62: 12/27 1875 12/29 375 | F62: 第8頁
C63: 不明 | D63: 185 | E63: 1/3 185 | F63: 第8頁反面
C64: 不明 | D64: 1500 | E64: 1/4 1125 1/6 375 | F64: 第8頁反面
C65: 不明 | D65: 1350 | E65: 1/9(3分)1350 | F65: 第8頁反面
A66: 7 | B66: 彭錦威 | C66: 41214 | D66: 375 | E66: 11/1 375 | F66: 第9頁
C67: 41223 | D67: =1125+1500 -> 2625 | E67: 11/8 1125 11/9 1500 | F67: 第9頁
C68: 41227 | D68: =375+2250 -> 2625 | E68: 11/11 375 11/12 2250 | F68: 第9頁
C69: 41232 | D69: 375 | E69: 11/16 375 | F69: 第9頁
C70: 不明 | D70: =1125+1500+375 -> 3000 | E70: 11/23 1125 11/24 1500 11/26 375 | F70: 第9頁
C71: 41241 | D71: 2250 | E71: 11/27 2250 | F71: 第9頁
C72: 41244 | D72: 375 | E72: 12/4 375 | F72: 第9頁
C73: 41255 | D73: =1125+1500+375 -> 3000 | E73: 12/8 1125 12/9 1500 12/11 375 | F73: 第9頁
C74: 41260 | D74: 2250 | E74: 12/12 2250 | F74: 第9頁
C75: 不明 | D75: 375 | E75: 12/16 375 | F75: 第9頁
C76: 41272 | D76: =1125+1500+375+2250+375 -> 5625 | E76: 12/23 1125 12/24 1500 12/26 375 12/27 2250 12/31 375 | F76: 第9頁
C77: 41285 | D77: 1125 | E77: 1/7 1125 | F77: 第9頁反面
C78: 41289 | D78: =1500+375 -> 1875 | E78: 1/8 1500 1/10 375 | F78: 第9頁反面
C79: 41293 | D79: =2250+375 -> 2625 | E79: 1/11 2250 1/15 375 | F79: 第9頁反面
A80: 8 | B80: 潘文龍 | C80: 41219 | D80: =1125+375 -> 1500 | E80: 11/3 1125 11/4 375 | F80: 第10頁
C81: 41222 | D81: 4125 | E81: 11/6 4125 | F81: 第10頁
C82: 41232 | D82: =1125+375 -> 1500 | E82: 11/18 1125 11/19 375 | F82: 第10頁
C83: 41239 | D83: 4125 | E83: 11/21 4125 | F83: 第10頁
C84: 41248 | D84: =1125+375 -> 1500 | E84: 12/3 1125 12/4 375 | F84: 第10頁
C85: 41268 | D85: =4125+1125+375+4125 -> 9750 | E85: 12/6 4125 12/18 1125 12/19 375 12/21 4125 | F85: 第10頁
C86: 41281 | D86: =1125+375 -> 1500 | E86: 1/2 1125 1/3 375 | F86: 第10頁反面
C87: 41287 | D87: 4125 | E87: 1/5 4125 | F87: 第10頁反面
C88: 41294 | D88: =1125+375 -> 1500 | E88: 1/17 1125 1/18 375 | F88: 第10頁反面
A89: 9 | B89: 曾文良 | C89: 41243 | D89: =3750+3750 -> 7500 | E89: 9/2 3750 9/17 3750 | F89: 第11頁
C90: 41269 | D90: =3750+3750+3750+3750 -> 15000 | E90: 10/2 3750 10/17 3750 11/1 3750 11/16 3750 | F90: 第11頁
C91: 41277 | D91: 935 | E91: 1/1 935 | F91: 第11頁反面
C92: 41295 | D92: 935 | E92: 1/16 935 | F92: 第11頁反面
A93: 10 | B93: 李仕強 | C93: 41238 | D93: =4125+4125+2250+2250+3000 -> 15750 | E93: 7/7 4125 7/22 4125 7/9 2250 7/24 2250 7/13 3000 | F93: 第12頁
C94: 41273 | D94: =3000+3000+4125+2250 -> 12375 | E94: 7/28 3000 8/12 3000 8/6 4125 8/8 2250 | F94: 第12頁
A95: 11 | B95: 陳欽文 | C95: 41215 | D95: 750 | E95: 11/2 750
C96: 41216 | D96: 1125 | E96: 11/4 1125 | F96: 第13頁
C97: 41220 | D97: 185 | E97: 11/6 185 | F97: 第13頁
C98: 41223 | D98: 1125 | E98: 11/9 1875 | F98: 第13頁
C99: 41225 | D99: 1875 | E99: 11/11 1875 | F99: 第13頁
C100: 41227 | D100: =1310+1125 -> 2435 | E100: 11/14 1310 11/15(林)1125 | F100: 第13頁
...

Sheet 元一當鋪
A1: 編 號 | B1: 姓名 | C1: 繳款日期 | D1: 利息金額 | E1: 摘要 | F1: 卷證出處 （註1） | G1: 備註
A2: 1 | B2: 承 | C2: 41290 | D2: 11625 | E2: 101 1/24*11625 | F2: 第2頁
A3: 2 | B3: 助 | C3: 41278 | D3: 2440 | E3: 1/2 2440 | F3: 第4頁
C4: 41290 | D4: 3190 | E4: 1/8*750 1/17*2440 | F4: 第4頁
A5: 3 | B5: 柱 | C5: 41276 | D5: 190 | E5: 1/1*190 | F5: 第5頁
C6: 41278 | D6: 190 | E6: 1/16*190 還0.5 | F6: 第5頁
C7: 41278 | D7: 6000 | E7: 12/29*6000 | F7: 第5頁
C8: 41286 | D8: 6000 | E8: 1/13*0.6 | F8: 第5頁
A9: 4 | B9: 張裕 | C9: 41281 | D9: 565 | E9: 1/1*190 1/6*375 | F9: 第6頁
C10: 41296 | D10: =375+940+190+375+375 -> 2255 | E10: 1/12*375 1/14*940 1/16*190 1/21*375 1/27*275 | F10: 第6頁 | G10: 起訴書誤載金額為「1880」
A11: 5 | B11: 晨瑋 | C11: 41281 | D11: 6190 | E11: 100 12/6*5440 101 1/25*750 | F11: 第7頁
C12: 41289 | D12: 1500 | E12: 11/9+11/24*1500 | F12: 第7頁
A13: 6 | B13: 治富 | C13: 41281 | D13: =1125+375+375+190 -> 2065 | E13: 1/2*1125 1/7*375 1/10*375 1/11*190 | F13: 第8頁
C14: 41284 | D14: 190 | E14: 1/3*190 | F14: 第8頁
C15: 不明 | D15: =190+1125+190+375+190+375 -> 2445 | E15: 1/15*190 1/17*1125 1/18*190 1/22*375 1/26*190 1/25*375 | F15: 第8頁 | G15: 起訴書誤載金額為「1880」
A16: 7 | B16: 昇昌 | C16: 不明 | D16: 2250 | E16: 1/2*2250 | F16: 第9頁
C17: 合計 | D17: =SUM(D2:D16) -> 47095
A18: 扣除合法利息（註2） | D18: =47095*2.5/7.5 -> 15698.333
A19: 犯罪所得（註2） | D19: =D17-D18 -> 31396.667
B20: 註1： | C20: 按被告許達逸102年4月20日偵訊時供述（A20卷第2808-2811頁）所示，並依102 年刑保管1053號扣押物品清單編號1 「帳冊」【即扣押物箱內編號8-1（灰色資料夾），係起訴書非供述證據編號6】所示之帳冊資料，據以計算出元一當鋪已收取之利息金額。
B21: 註2： | C21: 按被告許達逸、黃瑞桐供述（A3卷第138頁反面、A12卷第413頁、A20卷第2809頁、A3卷第134頁反面）內容所示，元一當鋪向借款司機所收之利息皆為月息2.5%加上倉棧費5%（月利率為7.5％，即2.5％加上5％），且元一當鋪借款沒有分期清償方式，亦即依上開扣案物記載期間102年1月1日至102年1月22日所收取之利息金額47,095元，其中包含得合法收取之月息2.5%及非法收取之倉棧費5%，因此此部分犯罪所得金額應限於非法收取之倉棧費5%，而不包含得合法收取之月息2.5%，其計算式為：47,095元*[5%/(5%+2.5%)]=31,397元。

Sheet 合豐當鋪
A1: 會員 編號 | B1: 日期 （註1） | C1: 會計科目 （註1） | D1: 科目名稱 （註1） | E1: 利息金額 （註1） | F1: 科目摘要 （註1） | G1: 計息方式 （註2） | H1: 利率 （註2） | I1: 犯罪所得 （註3）
A2: 1 | B2: 40922 | C2: 71110001 | D2: 利息收入-吳志忠 | E2: 2250 | F2: 吳志忠-3利-利息1/14-2/14 | G2: 不分期 | H2: 0.075 | I2: =E2*(H2-0.025)/H2 -> 1500
A3: 1 | B3: 40938 | C3: 71110001 | D3: 利息收入-吳志忠 | E3: 1125 | F3: 借支-吳志忠3利1/30-2/15 | G3: 不分期 | H3: 0.075 | I3: =E3*(H3-0.025)/H3 -> 750
A4: 1 | B4: 40946 | C4: 71110001 | D4: 分期利息收入-吳志忠 | E4: 1125 | F4: 分期利息收入-吳志忠3利2/7-2/22 | G4: 不分期 | H4: 0.075 | I4: =E4*(H4-0.025)/H4 -> 750
A5: 1 | B5: 40961 | C5: 71120001 | D5: 利息-吳志忠 | E5: 300 | F5: 利息-吳志忠2分-1 | G5: 分期 | H5: 0.06 | I5: =E5*(H5-0.025)/H5 -> 175
A6: 1 | B6: 40964 | C6: 71110001 | D6: 利息-吳志忠 | E6: 2250 | F6: 利息-吳志忠3利2/14-2/29 2/29-3/14 | G6: 不分期 | H6: 0.075 | I6: =E6*(H6-0.025)/H6 -> 1500
A7: 1 | B7: 40964 | C7: 71110001 | D7: 利息-吳志忠 | E7: 2250 | F7: 利息-吳志忠3利2/15-2/29 2/29-3/15 | G7: 不分期 | H7: 0.075 | I7: =E7*(H7-0.025)/H7 -> 1500
A8: 1 | B8: 40964 | C8: 71110001 | D8: 利息-吳志忠 | E8: 3750 | F8: 利息-吳志忠5利2/7-2/22 2/22-3/7 | G8: 不分期 | H8: 0.075 | I8: =E8*(H8-0.025)/H8 -> 2500
A9: 1 | B9: 40964 | C9: 71110001 | D9: 利息-吳志忠 | E9: 3000 | F9: 利息-吳志忠4利2/14-2/29 2/29-3/14 | G9: 不分期 | H9: 0.075 | I9: =E9*(H9-0.025)/H9 -> 2000
A10: 1 | B10: 40968 | C10: 71120001 | D10: 利息-吳志忠 | E10: 300 | F10: 利息-吳志忠2分-2 | G10: 分期 | H10: 0.06 | I10: =E10*(H10-0.025)/H10 -> 175
A11: 1 | B11: 40968 | C11: 71110001 | D11: 利息-吳志忠 | E11: 10500 | F11: 利息-吳志忠14利2/7-2/22 2/22-3/7 | G11: 不分期 | H11: 0.075 | I11: =E11*(H11-0.025)/H11 -> 7000
A12: 1 | B12: 40975 | C12: 71120001 | D12: 利息-吳志忠 | E12: 300 | F12: 利息-吳志忠2分-3 | G12: 分期 | H12: 0.06 | I12: =E12*(H12-0.025)/H12 -> 175
A13: 1 | B13: 40984 | C13: 71120001 | D13: 利息-吳志忠 | E13: 2100 | F13: 利息-吳志忠2分 4-10 | G13: 分期 | H13: 0.06 | I13: =E13*(H13-0.025)/H13 -> 1225
... A461: 98 | B461: 40959 | C461: 71119998 | D461: 利息-許世明 | E461: 15000 | F461: 利息-許世明 票貼2/20-3/1 | G461: 不分期 | H461: 0.075 | I461: =E461*(H461-0.025)/H461 -> 10000
D462: 合計 | E462: =SUM(E2:E461) -> 597095 | I462: =SUM(I2:I461) -> 393819.58
A463: 註1： | B463: 資料來源為102 刑保管1061號扣押物品清單編號16「日報表」【即扣押物箱內編號11，係起訴書非供述證據編號11】。起訴書附表五-5誤載處，已修正如上開附表各欄位所示。
A464: 註2： | B464: （1）按被告林冠福102年5月1日偵訊時供述（A30卷第57頁）內容所示，「分期」攤還本息者均係每7天為一期收一次款，分10期攤還本息，計息方式是以借款1萬元（分10期）每個禮拜還1150元本利和，核與102 綠保字第691 號扣押物品清單編號19「隨身碟」（係起訴書非供述證據編號10）內所示檔案「追蹤表」（檔案路徑：「桌面」資料夾--> 「新增資料夾（3） 」 ）所示還款情況相同（以該檔案「A002吳志忠」工作表為例，其第三欄第二個表格所示借款2萬元，每7日須還本息2300元，其中300元為利息，2000元為本金），可證合豐當鋪內「分期還款」之借款，其借款利率為月息6％（=(300*10)/20,000/10*4））。其餘「不分期」攤還本息者，按被告林冠福102年4月15日偵訊時供述（A30卷第6-7頁）內容所示，每借款1萬元，每月利息750元，其中倉棧費500元，月息250元，月息為7.5％（=750/10,000）。 （2）「分期」借款者，因每一期均有攤還本金，且當「分期」借款者借新還舊時（即追蹤表下方註明「洗」字樣者），借款人實際可取得之新借款項係先扣除舊借款尚未清償的本利和後之餘額，故其月利率必較十期後才一次償還本利所計算得出之簡單平均報酬率6％（即總利息/本金=(150*10)/10000/10*4）為高，惟因影響不大，故採有利被告之簡化算法，僅以月利率6%作為「分期」借款之利率，併此說明。
A465: 註3： | B465: 「犯罪所得」欄之計算方式為：「利息金額」*（「利率」-2.5％）/「利率」（即扣除當鋪業得合法收取按月利率2.5％計算之利息後，所得之金額）。

Sheet 瑞誠當鋪
A1: 編號 | B1: 姓名 | C1: [A]本金 | D1: [B]借款日 (註2) | E1: [C]每期 固定息 | F1: [D]繳息 次數 | G1: [E]月利率 (註3) | H1: [F]計息期間 (天)(註3) | I1: [G]已繳利息 (註4) | J1: [H]犯罪所得 (註5)
A2: 1 | B2: 陳水源 | C2: 20000 | D2: 0223 | E2: 750 | F2: 31 | G2: =E2/(C2*H2/30) -> 0.075 | H2: 15 | I2: =IF(H2="分期",C2*G2*2.5*F2/10,C2*G2*H2/30*F2) -> 23250 | J2: =IF(H2="分期",C2*(G2-0.025)*2.5*F2/10,C2*(G2-0.025)*H2/30*F2) -> 15500
C3: 15000 | D3: 0531 | E3: 565 | F3: 17 | G3: =E3/(C3*H3/30) -> 0.075333333 | H3: 15 | I3: =IF(H3="分期",C3*G3*2.5*F3/10,C3*G3*H3/30*F3) -> 9605 | J3: =IF(H3="分期",C3*(G3-0.025)*2.5*F3/10,C3*(G3-0.025)*H3*F3/30) -> 6417.5
C4: 15000 | D4: 0120 | E4: 565 | F4: 2 | G4: =E4/(C4*H4/30) -> 0.075333333 | H4: 15 | I4: =IF(H4="分期",C4*G4*2.5*F4/10,C4*G4*H4/30*F4) -> 1130 | J4: =IF(H4="分期",C4*(G4-0.025)*2.5*F4/10,C4*(G4-0.025)*H4*F4/30) -> 755
C5: 10000 | D5: 0326 | E5: 375 | F5: 5 | G5: =E5/(C5*H5/30) -> 0.075 | H5: 15 | I5: =IF(H5="分期",C5*G5*2.5*F5/10,C5*G5*H5/30*F5) -> 1875 | J5: =IF(H5="分期",C5*(G5-0.025)*2.5*F5/10,C5*(G5-0.025)*H5*F5/30) -> 1250
C6: 30000 | D6: 0827 | E6: 1125 | F6: 1 | G6: =E6/(C6*H6/30) -> 0.075 | H6: 15 | I6: =IF(H6="分期",C6*G6*2.5*F6/10,C6*G6*H6/30*F6) -> 1125 | J6: =IF(H6="分期",C6*(G6-0.025)*2.5*F6/10,C6*(G6-0.025)*H6*F6/30) -> 750
C7: 30000 | D7: 1029 | E7: 1125 | F7: 1 | G7: =E7/(C7*H7/30) -> 0.075 | H7: 15 | I7: =IF(H7="分期",C7*G7*2.5*F7/10,C7*G7*H7/30*F7) -> 1125 | J7: =IF(H7="分期",C7*(G7-0.025)*2.5*F7/10,C7*(G7-0.025)*H7*F7/30) -> 750
C8: 5000 | D8: 0514 | E8: 190 | F8: 2 | G8: =E8/(C8*H8/30) -> 0.076 | H8: 15 | I8: =IF(H8="分期",C8*G8*2.5*F8/10,C8*G8*H8/30*F8) -> 380 | J8: =IF(H8="分期",C8*(G8-0.025)*2.5*F8/10,C8*(G8-0.025)*H8*F8/30) -> 255
C9: 40000 | D9: 0924 | E9: 1500 | F9: 3 | G9: =E9/(C9*H9/30) -> 0.075 | H9: 15 | I9: =IF(H9="分期",C9*G9*2.5*F9/10,C9*G9*H9/30*F9) -> 4500 | J9: =IF(H9="分期",C9*(G9-0.025)*2.5*F9/10,C9*(G9-0.025)*H9*F9/30) -> 3000
C10: 30000 | D10: 0813 | E10: 1125 | F10: 2 | G10: =E10/(C10*H10/30) -> 0.075 | H10: 15 | I10: =IF(H10="分期",C10*G10*2.5*F10/10,C10*G10*H10/30*F10) -> 2250 | J10: =IF(H10="分期",C10*(G10-0.025)*2.5*F10/10,C10*(G10-0.025)*H10*F10/30) -> 1500
C11: 40000 | D11: 1015 | E11: 1500 | F11: 2 | G11: =E11/(C11*H11/30) -> 0.075 | H11: 15 | I11: =IF(H11="分期",C11*G11*2.5*F11/10,C11*G11*H11/30*F11) -> 3000 | J11: =IF(H11="分期",C11*(G11-0.025)*2.5*F11/10,C11*(G11-0.025)*H11*F11/30) -> 2000
A12: 3 | B12: 漆鎮偉 | C12: 100000 | D12: 0223 | E12: 3750 | F12: 23 | G12: =E12/(C12*H12/30) -> 0.075 | H12: 15 | I12: =IF(H12="分期",C12*G12*2.5*F12/10,C12*G12*H12/30*F12) -> 86250 | J12: =IF(H12="分期",C12*(G12-0.025)*2.5*F12/10,C12*(G12-0.025)*H12*F12/30) -> 57500
C13: 10000 | D13: 1114 | E13: 1150 | F13: 10 | G13: 0.06 | H13: 分期 | I13: =IF(H13="分期",C13*G13*2.5*F13/10,C13*G13*H13/30*F13) -> 1500 | J13: =IF(H13="分期",C13*(G13-0.025)*2.5*F13/10,C13*(G13-0.025)*H13*F13/30) -> 875
C14: 10000 | D14: 0225 | E14: 2150 | F14: 5 | G14: 0.06 | H14: 分期 | I14: =IF(H14="分期",C14*G14*2.5*F14/10,C14*G14*H14/30*F14) -> 750 | J14: =IF(H14="分期",C14*(G14-0.025)*2.5*F14/10,C14*(G14-0.025)*H14*F14/30) -> 437.5
C15: 20000 | D15: 1129 | E15: 750 | F15: 5 | G15: =E15/(C15*H15/30) -> 0.075 | H15: 15 | I15: =IF(H15="分期",C15*G15*2.5*F15/10,C15*G15*H15/30*F15) -> 3750 | J15: =IF(H15="分期",C15*(G15-0.025)*2.5*F15/10,C15*(G15-0.025)*H15*F15/30) -> 2500
A16: 4 | B16: 吳清江 | C16: 70000 | D16: 0224 | E16: 2625 | F16: 15 | G16: =E16/(C16*H16/30) -> 0.075 | H16: 15 | I16: =IF(H16="分期",C16*G16*2.5*F16/10,C16*G16*H16/30*F16) -> 39375 | J16: =IF(H16="分期",C16*(G16-0.025)*2.5*F16/10,C16*(G16-0.025)*H16*F16/30) -> 26250
C17: 60000 | D17: 0512 | E17: 2250 | F17: 10 | G17: =E17/(C17*H17/30) -> 0.075 | H17: 15 | I17: =IF(H17="分期",C17*G17*2.5*F17/10,C17*G17*H17/30*F17) -> 22500 | J17: =IF(H17="分期",C17*(G17-0.025)*2.5*F17/10,C17*(G17-0.025)*H17*F17/30) -> 15000
C18: 13000 | D18: 0920 | E18: 490 | F18: 2 | G18: =E18/(C18*H18/30) -> 0.075384615 | H18: 15 | I18: =IF(H18="分期",C18*G18*2.5*F18/10,C18*G18*H18/30*F18) -> 980 | J18: =IF(H18="分期",C18*(G18-0.025)*2.5*F18/10,C18*(G18-0.025)*H18*F18/30) -> 655
C19: 10000 | D19: 0818 | E19: 375 | F19: 4 | G19: =E19/(C19*H19/30) -> 0.075 | H19: 15 | I19: =IF(H19="分期",C19*G19*2.5*F19/10,C19*G19*H19/30*F19) -> 1500 | J19: =IF(H19="分期",C19*(G19-0.025)*2.5*F19/10,C19*(G19-0.025)*H19*F19/30) -> 1000
A20: 7 | B20: 謝六發 | C20: 20000 | D20: 0225 | E20: 750 | F20: 36 | G20: =E20/(C20*H20/30) -> 0.075 | H20: 15 | I20: =IF(H20="分期",C20*G20*2.5*F20/10,C20*G20*H20/30*F20) -> 27000 | J20: =IF(H20="分期",C20*(G20-0.025)*2.5*F20/10,C20*(G20-0.025)*H20*F20/30) -> 18000
C21: 40000 | D21: 1108 | E21: 1500 | F21: 19 | G21: =E21/(C21*H21/30) -> 0.075 | H21: 15 | I21: =IF(H21="分期",C21*G21*2.5*F21/10,C21*G21*H21/30*F21) -> 28500 | J21: =IF(H21="分期",C21*(G21-0.025)*2.5*F21/10,C21*(G21-0.025)*H21*F21/30) -> 19000
C22: 20000 | D22: 0429 | E22: 750 | F22: 32 | G22: =E22/(C22*H22/30) -> 0.075 | H22: 15 | I22: =IF(H22="分期",C22*G22*2.5*F22/10,C22*G22*H22*F22/30) -> 24000 | J22: =IF(H22="分期",C22*(G22-0.025)*2.5*F22/10,C22*(G22-0.025)*H22*F22/30) -> 16000
C23: 30000 | D23: 1209 | E23: 2250 | F23: 3 | G23: =E23/(C23*H23/30) -> 0.075 | H23: 30 | I23: =IF(H23="分期",C23*G23*2.5*F23/10,C23*G23*H23*F23/30) -> 6750 | J23: =IF(H23="分期",C23*(G23-0.025)*2.5*F23/10,C23*(G23-0.025)*H23*F23/30) -> 4500
C24: 20000 | D24: 0701 | E24: 750 | F24: 28 | G24: =E24/(C24*H24/30) -> 0.075 | H24: 15 | I24: =IF(H24="分期",C24*G24*2.5*F24/10,C24*G24*H24*F24/30) -> 21000 | J24: =IF(H24="分期",C24*(G24-0.025)*2.5*F24/10,C24*(G24-0.025)*H24*F24/30) -> 14000
C25: 20000 | D25: 0922 | E25: 750 | F25: 22 | G25: =E25/(C25*H25/30) -> 0.075 | H25: 15 | I25: =IF(H25="分期",C25*G25*2.5*F25/10,C25*G25*H25*F25/30) -> 16500 | J25: =IF(H25="分期",C25*(G25-0.025)*2.5*F25/10,C25*(G25-0.025)*H25*F25/30) -> 11000
C26: 60000 | D26: 1128 | E26: 4500 | F26: 8 | G26: =E26/(C26*H26/30) -> 0.075 | H26: 30 | I26: =IF(H26="分期",C26*G26*2.5*F26/10,C26*G26*H26*F26/30) -> 36000 | J26: =IF(H26="分期",C26*(G26-0.025)*2.5*F26/10,C26*(G26-0.025)*H26*F26/30) -> 24000
C27: 20000 | D27: 0505 | E27: 750 | F27: 7 | G27: =E27/(C27*H27/30) -> 0.075 | H27: 15 | I27: =IF(H27="分期",C27*G27*2.5*F27/10,C27*G27*H27*F27/30) -> 5250 | J27: =IF(H27="分期",C27*(G27-0.025)*2.5*F27/10,C27*(G27-0.025)*H27*F27/30) -> 3500
A28: 8 | B28: 范光宏 | C28: 20000 | D28: 0225 | E28: 750 | F28: 15 | G28: =E28/(C28*H28/30) -> 0.075 | H28: 15 | I28: =IF(H28="分期",C28*G28*2.5*F28/10,C28*G28*H28*F28/30) -> 11250 | J28: =IF(H28="分期",C28*(G28-0.025)*2.5*F28/10,C28*(G28-0.025)*H28*F28/30) -> 7500
C29: 20000 | D29: 1002 | E29: 2300 | F29: 10 | G29: 0.06 | H29: 分期 | I29: =IF(H29="分期",C29*G29*2.5*F29/10,C29*G29*H29*F29/30) -> 3000 | J29: =IF(H29="分期",C29*(G29-0.025)*2.5*F29/10,C29*(G29-0.025)*H29*F29/30) -> 1750
C30: 10000 | D30: 0714 | E30: 375 | F30: 10 | G30: =E30/(C30*H30/30) -> 0.075 | H30: 15 | I30: =IF(H30="分期",C30*G30*2.5*F30/10,C30*G30*H30*F30/30) -> 3750 | J30: =IF(H30="分期",C30*(G30-0.025)*2.5*F30/10,C30*(G30-0.025)*H30*F30/30) -> 2500
C31: 80000 | D31: 0228 | E31: 3000 | F31: 7 | G31: =E31/(C31*H31/30) -> 0.075 | H31: 15 | I31: =IF(H31="分期",C31*G31*2.5*F31/10,C31*G31*H31*F31/30) -> 21000 | J31: =IF(H31="分期",C31*(G31-0.025)*2.5*F31/10,C31*(G31-0.025)*H31*F31/30) -> 14000
C32: 60000 | D32: 0613 | E32: 2250 | F32: 27 | G32: =E32/(C32*H32/30) -> 0.075 | H32: 15 | I32: =IF(H32="分期",C32*G32*2.5*F32/10,C32*G32*H32*F32/30) -> 60750 | J32: =IF(H32="分期",C32*(G32-0.025)*2.5*F32/10,C32*(G32-0.025)*H32*F32/30) -> 40500
C33: 20000 | D33: 0613 | E33: 2300 | F33: 10 | G33: 0.06 | H33: 分期 | I33: =IF(H33="分期",C33*G33*2.5*F33/10,C33*G33*H33*F33/30) -> 3000 | J33: =IF(H33="分期",C33*(G33-0.025)*2.5*F33/10,C33*(G33-0.025)*H33*F33/30) -> 1750
C34: 20000 | D34: 0730 | E34: 2300 | F34: 10 | G34: 0.06 | H34: 分期 | I34: =IF(H34="分期",C34*G34*2.5*F34/10,C34*G34*H34*F34/30) -> 3000 | J34: =IF(H34="分期",C34*(G34-0.025)*2.5*F34/10,C34*(G34-0.025)*H34*F34/30) -> 1750
C35: 30000 | D35: 0408 | E35: 1125 | F35: 32 | G35: =E35/(C35*H35/30) -> 0.075 | H35: 15 | I35: =IF(H35="分期",C35*G35*2.5*F35/10,C35*G35*H35*F35/30) -> 36000 | J35: =IF(H35="分期",C35*(G35-0.025)*2.5*F35/10,C35*(G35-0.025)*H35*F35/30) -> 24000
C36: 20000 | D36: 1203 | E36: 2300 | F36: 10 | G36: 0.06 | H36: 分期 | I36: =IF(H36="分期",C36*G36*2.5*F36/10,C36*G36*H36*F36/30) -> 3000 | J36: =IF(H36="分期",C36*(G36-0.025)*2.5*F36/10,C36*(G36-0.025)*H36*F36/30) -> 1750
C37: 20000 | D37: 1222 | E37: 750 | F37: 2 | G37: =E37/(C37*H37/30) -> 0.075 | H37: 15 | I37: =IF(H37="分期",C37*G37*2.5*F37/10,C37*G37*H37*F37/30) -> 1500 | J37: =IF(H37="分期",C37*(G37-0.025)*2.5*F37/10,C37*(G37-0.025)*H37*F37/30) -> 1000
C38: 20000 | D38: 0122 | E38: 2300 | F38: 10 | G38: 0.06 | H38: 分期 | I38: =IF(H38="分期",C38*G38*2.5*F38/10,C38*G38*H38*F38/30) -> 3000 | J38: =IF(H38="分期",C38*(G38-0.025)*2.5*F38/10,C38*(G38-0.025)*H38*F38/30) -> 1750
C39: 10000 | D39: 1027 | E39: 375 | F39: 3 | G39: =E39/(C39*H39/30) -> 0.075 | H39: 15 | I39: =IF(H39="分期",C39*G39*2.5*F39/10,C39*G39*H39*F39/30) -> 1125 | J39: =IF(H39="分期",C39*(G39-0.025)*2.5*F39/10,C39*(G39-0.025)*H39*F39/30) -> 750
C40: 10000 | D40: 0223 | E40: 375 | F40: 11 | G40: =E40/(C40*H40/30) -> 0.075 | H40: 15 | I40: =IF(H40="分期",C40*G40*2.5*F40/10,C40*G40*H40*F40/30) -> 4125 | J40: =IF(H40="分期",C40*(G40-0.025)*2.5*F40/10,C40*(G40-0.025)*H40*F40/30) -> 2750
C41: 20000 | D41: 0209 | E41: 2300 | F41: 10 | G41: 0.06 | H41: 分期 | I41: =IF(H41="分期",C41*G41*2.5*F41/10,C41*G41*H41*F41/30) -> 3000 | J41: =IF(H41="分期",C41*(G41-0.025)*2.5*F41/10,C41*(G41-0.025)*H41*F41/30) -> 1750
C42: 10000 | D42: 0202 | E42: 375 | F42: 12 | G42: =E42/(C42*H42/30) -> 0.075 | H42: 15 | I42: =IF(H42="分期",C42*G42*2.5*F42/10,C42*G42*H42*F42/30) -> 4500 | J42: =IF(H42="分期",C42*(G42-0.025)*2.5*F42/10,C42*(G42-0.025)*H42*F42/30) -> 3000
C43: 20000 | D43: 0308 | E43: 2300 | F43: 10 | G43: 0.06 | H43: 分期 | I43: =IF(H43="分期",C43*G43*2.5*F43/10,C43*G43*H43*F43/30) -> 3000 | J43: =IF(H43="分期",C43*(G43-0.025)*2.5*F43/10,C43*(G43-0.025)*H43*F43/30) -> 1750
C44: 20000 | D44: 0328 | E44: 2300 | F44: 10 | G44: 0.06 | H44: 分期 | I44: =IF(H44="分期",C44*G44*2.5*F44/10,C44*G44*H44*F44/30) -> 3000 | J44: =IF(H44="分期",C44*(G44-0.025)*2.5*F44/10,C44*(G44-0.025)*H44*F44/30) -> 1750
C45: 20000 | D45: 0517 | E45: 2300 | F45: 10 | G45: 0.06 | H45: 分期 | I45: =IF(H45="分期",C45*G45*2.5*F45/10,C45*G45*H45*F45/30) -> 3000 | J45: =IF(H45="分期",C45*(G45-0.025)*2.5*F45/10,C45*(G45-0.025)*H45*F45/30) -> 1750
C46: 20000 | D46: 0716 | E46: 2300 | F46: 3 | G46: 0.06 | H46: 分期 | I46: =IF(H46="分期",C46*G46*2.5*F46/10,C46*G46*H46*F46/30) -> 900 | J46: =IF(H46="分期",C46*(G46-0.025)*2.5*F46/10,C46*(G46-0.025)*H46*F46/30) -> 525
A47: 9 | B47: 蔡盛華 | C47: 50000 | D47: 0225 | E47: 1875 | F47: 10 | G47: =E47/(C47*H47/30) -> 0.075 | H47: 15 | I47: =IF(H47="分期",C47*G47*2.5*F47/10,C47*G47*H47*F47/30) -> 18750 | J47: =IF(H47="分期",C47*(G47-0.025)*2.5*F47/10,C47*(G47-0.025)*H47*F47/30) -> 12500
C48: 30000 | D48: 0310 | E48: 1125 | F48: 10 | G48: =E48/(C48*H48/30) -> 0.075 | H48: 15 | I48: =IF(H48="分期",C48*G48*2.5*F48/10,C48*G48*H48*F48/30) -> 11250 | J48: =IF(H48="分期",C48*(G48-0.025)*2.5*F48/10,C48*(G48-0.025)*H48*F48/30) -> 7500
C49: 20000 | D49: 0402 | E49: 750 | F49: 22 | G49: =E49/(C49*H49/30) -> 0.075 | H49: 15 | I49: =IF(H49="分期",C49*G49*2.5*F49/10,C49*G49*H49*F49/30) -> 16500 | J49: =IF(H49="分期",C49*(G49-0.025)*2.5*F49/10,C49*(G49-0.025)*H49*F49/30) -> 11000
C50: 10000 | D50: 0402 | E50: 375 | F50: 6 | G50: =E50/(C50*H50/30) -> 0.075 | H50: 15 | I50: =IF(H50="分期",C50*G50*2.5*F50/10,C50*G50*H50*F50/30) -> 2250 | J50: =IF(H50="分期",C50*(G50-0.025)*2.5*F50/10,C50*(G50-0.025)*H50*F50/30) -> 1500
C51: 80000 | D51: 0725 | E51: 3000 | F51: 24 | G51: =E51/(C51*H51/30) -> 0.075 | H51: 15 | I51: =IF(H51="分期",C51*G51*2.5*F51/10,C51*G51*H51*F51/30) -> 72000 | J51: =IF(H51="分期",C51*(G51-0.025)*2.5*F51/10,C51*(G51-0.025)*H51*F51/30) -> 48000
C52: 70000 | D52: 0725 | E52: 2625 | F52: 2 | G52: =E52/(C52*H52/30) -> 0.075 | H52: 15 | I52: =IF(H52="分期",C52*G52*2.5*F52/10,C52*G52*H52*F52/30) -> 5250 | J52: =IF(H52="分期",C52*(G52-0.025)*2.5*F52/10,C52*(G52-0.025)*H52*F52/30) -> 3500
C53: 60000 | D53: 0725 | E53: 2250 | F53: 7 | G53: =E53/(C53*H53/30) -> 0.075 | H53: 15 | I53: =IF(H53="分期",C53*G53*2.5*F53/10,C53*G53*H53*F53/30) -> 15750 | J53: =IF(H53="分期",C53*(G53-0.025)*2.5*F53/10,C53*(G53-0.025)*H53*F53/30) -> 10500
C54: 10000 | D54: 0628 | E54: 375 | F54: 25 | G54: =E54/(C54*H54/30) -> 0.075 | H54: 15 | I54: =IF(H54="分期",C54*G54*2.5*F54/10,C54*G54*H54*F54/30) -> 9375 | J54: =IF(H54="分期",C54*(G54-0.025)*2.5*F54/10,C54*(G54-0.025)*H54*F54/30) -> 6250
C55: 10000 | D55: 1027 | E55: 375 | F55: 10 | G55: =E55/(C55*H55/30) -> 0.075 | H55: 15 | I55: =IF(H55="分期",C55*G55*2.5*F55/10,C55*G55*H55*F55/30) -> 3750 | J55: =IF(H55="分期",C55*(G55-0.025)*2.5*F55/10,C55*(G55-0.025)*H55*F55/30) -> 2500
C56: 10000 | D56: 0403 | E56: 375 | F56: 6 | G56: =E56/(C56*H56/30) -> 0.075 | H56: 15 | I56: =IF(H56="分期",C56*G56*2.5*F56/10,C56*G56*H56*F56/30) -> 2250 | J56: =IF(H56="分期",C56*(G56-0.025)*2.5*F56/10,C56*(G56-0.025)*H56*F56/30) -> 1500
C57: 30000 | D57: 0114 | E57: 1125 | F57: 2 | G57: =E57/(C57*H57/30) -> 0.075 | H57: 15 | I57: =IF(H57="分期",C57*G57*2.5*F57/10,C57*G57*H57*F57/30) -> 2250 | J57: =IF(H57="分期",C57*(G57-0.025)*2.5*F57/10,C57*(G57-0.025)*H57*F57/30) -> 1500
C58: 20000 | D58: 0114 | E58: 750 | F58: 20 | G58: =E58/(C58*H58/30) -> 0.075 | H58: 15 | I58: =IF(H58="分期",C58*G58*2.5*F58/10,C58*G58*H58*F58/30) -> 15000 | J58: =IF(H58="分期",C58*(G58-0.025)*2.5*F58/10,C58*(G58-0.025)*H58*F58/30) -> 10000
C59: 10000 | D59: 0720 | E59: 375 | F59: 9 | G59: =E59/(C59*H59/30) -> 0.075 | H59: 15 | I59: =IF(H59="分期",C59*G59*2.5*F59/10,C59*G59*H59*F59/30) -> 3375 | J59: =IF(H59="分期",C59*(G59-0.025)*2.5*F59/10,C59*(G59-0.025)*H59*F59/30) -> 2250
A60: 10 | B60: 黃錦雀 | C60: 30000 | D60: 0225 | E60: 1125 | F60: 8 | G60: =E60/(C60*H60/30) -> 0.075 | H60: 15 | I60: =IF(H60="分期",C60*G60*2.5*F60/10,C60*G60*H60*F60/30) -> 9000 | J60: =IF(H60="分期",C60*(G60-0.025)*2.5*F60/10,C60*(G60-0.025)*H60*F60/30) -> 6000
C61: 5000 | D61: 0409 | E61: 190 | F61: 5 | G61: =E61/(C61*H61/30) -> 0.076 | H61: 15 | I61: =IF(H61="分期",C61*G61*2.5*F61/10,C61*G61*H61*F61/30) -> 950 | J61: =IF(H61="分期",C61*(G61-0.025)*2.5*F61/10,C61*(G61-0.025)*H61*F61/30) -> 637.5
A62: 11 | B62: 施忠成 | C62: 20000 | D62: 0225 | E62: 750 | F62: 14 | G62: =E62/(C62*H62/30) -> 0.075 | H62: 15 | I62: =IF(H62="分期",C62*G62*2.5*F62/10,C62*G62*H62*F62/30) -> 10500 | J62: =IF(H62="分期",C62*(G62-0.025)*2.5*F62/10,C62*(G62-0.025)*H62*F62/30) -> 7000
C63: 5000 | D63: 0225 | E63: 190 | F63: 15 | G63: =E63/(C63*H63/30) -> 0.076 | H63: 15 | I63: =IF(H63="分期",C63*G63*2.5*F63/10,C63*G63*H63*F63/30) -> 2850 | J63: =IF(H63="分期",C63*(G63-0.025)*2.5*F63/10,C63*(G63-0.025)*H63*F63/30) -> 1912.5
C64: 10000 | D64: 0316 | E64: 375 | F64: 26 | G64: =E64/(C64*H64/30) -> 0.075 | H64: 15 | I64: =IF(H64="分期",C64*G64*2.5*F64/10,C64*G64*H64*F64/30) -> 9750 | J64: =IF(H64="分期",C64*(G64-0.025)*2.5*F64/10,C64*(G64-0.025)*H64*F64/30) -> 6500
C65: 10000 | D65: 0425 | E65: 375 | F65: 22 | G65: =E65/(C65*H65/30) -> 0.075 | H65: 15 | I65: =IF(H65="分期",C65*G65*2.5*F65/10,C65*G65*H65*F65/30) -> 8250 | J65: =IF(H65="分期",C65*(G65-0.025)*2.5*F65/10,C65*(G65-0.025)*H65*F65/30) -> 5500
C66: 10000 | D66: 1004 | E66: 375 | F66: 3 | G66: =E66/(C66*H66/30) -> 0.075 | H66: 15 | I66: =IF(H66="分期",C66*G66*2.5*F66/10,C66*G66*H66*F66/30) -> 1125 | J66: =IF(H66="分期",C66*(G66-0.025)*2.5*F66/10,C66*(G66-0.025)*H66*F66/30) -> 750
C67: 15000 | D67: 1007 | E67: 565 | F67: 2 | G67: =E67/(C67*H67/30) -> 0.075333333 | H67: 15 | I67: =IF(H67="分期",C67*G67*2.5*F67/10,C67*G67*H67*F67/30) -> 1130 | J67: =IF(H67="分期",C67*(G67-0.025)*2.5*F67/10,C67*(G67-0.025)*H67*F67/30) -> 755
C68: 10000 | D68: 1010 | E68: 375 | F68: 2 | G68: =E68/(C68*H68/30) -> 0.075 | H68: 15 | I68: =IF(H68="分期",C68*G68*2.5*F68/10,C68*G68*H68*F68/30) -> 750 | J68: =IF(H68="分期",C68*(G68-0.025)*2.5*F68/10,C68*(G68-0.025)*H68*F68/30) -> 500
C69: 30000 | D69: 0227 | E69: 1125 | F69: 10 | G69: =E69/(C69*H69/30) -> 0.075 | H69: 15 | I69: =IF(H69="分期",C69*G69*2.5*F69/10,C69*G69*H69*F69/30) -> 11250 | J69: =IF(H69="分期",C69*(G69-0.025)*2.5*F69/10,C69*(G69-0.025)*H69*F69/30) -> 7500
C70: 30000 | D70: 0313 | E70: 1125 | F70: 10 | G70: =E70/(C70*H70/30) -> 0.075 | H70: 15 | I70: =IF(H70="分期",C70*G70*2.5*F70/10,C70*G70*H70*F70/30) -> 11250 | J70: =IF(H70="分期",C70*(G70-0.025)*2.5*F70/10,C70*(G70-0.025)*H70*F70/30) -> 7500
C71: 15000 | D71: 0524 | E71: 565 | F71: 5 | G71: =E71/(C71*H71/30) -> 0.075333333 | H71: 15 | I71: =IF(H71="分期",C71*G71*2.5*F71/10,C71*G71*H71*F71/30) -> 2825 | J71: =IF(H71="分期",C71*(G71-0.025)*2.5*F71/10,C71*(G71-0.025)*H71*F71/30) -> 1887.5
C72: 30000 | D72: 0227 | E72: 1125 | F72: 9 | G72: =E72/(C72*H72/30) -> 0.075 | H72: 15 | I72: =IF(H72="分期",C72*G72*2.5*F72/10,C72*G72*H72*F72/30) -> 10125 | J72: =IF(H72="分期",C72*(G72-0.025)*2.5*F72/10,C72*(G72-0.025)*H72*F72/30) -> 6750
C73: 20000 | D73: 0227 | E73: 750 | F73: 1 | G73: =E73/(C73*H73/30) -> 0.075 | H73: 15 | I73: =IF(H73="分期",C73*G73*2.5*F73/10,C73*G73*H73*F73/30) -> 750 | J73: =IF(H73="分期",C73*(G73-0.025)*2.5*F73/10,C73*(G73-0.025)*H73*F73/30) -> 500
C74: 30000 | D74: 0313 | E74: 1125 | F74: 10 | G74: =E74/(C74*H74/30) -> 0.075 | H74: 15 | I74: =IF(H74="分期",C74*G74*2.5*F74/10,C74*G74*H74*F74/30) -> 11250 | J74: =IF(H74="分期",C74*(G74-0.025)*2.5*F74/10,C74*(G74-0.025)*H74*F74/30) -> 7500
C75: 15000 | D75: 0524 | E75: 565 | F75: 5 | G75: =E75/(C75*H75/30) -> 0.075333333 | H75: 15 | I75: =IF(H75="分期",C75*G75*2.5*F75/10,C75*G75*H75*F75/30) -> 2825 | J75: =IF(H75="分期",C75*(G75-0.025)*2.5*F75/10,C75*(G75-0.025)*H75*F75/30) -> 1887.5
A76: 12 | B76: 溫盛益 | C76: 20000 | D76: 0227 | E76: 750 | F76: 4 | G76: =E76/(C76*H76/30) -> 0.075 | H76: 15 | I76: =IF(H76="分期",C76*G76*2.5*F76/10,C76*G76*H76*F76/30) -> 3000 | J76: =IF(H76="分期",C76*(G76-0.025)*2.5*F76/10,C76*(G76-0.025)*H76*F76/30) -> 2000
C77: 10000 | D77: 0227 | E77: 375 | F77: 1 | G77: =E77/(C77*H77/30) -> 0.075 | H77: 15 | I77: =IF(H77="分期",C77*G77*2.5*F77/10,C77*G77*H77*F77/30) -> 375 | J77: =IF(H77="分期",C77*(G77-0.025)*2.5*F77/10,C77*(G77-0.025)*H77*F77/30) -> 250
C78: 60000 | D78: 0830 | E78: 4500 | F78: 2 | G78: =E78/(C78*H78/30) -> 0.075 | H78: 30 | I78: =IF(H78="分期",C78*G78*2.5*F78/10,C78*G78*H78*F78/30) -> 9000 | J78: =IF(H78="分期",C78*(G78-0.025)*2.5*F78/10,C78*(G78-0.025)*H78*F78/30) -> 6000
C79: 45000 | D79: 0830 | E79: 3375 | F79: 1 | G79: =E79/(C79*H79/30) -> 0.075 | H79: 30 | I79: =IF(H79="分期",C79*G79*2.5*F79/10,C79*G79*H79*F79/30) -> 3375 | J79: =IF(H79="分期",C79*(G79-0.025)*2.5*F79/10,C79*(G79-0.025)*H79*F79/30) -> 2250
C80: 60000 | D80: 0305 | E80: 2250 | F80: 12 | G80: =E80/(C80*H80/30) -> 0.075 | H80: 15 | I80: =IF(H80="分期",C80*G80*2.5*F80/10,C80*G80*H80*F80/30) -> 27000 | J80: =IF(H80="分期",C80*(G80-0.025)*2.5*F80/10,C80*(G80-0.025)*H80*F80/30) -> 18000
C81: 45000 | D81: 0305 | E81: 1690 | F81: 2 | G81: =E81/(C81*H81/30) -> 0.075111111 | H81: 15 | I81: =IF(H81="分期",C81*G81*2.5*F81/10,C81*G81*H81*F81/30) -> 3380 | J81: =IF(H81="分期",C81*(G81-0.025)*2.5*F81/10,C81*(G81-0.025)*H81*F81/30) -> 2255
C82: 35000 | D82: 0305 | E82: 1315 | F82: 1 | G82: =E82/(C82*H82/30) -> 0.075142857 | H82: 15 | I82: =IF(H82="分期",C82*G82*2.5*F82/10,C82*G82*H82*F82/30) -> 1315 | J82: =IF(H82="分期",C82*(G82-0.025)*2.5*F82/10,C82*(G82-0.025)*H82*F82/30) -> 877.5
C83: 20000 | D83: 0305 | E83: 750 | F83: 2 | G83: =E83/(C83*H83/30) -> 0.075 | H83: 15 | I83: =IF(H83="分期",C83*G83*2.5*F83/10,C83*G83*H83*F83/30) -> 1500 | J83: =IF(H83="分期",C83*(G83-0.025)*2.5*F83/10,C83*(G83-0.025)*H83*F83/30) -> 1000
C84: 20000 | D84: 0325 | E84: 750 | F84: 12 | G84: =E84/(C84*H84/30) -> 0.075 | H84: 15 | I84: =IF(H84="分期",C84*G84*2.5*F84/10,C84*G84*H84*F84/30) -> 9000 | J84: =IF(H84="分期",C84*(G84-0.025)*2.5*F84/10,C84*(G84-0.025)*H84*F84/30) -> 6000
C85: 30000 | D85: 0910 | E85: 1125 | F85: 14 | G85: =E85/(C85*H85/30) -> 0.075 | H85: 15 | I85: =IF(H85="分期",C85*G85*2.5*F85/10,C85*G85*H85*F85/30) -> 15750 | J85: =IF(H85="分期",C85*(G85-0.025)*2.5*F85/10,C85*(G85-0.025)*H85*F85/30) -> 10500
C86: 20000 | D86: 0925 | E86: 750 | F86: 13 | G86: =E86/(C86*H86/30) -> 0.075 | H86: 15 | I86: =IF(H86="分期",C86*G86*2.5*F86/10,C86*G86*H86*F86/30) -> 9750 | J86: =IF(H86="分期",C86*(G86-0.025)*2.5*F86/10,C86*(G86-0.025)*H86*F86/30) -> 6500
C87: 10000 | D87: 1016 | E87: 375 | F87: 12 | G87: =E87/(C87*H87/30) -> 0.075 | H87: 15 | I87: =IF(H87="分期",C87*G87*2.5*F87/10,C87*G87*H87*F87/30) -> 4500 | J87: =IF(H87="分期",C87*(G87-0.025)*2.5*F87/10,C87*(G87-0.025)*H87*F87/30) -> 3000
C88: 10000 | D88: 1119 | E88: 375 | F88: 9 | G88: =E88/(C88*H88/30) -> 0.075 | H88: 15 | I88: =IF(H88="分期",C88*G88*2.5*F88/10,C88*G88*H88*F88/30) -> 3375 | J88: =IF(H88="分期",C88*(G88-0.025)*2.5*F88/10,C88*(G88-0.025)*H88*F88/30) -> 2250
... C90: 10000 | D90: 0218 | E90: 375 | F90: 3 | G90: =E90/(C90*H90/30) -> 0.075 | H90: 15 | I90: =IF(H90="分期",C90*G90*2.5*F90/10,C90*G90*H90*F90/30) -> 1125 | J90: =IF(H90="分期",C90*(G90-0.025)*2.5*F90/10,C90*(G90-0.025)*H90*F90/30) -> 750
A91: 13 | B91: 朱春榮 | C91: 30000 | D91: 0228 | E91: 1125 | F91: 14 | G91: =E91/(C91*H91/30) -> 0.075 | H91: 15 | I91: =IF(H91="分期",C91*G91*2.5*F91/10,C91*G91*H91*F91/30) -> 15750 | J91: =IF(H91="分期",C91*(G91-0.025)*2.5*F91/10,C91*(G91-0.025)*H91*F91/30) -> 10500
C92: 20000 | D92: 0309 | E92: 750 | F92: 13 | G92: =E92/(C92*H92/30) -> 0.075 | H92: 15 | I92: =IF(H92="分期",C92*G92*2.5*F92/10,C92*G92*H92*F92/30) -> 9750 | J92: =IF(H92="分期",C92*(G92-0.025)*2.5*F92/10,C92*(G92-0.025)*H92*F92/30) -> 6500
A93: 14 | B93: 潘元吉 | C93: 20000 | D93: 0228 | E93: 750 | F93: 20 | G93: =E93/(C93*H93/30) -> 0.075 | H93: 15 | I93: =IF(H93="分期",C93*G93*2.5*F93/10,C93*G93*H93*F93/30) -> 15000 | J93: =IF(H93="分期",C93*(G93-0.025)*2.5*F93/10,C93*(G93-0.025)*H93*F93/30) -> 10000
C94: 10000 | D94: 0313 | E94: 375 | F94: 23 | G94: =E94/(C94*H94/30) -> 0.075 | H94: 15 | I94: =IF(H94="分期",C94*G94*2.5*F94/10,C94*G94*H94*F94/30) -> 8625 | J94: =IF(H94="分期",C94*(G94-0.025)*2.5*F94/10,C94*(G94-0.025)*H94*F94/30) -> 5750
C95: 10000 | D95: 0405 | E95: 375 | F95: 4 | G95: =E95/(C95*H95/30) -> 0.075 | H95: 15 | I95: =IF(H95="分期",C95*G95*2.5*F95/10,C95*G95*H95*F95/30) -> 1500 | J95: =IF(H95="分期",C95*(G95-0.025)*2.5*F95/10,C95*(G95-0.025)*H95*F95/30) -> 1000
C96: 10000 | D96: 0727 | E96: 375 | F96: 10 | G96: =E96/(C96*H96/30) -> 0.075 | H96: 15 | I96: =IF(H96="分期",C96*G96*2.5*F96/10,C96*G96*H96*F96/30) -> 3750 | J96: =IF(H96="分期",C96*(G96-0.025)*2.5*F96/10,C96*(G96-0.025)*H96*F96/30) -> 2500
C97: 20000 | D97: 0411 | E97: 750 | F97: 1 | G97: =E97/(C97*H97/30) -> 0.075 | H97: 15 | I97: =IF(H97="分期",C97*G97*2.5*F97/10,C97*G97*H97*F97/30) -> 750 | J97: =IF(H97="分期",C97*(G97-0.025)*2.5*F97/10,C97*(G97-0.025)*H97*F97/30) -> 500
C98: 20000 | D98: 0504 | E98: 750 | F98: 20 | G98: =E98/(C98*H98/30) -> 0.075 | H98: 15 | I98: =IF(H98="分期",C98*G98*2.5*F98/10,C98*G98*H98*F98/30) -> 15000 | J98: =IF(H98="分期",C98*(G98-0.025)*2.5*F98/10,C98*(G98-0.025)*H98*F98/30) -> 10000
C99: 20000 | D99: 0522 | E99: 2400 | F99: 10 | G99: 0.06 | H99: 分期 | I99: =IF(H99="分期",C99*G99*2.5*F99/10,C99*G99*H99*F99/30) -> 3000 | J99: =IF(H99="分期",C99*(G99-0.025)*2.5*F99/10,C99*(G99-0.025)*H99*F99/30) -> 1750
C100: 10000 | D100: 0626 | E100: 375 | F100: 16 | G100: =E100/(C100*H100/30) -> 0.075 | H100: 15 | I100: =IF(H100="分期",C100*G100*2.5*F100/10,C100*G100*H100*F100/30) -> 6000 | J100: =IF(H100="分期",C100*(G100-0.025)*2.5*F100/10,C100*(G100-0.025)*H100*F100/30) -> 4000
C101: 30000 | D101: 0711 | E101: 1125 | F101: 14 | G101: =E101/(C101*H101/30) -> 0.075 | H101: 15 | I101: =IF(H101="分期",C101*G101*2.5*F101/10,C101*G101*H101*F101/30) -> 15750 | J101: =IF(H101="分期",C101*(G101-0.025)*2.5*F101/10,C101*(G101-0.025)*H101*F101/30) -> 10500
...

Sheet 依被害人證述計算
A1: 當鋪名稱 | B1: 被害人 姓名 | C1: 借款及繳息期間 （註3） | D1: 借款金額 | E1: 利率(月) | F1: 計息週期(天) | G1: 繳息次數 （註2） | H1: 已繳利息 （註2及註3） | I1: 犯罪所得 （註2及註3） | J1: 合法利率(月) （註4） | K1: 卷證出處及備註
A2: 國泰當鋪 | B2: 丁銘宏 | C2: 94、95年間至102年1月23日 | D2: 100000 | E2: 9%、7.5％ | F2: 15 | G2: 不明 | H2: 不明 | I2: 不明 | J2: 4%、2.5% | K2: A14 卷第1010-1029頁、第1030-1032頁、本院卷十一第301頁
A3: 國泰當鋪 | B3: 劉遠輝 | C3: 95年12月至100年8月 | D3: 155000 | E3: 9%、7.5％ | F3: 15 | G3: 不明 | H3: 不明 | I3: 不明 | J3: 4%、2.5% | K3: B17卷第31-35頁、A16卷第1813-1820頁、本院卷十一第301頁
A4: 國泰當鋪 | B4: 張良盛 | C4: 97、98年間至102年1月23日 | D4: 180000 | E4: 9%、7.5％ | F4: 15 | G4: 不明 | H4: 不明 | I4: 不明 | J4: 4%、2.5% | K4: A62 卷第126-128 頁、A4卷第50-53反頁、A16卷第1821-1825頁、本院卷十一第301頁
A5: 國泰當鋪 | B5: A8 | C5: 97年7月起至100年2月 | D5: 70000 | E5: 9%、7.5％ | F5: 15 | G5: 不明 | H5: 不明 | I5: 不明 | J5: 4%、2.5% | K5: B3卷第228-235頁、第237頁反面-240頁、本院卷十一第301頁
A6: 國泰當鋪 合計 | H6: =SUM(H2:H5) -> 0 | I6: =SUM(I2:I5) -> 0
A7: 丙全當鋪 | B7: 林順義 | C7: 96年6月起至99年9月 | D7: 20000 | E7: 0.08 | F7: 7天（分期 攤還本息） | G7: 104 | H7: =400*G7 -> 41600 | I7: =H7*(E7-J7)/E7 -> 20800 | J7: 0.04 | K7: 1.卷證出處為A21卷第2943-2952頁。 2.分期攤還本息部分，係每萬元每七天還1200元（其中1000為本金，200為利息），分十期，還完後再借。故該部分借款「已繳利息」為（200*2）*（27個月*每月4週）=43,200元。
C8: 98年6月起至99年9月 | D8: 15000 | E8: 0.09 | F8: 15 | G8: 30 | H8: =D8*E8*F8*G8/30 -> 20250 | I8: =D8*(E8-J8)*F8*G8/30 -> 11250 | J8: 0.04
A9: 丙全當鋪 | B9: 張耀童 | C9: 96年間起至100年10月6日 | D9: 10幾萬元 | E9: 9%、7.5％ | F9: 15 | G9: 不明 | H9: 不明 | I9: 不明 | J9: 4%、2.5% | K9: A13卷第765-765之20頁、第766-768頁、本院卷十一第341頁反面
A10: 丙全當鋪 | B10: 張志惠 | C10: 96、97年間至100年10月間 | D10: 20幾萬元 | E10: 9%、7.5％ | F10: 15 | G10: 不明 | H10: 不明 | I10: 不明 | J10: 4%、2.5% | K10: A16 卷第1715-1738 頁、第1740-1743 頁、本院卷十一第341頁反面
A11: 丙全當鋪 | B11: 陳耀武 | C11: 98年9 月23日至99年1 月12日 | D11: 70000 | E11: 0.09 | F11: 15 | G11: 不明 | H11: 不明 | I11: 不明 | J11: 0.04 | K11: A4卷第72-74頁、A12卷第513-519頁、A2卷第233-235頁、本院卷十一第341頁反面
A12: 丙全當鋪 | B12: 陳和平 | C12: 98、99年間至100 年10月 | D12: 150000 | E12: 0.09 | F12: 15 | G12: 24 | H12: =D12*E12*F12*G12/30 -> 162000 | I12: =D12*(E12-J12)*F12*G12/30 -> 90000 | J12: 0.04 | K12: A13卷第730之4-730之21頁、第732-735頁
D13: 150000 | E13: 0.075 | F13: 15 | G13: 18 | H13: =D13*E13*F13*G13/30 -> 101250 | I13: =D13*(E13-J13)*F13*G13/30 -> 67500 | J13: 0.025
A14: 丙全當鋪 | B14: 柯偉松 | C14: 99年7月21日起 | D14: 70000 | E14: 0.09 | F14: 15 | G14: 不明 | H14: 不明 | I14: 不明 | J14: 0.04 | K14: A2卷第16-21頁、第40-46頁、第278-280頁、本院卷十一第341頁反面
A15: 丙全當鋪 | B15: 李德勝 | C15: 99、100年間起一年 | D15: 20000 | E15: 0.075 | F15: 15 | G15: 24 | H15: =D15*E15*F15*G15/30 -> 18000 | I15: =D15*(E15-J15)*F15*G15/30 -> 12000 | J15: 0.025 | K15: A20 卷第2789-2791頁
A16: 丙全當鋪 | B16: 藍萬結 | C16: 99、100年間 | D16: 80000 | E16: 9%、7.5％ | F16: 15 | G16: 不明 | H16: 不明 | I16: 不明 | J16: 4%、2.5% | K16: A21卷第2917-2918頁、本院卷十一第341頁反面
A17: 丙全當鋪 | B17: 張木炎 | C17: 99年4月13日至100年9月 | D17: 60000 | E17: 0.09 | F17: 15 | G17: 17 | H17: =D17*E17*F17*G17/30 -> 45900 | I17: =D17*(E17-J17)*F17*G17/30 -> 25500 | J17: 0.04 | K17: A15卷第1210-1213頁、第1219-1221頁
D18: 60000 | E18: 0.075 | F18: 15 | G18: 18 | H18: =D18*E18*F18*G18/30 -> 40500 | I18: =D18*(E18-J18)*F18*G18/30 -> 27000 | J18: 0.025
A19: 丙全當鋪 | B19: A4 | C19: 99年12月28日至100年9月 | D19: 30000 | E19: 0.075 | F19: 30 | G19: 8 | H19: =D19*E19*F19*G19/30 -> 18000 | I19: =D19*(E19-J19)*F19*G19/30 -> 12000 | J19: 0.025 | K19: B6卷第623-664頁、第665-669之1頁
A20: 丙全當鋪 | B20: 林傳興 | C20: 99年間 | D20: 20000 | E20: 0.09 | F20: 7天（分期 攤還本息） | G20: 10 | H20: 不明 | I20: 不明 | J20: 0.04 | K20: A21卷第2968-2970頁
A21: 丙全當鋪 | B21: 郭承翰 | C21: 100年3月11日至100年9月 | D21: 120000 | E21: 0.075 | F21: 15 | G21: 11 | H21: =D21*E21*F21*G21/30 -> 49500 | I21: =D21*(E21-J21)*F21*G21/30 -> 33000 | J21: 0.025 | K21: A15卷第1192-1208頁
A22: 丙全當鋪 | B22: 朱海鳳 | C22: 98年2月2日 | D22: 70000 | E22: 0.09 | F22: 7 | G22: 不明 | H22: 不明 | I22: 不明 | J22: 0.04 | K22: 台北地檢署102年度偵緝字第20號起訴書 台北地方法院102年度審簡字第894號判決書
C23: 98年2月23日 | D23: 20000 | E23: 0.09 | F23: 7 | G23: 不明 | H23: 不明 | I23: 不明 | J23: 0.04
A24: 丙全當鋪 | B24: 葉福聰 | C24: 100年4月20日至4月30日 | D24: 200000 | E24: 0.075 | F24: 15 | G24: 不明 | H24: 不明 | I24: 不明 | J24: 0.025 | K24: 台北地方法院101年度易字第813號判決書 台灣高等法院102年度上易字第54號判決書
C25: 100年5月1日至11月4日 | D25: 425500 | E25: 至少7.5% | F25: 不明 | G25: 不明 | H25: 不明 | I25: 不明 | J25: 0.025
A26: 丙全當鋪 | B26: 陳舜德 | C26: 97年11月間起約一年 | D26: 160000 | E26: 0.09 | F26: 1 | G26: 365 | H26: =D26*E26*F26*G26/30 -> 175200 | I26: =D26*(E26-J26)*F26*G26/30 -> 97333.333 | J26: 0.04 | K26: 新北地方法院100年度訴字第1538號判決書
A27: 丙全當鋪 | B27: 李如駿 | C27: 98年7月22日起至同年12月初 | D27: 220000 | E27: 0.09 | F27: 1 | G27: 132 | H27: =D27*E27*F27*G27/30 -> 87120 | I27: =D27*(E27-J27)*F27*G27/30 -> 48400 | J27: 0.04 | K27: 新北地方法院100年度訴字第1538號判決書
A28: 丙全當鋪 合計 | H28: =SUM(H7:H27) -> 759320 | I28: =SUM(I7:I27) -> 444783.33
A29: 元一當鋪 | B29: 方士祥 | C29: 101年3、4月間 | D29: 40000 | E29: 0.075 | F29: 15 | G29: 不明 | H29: 不明 | I29: 不明 | J29: 0.025 | K29: A20卷第2833-2836 頁
A30: 元一當鋪 | B30: 王定承 | C30: 97年間起 | D30: 陸續多次借款，金額在1萬至10萬之間 | E30: 9%、7.5％ | F30: 15 | G30: 不明 | H30: 不明 | I30: 不明 | J30: 4%、2.5% | K30: A3卷第126-133 頁
A31: 元一當鋪 | B31: 陳定祥 | C31: 98年初起至100年4月 | D31: 3至5萬元 | E31: 9%、7.5％ | F31: 15 | G31: 不明 | H31: 不明 | I31: 不明 | J31: 4%、2.5% | K31: A20卷第2793-2795頁
A32: 元一當鋪 | B32: 蔣中民 | C32: 98年4、5月起至7、8月 | D32: 50000 | E32: 0.08 | F32: 7天（分期 攤還本息） | G32: 10 | H32: =200*5*10 -> 10000 | I32: =H32*(E32-J32)/E32 -> 5000 | J32: 0.04 | K32: 1.卷證出處為A3卷第35-39頁、A3卷第40-48頁。 2.分期攤還本息部分，係每萬元每七天還1200元（其中1000為本金，200為利息），分十期。
C33: 98年8月間至11月間 | D33: 30000 | E33: 0.08 | F33: 7天（分期 攤還本息） | G33: 10 | H33: =200*3*10 -> 6000 | I33: =H33*(E33-J33)/E33 -> 3000 | J33: 0.04
C34: 98年9、10月間至99年8月 | D34: 110000 | E34: 0.09 | F34: 15 | G34: 20 | H34: =D34*E34*F34*G34/30 -> 99000 | I34: =D34*(E34-J34)*F34*G34/30 -> 55000 | J34: 0.04
A35: 元一當鋪 | B35: 麥宗龍 | C35: 98年7、8月 | D35: 60000 | E35: 0.09 | F35: 15 | G35: 9 | H35: =D35*E35*F35*G35/30 -> 24300 | I35: =D35*(E35-J35)*F35*G35/30 -> 13500 | J35: 0.04 | K35: 證人証述之繳息方式係每10天每萬元900元（A32卷第3-6頁），與其他證人証述每月月息係9％（即每萬元每月利息900元）之內容不符，經被告黃瑞桐以證人身份作證時確認對麥宗龍之放款利率係月息9％（本院卷十一第348頁反面），可見證人麥宗龍之証述應係借款時間久遠而有記憶錯誤之情形，應以月息9％較為可採。
A36: 元一當鋪 | B36: 林賢忠 | C36: 99年1月至99年3月 | D36: 20000 | E36: 0.09 | F36: 15 | G36: 6 | H36: =D36*E36*F36*G36/30 -> 5400 | I36: =D36*(E36-J36)*F36*G36/30 -> 3000 | J36: 0.04 | K36: 1.卷證出處為A3卷第53-58頁、A16卷第1803-1808頁。 2.最後一筆借款2萬元，其証述與其他證人及被告所述放款利率及繳息方式不同，應係證人借款時間久遠而有記憶錯誤之情形，應以月息9％（99年底前）及7.5％（100年以後）較為可採。
C37: 99年4月至99年5月 | D37: 50000 | E37: 0.09 | F37: 15 | G37: 4 | H37: =D37*E37*F37*G37/30 -> 9000 | I37: =D37*(E37-J37)*F37*G37/30 -> 5000 | J37: 0.04
C38: 99年6月至100年3月 | D38: 80000 | E38: 0.09 | F38: 15 | G38: 14 | H38: =D38*E38*F38*G38/30 -> 50400 | I38: =D38*(E38-J38)*F38*G38/30 -> 28000 | J38: 0.04
D39: 80000 | E39: 0.075 | F39: 15 | G39: 6 | H39: =D39*E39*F39*G39/30 -> 18000 | I39: =D39*(E39-J39)*F39*G39/30 -> 12000 | J39: 0.025
C40: 99年10月至100年3月 | D40: 20000 | E40: 9%、7.5％ | F40: 15 | G40: 不明 | H40: 不明 | I40: 不明 | J40: 4%、2.5%
A41: 元一當鋪 | B41: 吳長宗 | C41: 99年3、4月間 | D41: 5-10萬元 | E41: 9%、7.5％ | F41: 15 | G41: 不明 | H41: 不明 | I41: 不明 | J41: 4%、2.5% | K41: A16卷第1757-1758頁
A42: 元一當鋪 | B42: 王功成 | C42: 99年8月至100年1月間 | D42: 20000 | E42: 0.09 | F42: 15 | G42: 12 | H42: =D42*E42*F42*G42/30 -> 10800 | I42: =D42*(E42-J42)*F42*G42/30 -> 6000 | J42: 0.04 | K42: A3卷第74-77頁、A16卷第1760-1761頁
D43: 20000 | E43: 0.075 | F43: 15 | G43: 6 | H43: =D43*E43*F43*G43/30 -> 4500 | I43: =D43*(E43-J43)*F43*G43/30 -> 3000 | J43: 0.025
A44: 元一當鋪 | B44: A3 | C44: 99年3月25日起 | D44: 300000 | E44: 9%、7.5％ | F44: 15 | G44: 不明 | H44: 不明 | I44: 不明 | J44: 4%、2.5% | K44: B10卷第2104-2117頁、B10卷第2118-2123頁
A45: 元一當鋪 | B45: 陳川竹 | C45: 99年5、6月間至100年5月間 | D45: 80000 | E45: 0.075 | F45: 15 | G45: 24 | H45: =D45*E45*F45*G45/30 -> 72000 | I45: =D45*(E45-J45)*F45*G45/30 -> 48000 | J45: 0.025 | K45: A3卷第70-73頁、A32 卷第15-17頁
A46: 元一當鋪 | B46: 丁威頓 | C46: 99年7月至100年3月 | D46: 100000 | E46: 9%、7.5％ | F46: 15 | G46: 不明 | H46: 不明 | I46: 不明 | J46: 4%、2.5% | K46: A3卷第59-63頁、 A17 卷第2045-2051頁
C47: 99年底至100年3月 | D47: 40000 | E47: 0.075 | F47: 15 | G47: 不明 | H47: 不明 | I47: 不明 | J47: 0.025
A48: 元一當鋪 | B48: 林明德 | C48: 99、100年間 | D48: 10000 | E48: 0.075 | F48: 7 | G48: 4 | H48: =D48*E48*F48*G48/30 -> 700 | I48: =D48*(E48-J48)*F48*G48/30 -> 466.66667 | J48: 0.025 | K48: A16卷第1800-1801頁
A49: 元一當鋪 | B49: 吳聰勝 | C49: 99年12月23日至100年5月初 | D49: 80000 | E49: 0.09 | F49: 7 | G49: 1 | H49: =D49*E49*F49*G49/30 -> 1680 | I49: =D49*(E49-J49)*F49*G49/30 -> 933.33333 | J49: 0.04 | K49: A3卷第78-82頁、A32卷第10-13頁
D50: 80000 | E50: 0.075 | F50: 7 | G50: 16 | H50: =D50*E50*F50*G50/30 -> 22400 | I50: =D50*(E50-J50)*F50*G50/30 -> 14933.333 | J50: 0.025
A51: 元一當鋪 | B51: 許進昌 | C51: 100年1月5日至100年4月間 | D51: 60000 | E51: 0.075 | F51: 15 | G51: 8 | H51: =D51*E51*F51*G51/30 -> 18000 | I51: =D51*(E51-J51)*F51*G51/30 -> 12000 | J51: 0.025 | K51: A3 卷第83-87頁、A16 卷第1809-1810頁
C52: 100年3月3日至100年4月間 | D52: 30000 | E52: 0.075 | F52: 15 | G52: 3 | H52: =D52*E52*F52*G52/30 -> 3375 | I52: =D52*(E52-J52)*F52*G52/30 -> 2250 | J52: 0.025
C53: 100年3月間至100年4月間 | D53: 30000 | E53: 0.075 | F53: 15 | G53: 2 | H53: =D53*E53*F53*G53/30 -> 2250 | I53: =D53*(E53-J53)*F53*G53/30 -> 1500 | J53: 0.025
C54: 100年3月11日至100年4月間 | D54: 20000 | E54: 0.075 | F54: 15 | G54: 2 | H54: =D54*E54*F54*G54/30 -> 1500 | I54: =D54*(E54-J54)*F54*G54/30 -> 1000 | J54: 0.025
A55: 元一當鋪 | B55: 胡寶德 | C55: 100年1月7日起 | D55: 50000 | E55: 0.075 | F55: 15 | G55: 8 | H55: =D55*E55*F55*G55/30 -> 15000 | I55: =D55*(E55-J55)*F55*G55/30 -> 10000 | J55: 0.025 | K55: A3卷及B2卷之第88-91頁
A56: 元一當鋪 | B56: 陳志雄 | C56: 100年2月至101年間 | D56: 4至6萬元 | E56: 0.075 | F56: 15 | G56: 不明 | H56: 不明 | I56: 不明 | J56: 0.025 | K56: A3卷第92-94頁、A17 卷第2040-2043頁
A57: 元一當鋪 | B57: 陳成業 | C57: 100年2月16日至4月間 | D57: 30000 | E57: 0.075 | F57: 15 | G57: 4 | H57: =D57*E57*F57*G57/30 -> 4500 | I57: =D57*(E57-J57)*F57*G57/30 -> 3000 | J57: 0.025 | K57: A3卷第110-112頁、A18卷第2129-2130頁
A58: 元一當鋪 | B58: 陳孟元 | C58: 100年6月間至101年4月間 | D58: 30000 | E58: 0.075 | F58: 15 | G58: 20 | H58: =D58*E58*F58*G58/30 -> 22500 | I58: =D58*(E58-J58)*F58*G58/30 -> 15000 | J58: 0.025 | K58: A3卷第117-125 頁、A17 卷第2063-2064 頁
A59: 元一當鋪 | B59: A9 | C59: 100年6月起 | D59: 200000 | E59: 0.075 | F59: 15 | G59: =18*2 -> 36 | H59: =D59*E59*F59*G59/30 -> 270000 | I59: =D59*(E59-J59)*F59*G59/30 -> 180000 | J59: 0.025 | K59: B7卷第972- 985頁、第1002-1009頁
A60: 元一當鋪 | B60: 翁榮成 | C60: 99年3月24日至100年9月12日 | D60: 30000 | E60: 0.09 | F60: 15 | G60: 18 | H60: =D60*E60*F60*G60/30 -> 24300 | I60: =D60*(E60-J60)*F60*G60/30 -> 13500 | J60: 0.04 | K60: 1.卷證出處為A17卷第2052-2055頁、第2058-2060頁 2.證人供述借款期間與典當資料不符，在有利被告原則下，以典當資料所示借款期間作為計算。
D61: 30000 | E61: 0.075 | F61: 15 | G61: 16 | H61: =D61*E61*F61*G61/30 -> 18000 | I61: =D61*(E61-J61)*F61*G61/30 -> 12000 | J61: 0.025
C62: 99年8月11日至100年12月 | D62: 80000 | E62: 0.09 | F62: 15 | G62: 9 | H62: =D62*E62*F62*G62/30 -> 32400 | I62: =D62*(E62-J62)*F62*G62/30 -> 18000 | J62: 0.04
D63: 80000 | E63: 0.075 | F63: 15 | G63: 24 | H63: =D63*E63*F63*G63/30 -> 72000 | I63: =D63*(E63-J63)*F63*G63/30 -> 48000 | J63: 0.025
A64: 元一當鋪 | B64: 葉福聰 | C64: 100年11月5日至11月28日 | D64: 425500 | E64: 至少7.5% | F64: 不明 | G64: 不明 | H64: 不明 | I64: 不明 | J64: 0.025 | K64: 台北地方法院101年度易字第813號判決書 台灣高等法院102年度上易字第54號判決書
A65: 元一當鋪 合計 | H65: =SUBTOTAL(9,H29:H64) -> 818005 | I65: =SUBTOTAL(9,I29:I64) -> 514083.33
A66: 元崗當鋪 | B66: 簡茂森 | C66: 96年3月6日至99年12月30日 | D66: 30000 | E66: 0.09 | F66: 15 | G66: 58 | H66: =D66*E66*F66*G66/30 -> 78300 | I66: =D66*(E66-J66)*F66*G66/30 -> 43500 | J66: 0.04 | K66: 1.卷證出處為A15卷第1350-1355頁、第1362-1367頁 2.第二筆借款依證述內容計算100年1月1日至101年6月底之利息，101年7月至102年1月已於附表一之2納入帳證計算，左列不再重複計算。
C67: 100年1月1日至102年1月 | D67: 160000 | E67: 0.075 | F67: 15 | G67: =6*2 -> 12 | H67: =D67*E67*F67*G67/30 -> 72000 | I67: =D67*(E67-J67)*F67*G67/30 -> 48000 | J67: 0.025
A68: 元崗當鋪 | B68: 張木炎 | C68: 100年9月至102年1月 | D68: 80000 | E68: 0.075 | F68: 15 | G68: 20 | H68: =D68*E68*F68*G68/30 -> 60000 | I68: =D68*(E68-J68)*F68*G68/30 -> 40000 | J68: 0.025 | K68: 1.卷證出處為A15卷第1210-1213頁、第1219-1221頁 2.依證述內容計算100年9月至101年6月底之利息，101年7月至102年1月已於附表一之2納入帳證計算，左列不再重複計算。
A69: 元崗當鋪 | B69: A4 | C69: 100年10月6日至102年1月10日 | D69: 85000 | E69: 0.075 | F69: 30 | G69: 不明 | H69: 不明 | I69: 不明 | J69: 0.025 | K69: B6卷第623-664頁、第665-669之1頁
A70: 元崗當鋪 | B70: 郭承翰 | C70: 100年9月至102年1月 | D70: 250000 | E70: 0.075 | F70: 15 | G70: =10*2 -> 20 | H70: =D70*E70*F70*G70/30 -> 187500 | I70: =D70*(E70-J70)*F70*G70/30 -> 125000 | J70: 0.025 | K70: 1.卷證出處為A15卷第1192-1208頁。 2.依證述內容計算100年9月至101年6月底之利息，101年7月至102年1月已於附表一之2納入帳證計算，左列不再重複計算。
A71: 元崗當鋪 | B71: 周茂正 | C71: 98、99年間至100 年8 月中 | D71: 30000 | E71: 0.075 | F71: 15 | G71: 不明 | H71: 不明 | I71: 不明 | J71: 4%、2.5% | K71: A2卷第250-253頁、第40-46頁、第282-283頁
A72: 元崗當鋪 | B72: 陳志松 | C72: 99年11月16日 | D72: 35000 | E72: 9%、7.5％ | F72: 30 | G72: 不明 | H72: 45900 | I72: 不明 | J72: 4%、2.5% | K72: 台北地方法院101年度簡字第3619號判決書
C73: 100年10月14日 | D73: 40000 | E73: 0.075 | F73: 30 | G73: 不明 | J73: 0.025
A74: 元崗當鋪 合計 | H74: =SUBTOTAL(9,H66:H73) -> 443700 | I74: =SUBTOTAL(9,I66:I73) -> 256500
A75: 元喆當鋪 | B75: 劉秋火 | C75: 96年間起 | D75: 60000 | E75: 9%、7.5％ | F75: 15 | G75: 不明 | H75: 不明 | I75: 不明 | J75: 4%、2.5% | K75: 1.卷證出處為A15卷第1474-1482頁、第1483-1484頁。 2.102年1月15日另行之借款，因被告被抓，故尚未開始繳息。
C76: 102年1月15日 | D76: 20000 | E76: 0.075 | F76: 15 | G76: 0 | H76: =D76*E76*F76*G76/30 -> 0 | I76: =D76*(E76-J76)*F76*G76/30 -> 0 | J76: 0.025
A77: 元喆當鋪 | B77: 曹智豪 | C77: 98年起至102年1月 | D77: 陸續借到 35萬元 | E77: 9%、7.5％ | F77: 15 | G77: 不明 | H77: 不明 | I77: 不明 | J77: 4%、2.5% | K77: A19 卷第2370-2372頁、第2378-2380頁
A78: 元喆當鋪 | B78: 廖振宏 | C78: 100年5月5日至102年2月23日 | D78: 60000 | E78: 0.075 | F78: 15 | G78: 42 | H78: =D78*E78*F78*G78/30 -> 94500 | I78: =D78*(E78-J78)*F78*G78/30 -> 63000 | J78: 0.025 | K78: A18卷第2259-2266頁、A18卷第2267-2270頁
A79: 元喆當鋪 | B79: 呂慶安 | C79: 99、100年間 | D79: 100000 | E79: 0.075 | F79: 15 | G79: 不明 | H79: 不明 | I79: 不明 | J79: 0.025 | K79: A19 卷第2383-2401頁
A80: 元喆當鋪 | B80: 陳建德 | C80: 99年間至102年4月12日 | D80: 150000 | E80: 0.075 | F80: 15 | G80: 44 | H80: =D80*E80*F80*G80/30 -> 247500 | I80: =D80*(E80-J80)*F80*G80/30 -> 165000 | J80: 0.025 | K80: 1.卷證出處為A18卷第2161-2164頁、第2170-2243頁 2.依證述內容計算100年至101年10月底之利息，101年11月至102年1月已於附表一之3納入帳證計算，左列不再重複計算。
A81: 元喆當鋪 | B81: 施純堯 | C81: 99年底至100年2月底 | D81: 600000 | E81: 0.075 | F81: 15 | G81: 4 | H81: =D81*E81*F81*G81/30 -> 90000 | I81: =D81*(E81-J81)*F81*G81/30 -> 60000 | J81: 0.025 | K81: A15卷第1459-1468頁、第1469-1472頁
A82: 元喆當鋪 | B82: 洗志和 | C82: 100年4月至102年1月 | D82: 160000 | E82: 0.075 | F82: 15 | G82: 38 | H82: =D82*E82*F82*G82/30 -> 228000 | I82: =D82*(E82-J82)*F82*G82/30 -> 152000 | J82: 0.025 | K82: 1.卷證出處為A18卷第2244-2247頁、第2255-2257頁 2.依證述內容計算100年4月至101年10月底之利息，101年11月至102年1月已於附表一之3納入帳證計算，左列不再重複計算。
A83: 元喆當鋪 | B83: 黃祖生 | C83: 100年10、11月間起至102年1月底 | D83: 陸續借9萬元 | E83: 0.075 | F83: 15 | G83: 不明 | H83: 不明 | I83: 不明 | J83: 0.025 | K83: A20卷第2797-2802頁
A84: 元喆當鋪 | B84: 王周來 | C84: 100年11月至102年1月27日 | D84: 60000 | E84: 0.075 | F84: 15 | G84: 29 | H84: =D84*E84*F84*G84/30 -> 65250 | I84: =D84*(E84-J84)*F84*G84/30 -> 43500 | J84: 0.025 | K84: A18卷第2132-2135頁、第2143-2149頁
A85: 元喆當鋪 | B85: 李坤南 | C85: 100年間起至101年 | D85: 陸續借7萬元 | E85: 0.075 | F85: 15 | G85: 不明 | H85: 不明 | I85: 不明 | J85: 0.025 | K85: A21卷第2933-2934頁
A86: 元喆當鋪 | B86: 王以德 | C86: 101年6月28日至102年1月22日 | D86: 90000 | E86: 0.075 | F86: 15 | G86: 13 | H86: =D86*E86*F86*G86/30 -> 43875 | I86: =D86*(E86-J86)*F86*G86/30 -> 29250 | J86: 0.025 | K86: A20卷第2651-2666頁、A20卷第2667-2706頁
A87: 元喆當鋪 | B87: 張榮興 | C87: 101年12月29日至102年3月18日 | D87: 20000 | E87: 0.075 | F87: 15 | G87: 2 | H87: =D87*E87*F87*G87/30 -> 1500 | I87: =D87*(E87-J87)*F87*G87/30 -> 1000 | J87: 0.025 | K87: 1.卷證出處為A15卷第1402-1404頁、第1411-1413頁。 2.證人証述第二筆借款之時間為「102年2月1日」，惟比對當票上所示日期為「102年1月18日」，以及證人証述與其接洽借款者乃「黃詩文」，而黃詩文於102年1月23日始被羈押，故應以當票上所示日期作為借款時點較為可採。
C88: 102年1月18日至102年3月18日 | D88: 50000 | E88: 0.075 | F88: 15 | G88: 1 | H88: =D88*E88*F88*G88/30 -> 1875 | I88: =D88*(E88-J88)*F88*G88/30 -> 1250 | J88: 0.025
A89: 元喆當鋪 | B89: 李文龍 | C89: 102年1月間起 | D89: 10000 | E89: 0.075 | F89: 15 | G89: 0 | H89: =D89*E89*F89*G89/30 -> 0 | I89: =D89*(E89-J89)*F89*G89/30 -> 0 | J89: 0.025 | K89: A19 卷第2331-2333 頁
A90: 元喆當鋪 合計 | H90: =SUBTOTAL(9,H75:H89) -> 772500 | I90: =SUBTOTAL(9,I75:I89) -> 515000
A91: 合豐當鋪 | B91: A8 | C91: 100年2月起至102年2月28日 | D91: 70000 | E91: 0.075 | F91: 15 | G91: 不明 | H91: 不明 | I91: 不明 | J91: 0.025 | K91: B3卷第228-235頁、第237頁反面-240頁
A92: 合豐當鋪 | B92: 黃春生 | C92: 100年4月起至101年9月15日 | D92: 100000 | E92: 0.075 | F92: 15 | G92: 11 | H92: =D92*E92*F92*G92/30 -> 41250 | I92: =D92*(E92-J92)*F92*G92/30 -> 27500 | J92: 0.025 | K92: A21卷第2983-2988頁
A93: 合豐當鋪 | B93: A10 | C93: 101年6、7月起至100年底 | D93: 300000 | E93: 0.075 | F93: 15 | G93: 12 | H93: =D93*E93*F93*G93/30 -> 135000 | I93: =D93*(E93-J93)*F93*G93/30 -> 90000 | J93: 0.025 | K93: B7卷第988-1001 頁、第1002-1009 頁
A94: 合豐當鋪 | B94: 呂宗哲 | C94: 100年間 | D94: 30000 | E94: 0.06 | F94: 7天（分期 攤還本息） | G94: 10 | H94: =150*3*10 -> 4500 | I94: =H94*(E94-J94)/E94 -> 2625 | J94: 0.025 | K94: 1.卷證出處為A17卷第1989-1996 頁。 2.第一筆分期攤還本息之借款，係每萬元每七天還150元（其中1000為本金，150為利息），分十期繳清；第二筆分期攤還本息之借款，係每萬元每七天還1175元（其中1000為本金，175為利息），同為十期繳清。
C95: 101年間 | D95: 10000 | E95: 0.07 | F95: 7天（分期 攤還本息） | G95: 7 | H95: =175*7 -> 1225 | I95: =H95*(E95-J95)/E95 -> 787.5 | J95: 0.025
A96: 合豐當鋪 | B96: 林寶堂 | C96: 101年6月起 | D96: 30000 | E96: 0.075 | F96: 15 | G96: 不明 | H96: 不明 | I96: 不明 | J96: 0.025 | K96: B8卷第1267-1275頁、第1276-1280之1 頁
A97: 合豐當鋪 | B97: 莊榮昌 | C97: 101年4月20日起 | D97: 280000 | E97: 0.075 | F97: 15 | G97: 6 | H97: =D97*E97*F97*G97/30 -> 63000 | I97: =D97*(E97-J97)*F97*G97/30 -> 42000 | J97: 0.025 | K97: A26 卷第5-7頁
D98: 180000 | E98: 0.075 | F98: 15 | G98: 20 | H98: =D98*E98*F98*G98/30 -> 135000 | I98: =D98*(E98-J98)*F98*G98/30 -> 90000 | J98: 0.025
A99: 合豐當鋪 | B99: 陳瑞章 | C99: 101年6月10日起 | D99: 30000 | E99: 0.075 | F99: 15 | G99: 不明 | H99: 不明 | I99: 不明 | J99: 0.025 | K99: A26卷第149-156頁
A100: 合豐當鋪 | B100: 王進財 | C100: 101年11月22日起至102年1月 | D100: 20000 | E100: 0.07 | F100: 7天（分期 攤還本息） | G100: 10 | H100: =175*2*10 -> 3500 | I100: =H100*(E100-J100)/E100 -> 2250 | J100: 0.025 | K100: 1.卷證出處為A26卷第157-164頁。 2.分期攤還本息部分之借款，係每萬元每七天還1175元（其中1000為本金，175為利息），十期繳清。
...
