Workbook

Sheet 犯罪所得統計
B1: 附表一：重利犯罪所得匯總表（註3）
A3: 編號 | B3: 當鋪名稱（註1） | D3: 統計期間 | E3: 繳息小計 | F3: 繳息合計 | G3: 犯罪所得小計 | H3: 犯罪所得 | I3: 計算資料
A4: 1 | B4: 國泰當鋪合計 | D4: 99/8/2~102/1/20 | F4: =國泰當鋪!I1667 -> 20120852 | H4: =國泰當鋪!J1667 -> 13172269 | I4: 附表一之1：依扣案帳冊計算
A5: 2 | B5: 丙全當鋪合計 | F5: =依被害人證述計算!H28 -> 759320 | H5: =依被害人證述計算!I28 -> 444783.33 | I5: 附表一之7：依證人證述計算
A6: 3 | B6: 元一當鋪合計 | F6: =SUM(E7:E8) -> 865100 | H6: =SUM(G7:G8) -> 545480
C7: 元一當鋪 | D7: 102/1/1~102/1/22 | E7: =元一當鋪!D17 -> 47095 | G7: =元一當鋪!D19 -> 31396.667 | I7: 附表一之4：依扣案帳冊計算
C8: 元一當鋪 | E8: =依被害人證述計算!H65 -> 818005 | G8: =依被害人證述計算!I65 -> 514083.33 | I8: 附表一之7：依證人證述計算
A9: 4 | B9: 元崗當鋪合計（註2） | F9: =SUM(E10:E11) -> 3063870 | H9: =SUM(G10:G11) -> 2003280
C10: 元崗當鋪 | D10: 101年7月~102年1月22日 | E10: =元崗當鋪!D1310 -> 2620170 | G10: =元崗當鋪!D1312 -> 1746780 | I10: 附表一之2：依扣案帳冊計算
C11: 元崗當鋪 | E11: =依被害人證述計算!H74 -> 443700 | G11: =依被害人證述計算!I74 -> 256500 | I11: 附表一之7：依證人證述計算
A12: 5 | B12: 元喆當鋪合計 | F12: =SUM(E13:E14) -> 1866895 | H12: =SUM(G13:G14) -> 1244596.7
C13: 元喆當鋪 | D13: 101年11月~102年1月22日 | E13: =元喆當鋪!D586 -> 1094395 | G13: =E13*2/3 -> 729596.67 | I13: 附表一之3：依扣案帳冊計算
C14: 元喆當鋪 | E14: =依被害人證述計算!H90 -> 772500 | G14: =依被害人證述計算!I90 -> 515000 | I14: 附表一之7：依證人證述計算
A15: 6 | B15: 合豐當鋪合計 | F15: =SUM(E16:E17) -> 1061570 | H15: =SUM(G16:G17) -> 702982.08
C16: 合豐當鋪 | D16: 101年1月~101年3月 | E16: =合豐當鋪!E462 -> 597095 | G16: =合豐當鋪!I462 -> 393819.58 | I16: 附表一之5：依扣案帳冊計算
C17: 合豐當鋪 | E17: =依被害人證述計算!H104 -> 464475 | G17: =依被害人證述計算!I104 -> 309162.5 | I17: 附表一之7：依證人證述計算
A18: 7 | B18: 瑞誠當鋪合計 | F18: =SUM(E19:E20) -> 18487714 | H18: =SUM(G19:G20) -> 12044895
C19: 瑞誠當鋪 | D19: 100年2月至102年3月 | E19: =瑞誠當鋪!I2750 -> 17775214 | G19: =瑞誠當鋪!J2750 -> 11569895 | I19: 附表一之6：依扣案帳冊計算
C20: 瑞誠當鋪 | E20: =依被害人證述計算!H107 -> 712500 | G20: =依被害人證述計算!I107 -> 475000 | I20: 附表一之7：依證人證述計算
A21: 上開編號1-6之當鋪合計 | F21: =SUM(F3:F17) -> 27737607 | H21: =SUM(H3:H17) -> 18113391
A22: 上開編號1-7之當鋪合計 | F22: =SUM(F4:F20) -> 46225321 | H22: =SUM(H4:H20)+1 -> 30158287
B23: 註1： | C23: 丙全當鋪因已於100年10月15日登記停業，本案搜索時未能扣得相關帳冊（詳檢察官102年7月26日補充理由書），故僅能依證人証述計算犯罪所得。
B24: 註2： | C24: 起訴書誤將元崗當鋪「繳息小計」、「犯罪所得小計」之金額重複計入「繳息合計」欄、「犯罪所得」欄中。
B25: 註3： | C25: 起訴書附表二、檢察官102年7月16日補充理由書第12頁及第15頁增列之重利被害人周茂正、徐潤祥、凃清城、彭南山、張明文、伍思富、102年7月19日補充理由書第3-5 頁所列張明文、陳志忠、項紀文、林坤增、莊榮昌、劉志鵬、黃冠源、劉昭鎮、李希睿、劉正文、陳瑞章、王進財、陳建華、李永成、陳文進、簡福來等人，除(1)起訴書附表二編號10「張明珠」非本案借款人，(2)起訴書附表二編號9「方士祥」於「丙全當鋪」之借款及(3)附表一之7「註3」所示「借款期間」欄所示借款期間在「97年7月24日」以前之部分，因均係於97年7月24日以前所為的重利行為，其相關重利犯罪所得金額均不列計於本附表內之外，就起訴書、檢察官補充理由書所列其餘被害人部分之重利犯罪所得金額均已列於上開附表一之1至一之7中。

Sheet 國泰當鋪
A1: 編 號 | B1: 會員 編號 | C1: 姓名 | D1: [A]本金 | E1: [B]月利率 (註3) | F1: [C]計息週期(天)(註3) | G1: [D]第一次 繳息日 | H1: [E]繳息 次數 | I1: [F]已繳利息(註4) | J1: [G]犯罪所得 (註5) | K1: 卷證出處 （註1） | L1: 備註
A2: 1 | B2: 1(B) | C2: 張耀童 | D2: 85000 | E2: 0.075 | F2: 15 | G2: 40836 | H2: 31 | I2: =IF(F2="分期",D2*E2*2.5*H2/10,D2*E2*F2*H2/30) -> 98812.5 | J2: =IF(F2="分期",D2*(E2-0.025)*2.5*H2/10,D2*(E2-0.025)*F2/30*H2) -> 65875 | K2: 第1頁
D3: 75000 | E3: 0.075 | F3: 15 | G3: 41298 | H3: 1 | I3: =IF(F3="分期",D3*E3*2.5*H3/10,D3*E3*F3*H3/30)+2 -> 2814.5 | J3: =IF(F3="分期",D3*(E3-0.025)*2.5*H3/10,D3*(E3-0.025)*F3/30*H3) -> 1875 | L3: （註2）
A4: 2 | B4: 3(B) | C4: 徐敏峰 | D4: 155000 | E4: 0.075 | F4: 15 | G4: 40836 | H4: 3 | I4: =IF(F4="分期",D4*E4*2.5*H4/10,D4*E4*F4*H4/30) -> 17437.5 | J4: =IF(F4="分期",D4*(E4-0.025)*2.5*H4/10,D4*(E4-0.025)*F4/30*H4) -> 11625 | K4: 第2頁
D5: 140000 | E5: 0.075 | F5: 15 | G5: 40881 | H5: 1 | I5: =IF(F5="分期",D5*E5*2.5*H5/10,D5*E5*F5*H5/30) -> 5250 | J5: =IF(F5="分期",D5*(E5-0.025)*2.5*H5/10,D5*(E5-0.025)*F5/30*H5) -> 3500
D6: 130000 | E6: 0.075 | F6: 15 | G6: 40896 | H6: 2 | I6: =IF(F6="分期",D6*E6*2.5*H6/10,D6*E6*F6*H6/30) -> 9750 | J6: =IF(F6="分期",D6*(E6-0.025)*2.5*H6/10,D6*(E6-0.025)*F6/30*H6) -> 6500
D7: 120000 | E7: 0.075 | F7: 15 | G7: 40926 | H7: 3 | I7: =IF(F7="分期",D7*E7*2.5*H7/10,D7*E7*F7*H7/30) -> 13500 | J7: =IF(F7="分期",D7*(E7-0.025)*2.5*H7/10,D7*(E7-0.025)*F7/30*H7) -> 9000
D8: 100000 | E8: 0.075 | F8: 15 | G8: 40971 | H8: 1 | I8: =IF(F8="分期",D8*E8*2.5*H8/10,D8*E8*F8*H8/30) -> 3750 | J8: =IF(F8="分期",D8*(E8-0.025)*2.5*H8/10,D8*(E8-0.025)*F8/30*H8) -> 2500
D9: 90000 | E9: 0.075 | F9: 15 | G9: 40986 | H9: 1 | I9: =IF(F9="分期",D9*E9*2.5*H9/10,D9*E9*F9*H9/30) -> 3375 | J9: =IF(F9="分期",D9*(E9-0.025)*2.5*H9/10,D9*(E9-0.025)*F9/30*H9) -> 2250
D10: 80000 | E10: 0.075 | F10: 15 | G10: 41001 | H10: 1 | I10: =IF(F10="分期",D10*E10*2.5*H10/10,D10*E10*F10*H10/30) -> 3000 | J10: =IF(F10="分期",D10*(E10-0.025)*2.5*H10/10,D10*(E10-0.025)*F10/30*H10) -> 2000
D11: 70000 | E11: 0.075 | F11: 15 | G11: 41016 | H11: 2 | I11: =IF(F11="分期",D11*E11*2.5*H11/10,D11*E11*F11*H11/30) -> 5250 | J11: =IF(F11="分期",D11*(E11-0.025)*2.5*H11/10,D11*(E11-0.025)*F11/30*H11) -> 3500
D12: 60000 | E12: 0.075 | F12: 15 | G12: 41046 | H12: 1 | I12: =IF(F12="分期",D12*E12*2.5*H12/10,D12*E12*F12*H12/30) -> 2250 | J12: =IF(F12="分期",D12*(E12-0.025)*2.5*H12/10,D12*(E12-0.025)*F12/30*H12) -> 1500
A13: 3 | B13: 5(B) | C13: 熊明興 | D13: 110000 | E13: 0.075 | F13: 15 | G13: 40836 | H13: 3 | I13: =IF(F13="分期",D13*E13*2.5*H13/10,D13*E13*F13*H13/30) -> 12375 | J13: =IF(F13="分期",D13*(E13-0.025)*2.5*H13/10,D13*(E13-0.025)*F13/30*H13) -> 8250 | K13: 第3頁
A14: 4 | B14: 7(B) | C14: 陳明傳 | D14: 175000 | E14: 0.075 | F14: 15 | G14: 40836 | H14: 2 | I14: =IF(F14="分期",D14*E14*2.5*H14/10,D14*E14*F14*H14/30) -> 13125 | J14: =IF(F14="分期",D14*(E14-0.025)*2.5*H14/10,D14*(E14-0.025)*F14/30*H14) -> 8750 | K14: 第4頁 | L14: 起訴書誤載姓名為「陳明博」
D15: 165000 | E15: 0.075 | F15: 15 | G15: 40896 | H15: 2 | I15: =IF(F15="分期",D15*E15*2.5*H15/10,D15*E15*F15*H15/30) -> 12375 | J15: =IF(F15="分期",D15*(E15-0.025)*2.5*H15/10,D15*(E15-0.025)*F15/30*H15) -> 8250
D16: 150000 | E16: 0.075 | F16: 15 | G16: 40926 | H16: 3 | I16: =IF(F16="分期",D16*E16*2.5*H16/10,D16*E16*F16*H16/30) -> 16875 | J16: =IF(F16="分期",D16*(E16-0.025)*2.5*H16/10,D16*(E16-0.025)*F16/30*H16) -> 11250
D17: 155000 | E17: 0.075 | F17: 15 | G17: 40971 | H17: 2 | I17: =IF(F17="分期",D17*E17*2.5*H17/10,D17*E17*F17*H17/30) -> 11625 | J17: =IF(F17="分期",D17*(E17-0.025)*2.5*H17/10,D17*(E17-0.025)*F17/30*H17) -> 7750
D18: 150000 | E18: 0.075 | F18: 15 | G18: 41001 | H18: 1 | I18: =IF(F18="分期",D18*E18*2.5*H18/10,D18*E18*F18*H18/30) -> 5625 | J18: =IF(F18="分期",D18*(E18-0.025)*2.5*H18/10,D18*(E18-0.025)*F18/30*H18) -> 3750
D19: 155000 | E19: 0.075 | F19: 15 | G19: 41016 | H19: 1 | I19: =IF(F19="分期",D19*E19*2.5*H19/10,D19*E19*F19*H19/30) -> 5812.5 | J19: =IF(F19="分期",D19*(E19-0.025)*2.5*H19/10,D19*(E19-0.025)*F19/30*H19) -> 3875
D20: 145000 | E20: 0.075 | F20: 15 | G20: 41031 | H20: 1 | I20: =IF(F20="分期",D20*E20*2.5*H20/10,D20*E20*F20*H20/30) -> 5437.5 | J20: =IF(F20="分期",D20*(E20-0.025)*2.5*H20/10,D20*(E20-0.025)*F20/30*H20) -> 3625
D21: 140000 | E21: 0.075 | F21: 15 | G21: 41046 | H21: 1 | I21: =IF(F21="分期",D21*E21*2.5*H21/10,D21*E21*F21*H21/30) -> 5250 | J21: =IF(F21="分期",D21*(E21-0.025)*2.5*H21/10,D21*(E21-0.025)*F21/30*H21) -> 3500
D22: 130000 | E22: 0.075 | F22: 15 | G22: 41061 | H22: 1 | I22: =IF(F22="分期",D22*E22*2.5*H22/10,D22*E22*F22*H22/30) -> 4875 | J22: =IF(F22="分期",D22*(E22-0.025)*2.5*H22/10,D22*(E22-0.025)*F22/30*H22) -> 3250
D23: 120000 | E23: 0.075 | F23: 15 | G23: 41076 | H23: 3 | I23: =IF(F23="分期",D23*E23*2.5*H23/10,D23*E23*F23*H23/30) -> 13500 | J23: =IF(F23="分期",D23*(E23-0.025)*2.5*H23/10,D23*(E23-0.025)*F23/30*H23) -> 9000
D24: 10000 | E24: 0.07 | F24: 分期 | G24: 41115 | H24: 10 | I24: =IF(F24="分期",D24*E24*2.5*H24/10,D24*E24*F24*H24/30) -> 1750 | J24: =IF(F24="分期",D24*(E24-0.025)*2.5*H24/10,D24*(E24-0.025)*F24/30*H24) -> 1125
D25: 110000 | E25: 0.075 | F25: 15 | G25: 41121 | H25: 9 | I25: =IF(F25="分期",D25*E25*2.5*H25/10,D25*E25*F25*H25/30) -> 37125 | J25: =IF(F25="分期",D25*(E25-0.025)*2.5*H25/10,D25*(E25-0.025)*F25/30*H25) -> 24750
D26: 10000 | E26: 0.07 | F26: 分期 | G26: 41171 | H26: 10 | I26: =IF(F26="分期",D26*E26*2.5*H26/10,D26*E26*F26*H26/30) -> 1750 | J26: =IF(F26="分期",D26*(E26-0.025)*2.5*H26/10,D26*(E26-0.025)*F26/30*H26) -> 1125
D27: 10000 | E27: 0.07 | F27: 分期 | G27: 41207 | H27: 10 | I27: =IF(F27="分期",D27*E27*2.5*H27/10,D27*E27*F27*H27/30) -> 1750 | J27: =IF(F27="分期",D27*(E27-0.025)*2.5*H27/10,D27*(E27-0.025)*F27/30*H27) -> 1125
D28: 10000 | E28: 0.07 | F28: 分期 | G28: 41222 | H28: 10 | I28: =IF(F28="分期",D28*E28*2.5*H28/10,D28*E28*F28*H28/30) -> 1750 | J28: =IF(F28="分期",D28*(E28-0.025)*2.5*H28/10,D28*(E28-0.025)*F28/30*H28) -> 1125
D29: 90000 | E29: 0.075 | F29: 15 | G29: 41241 | H29: 5 | I29: =IF(F29="分期",D29*E29*2.5*H29/10,D29*E29*F29*H29/30) -> 16875 | J29: =IF(F29="分期",D29*(E29-0.025)*2.5*H29/10,D29*(E29-0.025)*F29/30*H29) -> 11250 | L29: （註2）
D30: 10000 | E30: 0.07 | F30: 分期 | G30: 41253 | H30: 7 | I30: =IF(F30="分期",D30*E30*2.5*H30/10,D30*E30*F30*H30/30) -> 1225 | J30: =IF(F30="分期",D30*(E30-0.025)*2.5*H30/10,D30*(E30-0.025)*F30/30*H30) -> 787.5 | L30: （註2）
D31: 10000 | E31: 0.07 | F31: 分期 | G31: 41271 | H31: 3 | I31: =IF(F31="分期",D31*E31*2.5*H31/10,D31*E31*F31*H31/30) -> 525 | J31: =IF(F31="分期",D31*(E31-0.025)*2.5*H31/10,D31*(E31-0.025)*F31/30*H31) -> 337.5
A32: 5 | B32: 9(B) | C32: 張志惠 | D32: 10000 | E32: 0.07 | F32: 分期 | G32: 40882 | H32: 10 | I32: =IF(F32="分期",D32*E32*2.5*H32/10,D32*E32*F32*H32/30) -> 1750 | J32: =IF(F32="分期",D32*(E32-0.025)*2.5*H32/10,D32*(E32-0.025)*F32/30*H32) -> 1125 | K32: 第5頁
D33: 10000 | E33: 0.07 | F33: 分期 | G33: 40949 | H33: 10 | I33: =IF(F33="分期",D33*E33*2.5*H33/10,D33*E33*F33*H33/30) -> 1750 | J33: =IF(F33="分期",D33*(E33-0.025)*2.5*H33/10,D33*(E33-0.025)*F33/30*H33) -> 1125
D34: 255000 | E34: 0.075 | F34: 15 | G34: 41029 | H34: 19 | I34: =IF(F34="分期",D34*E34*2.5*H34/10,D34*E34*F34*H34/30) -> 181687.5 | J34: =IF(F34="分期",D34*(E34-0.025)*2.5*H34/10,D34*(E34-0.025)*F34/30*H34) -> 121125 | L34: （註2）
D35: 100000 | E35: 0.075 | F35: 15 | G35: 41067 | H35: 15 | I35: =IF(F35="分期",D35*E35*2.5*H35/10,D35*E35*F35*H35/30) -> 56250 | J35: =IF(F35="分期",D35*(E35-0.025)*2.5*H35/10,D35*(E35-0.025)*F35/30*H35) -> 37500
D36: 205000 | E36: 0.075 | F36: 15 | G36: 41202 | H36: 13 | I36: =IF(F36="分期",D36*E36*2.5*H36/10,D36*E36*F36*H36/30) -> 99937.5 | J36: =IF(F36="分期",D36*(E36-0.025)*2.5*H36/10,D36*(E36-0.025)*F36/30*H36) -> 66625
A37: 6 | B37: 11(B) | C37: 王寶珠 | D37: 235000 | E37: 0.075 | F37: 15 | G37: 40836 | H37: 31 | I37: =IF(F37="分期",D37*E37*2.5*H37/10,D37*E37*F37*H37/30) -> 273187.5 | J37: =IF(F37="分期",D37*(E37-0.025)*2.5*H37/10,D37*(E37-0.025)*F37/30*H37) -> 182125 | K37: 第6頁
A38: 7 | B38: 13(B) | C38: 陳文輝 | D38: 145000 | E38: 0.075 | F38: 15 | G38: 40836 | H38: 5 | I38: =IF(F38="分期",D38*E38*2.5*H38/10,D38*E38*F38*H38/30) -> 27187.5 | J38: =IF(F38="分期",D38*(E38-0.025)*2.5*H38/10,D38*(E38-0.025)*F38/30*H38) -> 18125 | K38: 第7頁
A39: 8 | B39: 15(B) | C39: 陳建龍 | D39: 25000 | E39: 0.075 | F39: 15 | G39: 40837 | H39: 2 | I39: =IF(F39="分期",D39*E39*2.5*H39/10,D39*E39*F39*H39/30) -> 1875 | J39: =IF(F39="分期",D39*(E39-0.025)*2.5*H39/10,D39*(E39-0.025)*F39/30*H39) -> 1250 | K39: 第8頁
D40: 130000 | E40: 0.075 | F40: 15 | G40: 40866 | H40: 7 | I40: =IF(F40="分期",D40*E40*2.5*H40/10,D40*E40*F40*H40/30) -> 34125 | J40: =IF(F40="分期",D40*(E40-0.025)*2.5*H40/10,D40*(E40-0.025)*F40/30*H40) -> 22750
...

Sheet 元崗當鋪
A1: 編號 | B1: 姓名 | C1: 扣息日期 | D1: 扣息金額 | E1: 卷證出處 （註1） | F1: 備註
A2: 1 | B2: 尹必偉 | C2: 41096 | D2: =6940+755 -> 7695 | E2: 扣押物箱內編號19-3-1第1頁
C3: 41102 | D3: =1690+190 -> 1880 | E3: 扣押物箱內編號19-3-1第1頁
C4: 41112 | D4: 5265 | E4: 扣押物箱內編號19-3-1第1頁
C5: 41120 | D5: =190+375 -> 565 | E5: 扣押物箱內編號19-3-1第1頁
C6: 41123 | D6: 1875 | E6: 扣押物箱內編號19-3-6第34頁
C7: 41125 | D7: 945 | E7: 扣押物箱內編號19-3-6第34頁
C8: 41129 | D8: 1690 | E8: 扣押物箱內編號19-3-6第34頁
C9: 41134 | D9: 755 | E9: 扣押物箱內編號19-3-6第34頁
C10: 41137 | D10: 1875 | E10: 扣押物箱內編號19-3-6第34頁
C11: 41141 | D11: 945 | E11: 扣押物箱內編號19-3-6第34頁
C12: 41145 | D12: 1690 | E12: 扣押物箱內編號19-3-6第34頁
C13: 41148 | D13: 190 | E13: 扣押物箱內編號19-3-6第34頁
C14: 41150 | D14: 2440 | E14: 扣押物箱內編號19-3-6第34頁
C15: 41155 | D15: =190+755+1690 -> 2635 | E15: 扣押物箱內編號19-3-6第33頁
C16: 41163 | D16: 190 | E16: 扣押物箱內編號19-3-6第33頁
C17: 41164 | D17: 375 | E17: 扣押物箱內編號19-3-6第33頁
C18: 41165 | D18: 190 | E18: 扣押物箱內編號19-3-6第33頁
C19: 41169 | D19: 1875 | E19: 扣押物箱內編號19-3-6第33頁
C20: 41170 | D20: 190 | E20: 扣押物箱內編號19-3-6第33頁
C21: 41172 | D21: =755+1690 -> 2445 | E21: 扣押物箱內編號19-3-6第33頁
C22: 41179 | D22: =565+190 -> 755 | E22: 扣押物箱內編號19-3-6第33頁
C23: 41186 | D23: 2820 | E23: 扣押物箱內編號19-3-6第33頁
C24: 41191 | D24: 1690 | E24: 扣押物箱內編號19-3-6第33頁
C25: 41193 | D25: 190 | E25: 扣押物箱內編號19-3-6第33頁
C26: 41194 | D26: 375 | E26: 扣押物箱內編號19-3-6第33頁
C27: 41195 | D27: 190 | E27: 扣押物箱內編號19-3-6第33頁
C28: 41197 | D28: 1875 | E28: 扣押物箱內編號19-3-6第33頁
C29: 41200 | D29: =190+755+1690+565 -> 3200 | E29: 扣押物箱內編號19-3-6第33頁
C30: 41211 | D30: 2065 | E30: 扣押物箱內編號19-3-6第33頁
C31: 41215 | D31: 190 | E31: 扣押物箱內編號19-3-6第32頁
C32: 41232 | D32: 575 | E32: 扣押物箱內編號19-3-6第32頁
C33: 41284 | D33: 1125 | E33: 扣押物箱內編號19-21第15頁
C34: 41285 | D34: 1690 | E34: 扣押物箱內編號19-21第19頁
C35: 41285 | D35: 190 | E35: 扣押物箱內編號19-21第19頁
C36: 41285 | D36: 375 | E36: 扣押物箱內編號19-21第19頁
C37: 41285 | D37: 190 | E37: 扣押物箱內編號19-21第19頁
C38: 41285 | D38: 1875 | E38: 扣押物箱內編號19-21第19頁
A39: 2 | B39: 曾紹峰 | C39: 41159 | D39: 11250 | E39: 扣押物箱內編號19-3-1第2頁
C40: 41275 | D40: 28125 | E40: 扣押物箱內編號19-21第35頁
...

Sheet 蕭睿軒非免訴部分
A1: 編號 | B1: 姓名 | C1: 扣息日期 | D1: 扣息金額 | E1: 卷證出處 （註1） | F1: 備註
A2: 1 | B2: 尹必偉 | C2: 41284 | D2: 1125 | E2: 扣押物箱內編號19-21第15頁
C3: 41285 | D3: 1690 | E3: 扣押物箱內編號19-21第19頁
C4: 41285 | D4: 190 | E4: 扣押物箱內編號19-21第19頁
C5: 41285 | D5: 375 | E5: 扣押物箱內編號19-21第19頁
C6: 41285 | D6: 190 | E6: 扣押物箱內編號19-21第19頁
C7: 41285 | D7: 1875 | E7: 扣押物箱內編號19-21第19頁
A8: 2 | B8: 曾紹峰 | C8: 41286 | D8: 11250 | E8: 扣押物箱內編號19-21第45頁
A9: 3 | B9: 王武雄 | C9: 41283 | D9: 3565 | E9: 扣押物箱內編號19-21第13頁
C10: 41288 | D10: 375 | E10: 扣押物箱內編號19-21第22頁
C11: 41288 | D11: 750 | E11: 扣押物箱內編號19-21第22頁
A12: 4 | B12: 王南勳 | C12: 41285 | D12: 4500 | E12: 扣押物箱內編號19-21第17頁
A13: 5 | B13: 江憲陽 | C13: 41285 | D13: 5065 | E13: 扣押物箱內編號19-21第17頁
C14: 41285 | D14: 1125 | E14: 扣押物箱內編號19-21第17頁
A15: 7 | B15: 李希睿 | C15: 41284 | D15: 750 | E15: 扣押物箱內編號19-21第16頁
C16: 41284 | D16: 375 | E16: 扣押物箱內編號19-21第16頁
C17: 41284 | D17: 1875 | E17: 扣押物箱內編號19-21第16頁
C18: 41289 | D18: 375 | E18: 扣押物箱內編號19-21第25頁
C19: 41289 | D19: 375 | E19: 扣押物箱內編號19-21第25頁
C20: 41289 | D20: 375 | E20: 扣押物箱內編號19-21第25頁
C21: 41289 | D21: 375 | E21: 扣押物箱內編號19-21第25頁
C22: 41295 | D22: 1125 | E22: 扣押物箱內編號19-21第33頁
C23: 41295 | D23: 375 | E23: 扣押物箱內編號19-21第33頁
A24: 8 | B24: 李張安 | C24: 41285 | D24: 5440 | E24: 扣押物箱內編號19-21第44頁
C25: 41285 | D25: 375 | E25: 扣押物箱內編號19-21第44頁
C26: 41285 | D26: 1125 | E26: 扣押物箱內編號19-21第44頁
A27: 9 | B27: 沈源興 | C27: 41284 | D27: 190 | E27: 扣押物箱內編號19-21第15頁
C28: 41285 | D28: 1880 | E28: 扣押物箱內編號19-21第17頁
C29: 41285 | D29: 3750 | E29: 扣押物箱內編號19-21第17頁
C30: 41285 | D30: 750 | E30: 扣押物箱內編號19-21第17頁
A31: 10 | B31: 周玉秋 | C31: 41285 | D31: 2065 | E31: 扣押物箱內編號19-21第44頁
C32: 41285 | D32: 1880 | E32: 扣押物箱內編號19-21第44頁
C33: 41285 | D33: 190 | E33: 扣押物箱內編號19-21第44頁
C34: 41285 | D34: 1125 | E34: 扣押物箱內編號19-21第44頁
A35: 11 | B35: 杭永亮 | C35: 41283 | D35: 750 | E35: 扣押物箱內編號19-21第13頁
C36: 41283 | D36: 1500 | E36: 扣押物箱內編號19-21第13頁
C37: 41283 | D37: 1125 | E37: 扣押物箱內編號19-21第13頁
C38: 41283 | D38: 1875 | E38: 扣押物箱內編號19-21第13頁
C39: 41283 | D39: 750 | E39: 扣押物箱內編號19-21第13頁
C40: 41283 | D40: 750 | E40: 扣押物箱內編號19-21第13頁
...

Sheet 元喆當鋪
A1: 編號 | B1: 姓名 | C1: 繳款日期 | D1: 繳息金額 | E1: 摘要 | F1: 證據出處 （註1） | G1: 備註
A2: 1 | B2: 施能華 | C2: 41214 | D2: =3145-1275 -> 1870 | E2: 11/1 375 11/2 185 11/3 560 11/11 750 | F2: 第3頁
A3: 2 | B3: 林基坤 | C3: 41233 | D3: =3750+1125 -> 4875 | E3: 9/12 3750 9/26 1125 | F3: 第4頁
A4: 3 | B4: 戴應能 | C4: 41229 | D4: =2625+1125+375 -> 4125 | E4: 10/24 2625 10/28 1125 11/2 375 | F4: 第5頁
C5: 41232 | D5: 1125 | E5: 11/3 1125 | F5: 第5頁
C6: 41235 | D6: 1125 | E6: 11/5 1125 | F6: 第5頁
C7: 41238 | D7: 2625 | E7: 11/8 2625 | F7: 第5頁
C8: 41240 | D8: =1125+375+1125 -> 2625 | E8: 11/12 1125 11/17 375 11/18 1125 | F8: 第5頁
C9: 41243 | D9: =1125 -> 1125 | E9: 11/20 1125 | F9: 第5頁 | G9: 起訴書誤載繳款日期為「101/11/20」
C10: 41248 | D10: 4125 | E10: 11/23 2625 11/27 1125 12/2 375 | F10: 第5頁
C11: 41250 | D11: 1125 | E11: 12/3 1125 | F11: 第5頁
C12: 41251 | D12: 1125 | E12: 12/5 1125 | F12: 第5頁 | G12: 起訴書漏載
C13: 41255 | D13: 2625 | E13: 12/8 2625 | F13: 第5頁
C14: 41257 | D14: 1125 | E14: 12/12 1125 | F14: 第5頁
C15: 41260 | D15: 375 | E15: 12/17 375 | F15: 第5頁
C16: 41263 | D16: 1125 | E16: 12/18 1125 | F16: 第5頁
C17: 41267 | D17: =1125+2625 -> 3750 | E17: 12/20 1125 12/23 2625 | F17: 第5頁
C18: 41270 | D18: 1125 | E18: 12/27 1125 | F18: 第5頁
C19: 41275 | D19: 375 | E19: 1/1 375 | F19: 第5頁反面
C20: 41277 | D20: 1125 | E20: 1/2 1125 | F20: 第5頁反面
C21: 41279 | D21: 1125 | E21: 1/4 1125 | F21: 第5頁反面
C22: 41281 | D22: 2625 | E22: 1/7 2625 | F22: 第5頁反面
C23: 41286 | D23: =1125+375+1125+1125 -> 3750 | E23: 1/11 1125 1/6 375 1/17 1125 1/18 1125 | F23: 第5頁反面
C24: 41296 | D24: 2625 | E24: 1/22 2625 | F24: 第5頁反面
A25: 4 | B25: 蔡政儒 | C25: 41241 | D25: =4125+4125+4125+4125+2250+2250+2250+1310+1310+1310 -> 27180 | E25: 7/13 4125 7/28 4125 8/12 4125 8/27 4125 7/29 2250 8/13 2250 8/28 2250 8/3 1310 8/18 1310 9/2 1310 | F25: 第6頁
C26: 41274 | D26: =4125+4125+4125+2250+2250+1310+1310 -> 19495 | E26: 9/11 4125 9/26 4125 10/11 4125 9/12 2250 9/27 2250 9/17 1310 10/2 1310 | F26: 第6頁
A27: 5 | B27: 施純堯 | C27: 41229 | D27: 1875 | E27: 11/15 1875 | F27: 第7頁
C28: 41241 | D28: 1125 | E28: 11/28 1125 | F28: 第7頁
C29: 41243 | D29: 1875 | E29: 11/30 1875 | F29: 第7頁
C30: 41256 | D30: 1125 | E30: 12/13 1125 | F30: 第7頁
C31: 41260 | D31: 1875 | E31: 12/18 1875 | F31: 第7頁
C32: 41271 | D32: 1125 | E32: 12/28 1125 | F32: 第7頁
C33: 41274 | D33: 1875 | E33: 12/30 1875 | F33: 第7頁
C34: 41288 | D34: 1125 | E34: 1/12 1125 | F34: 第7頁反面
C35: 41290 | D35: 1875 | E35: 1/14 1875 | F35: 第7頁反面
A36: 6 | B36: 謝文誠 | C36: 41216 | D36: 185 | E36: 11/4 185 | F36: 第8頁
C37: 41219 | D37: 1125 | E37: 11/5 1125 | F37: 第8頁
C38: 41220 | D38: 375 | E38: 11/7 375 | F38: 第8頁
C39: 41223 | D39: =560+2250 -> 2810 | E39: 11/10 560 11/11 2250 | F39: 第8頁
C40: 41223 | D40: 1350 | E40: 11/10(3分) 1350 | F40: 第8頁
...

Sheet 元一當鋪
A1: 編 號 | B1: 姓名 | C1: 繳款日期 | D1: 利息金額 | E1: 摘要 | F1: 卷證出處 （註1） | G1: 備註
A2: 1 | B2: 承 | C2: 41290 | D2: 11625 | E2: 101 1/24*11625 | F2: 第2頁
A3: 2 | B3: 助 | C3: 41278 | D3: 2440 | E3: 1/2 2440 | F3: 第4頁
C4: 41290 | D4: 3190 | E4: 1/8*750 1/17*2440 | F4: 第4頁
A5: 3 | B5: 柱 | C5: 41276 | D5: 190 | E5: 1/1*190 | F5: 第5頁
C6: 41278 | D6: 190 | E6: 1/16*190 還0.5 | F6: 第5頁
C7: 41278 | D7: 6000 | E7: 12/29*6000 | F7: 第5頁
C8: 41286 | D8: 6000 | E8: 1/13*0.6 | F8: 第5頁
A9: 4 | B9: 張裕 | C9: 41281 | D9: 565 | E9: 1/1*190 1/6*375 | F9: 第6頁
C10: 41296 | D10: =375+940+190+375+375 -> 2255 | E10: 1/12*375 1/14*940 1/16*190 1/21*375 1/27*275 | F10: 第6頁 | G10: 起訴書誤載金額為「1880」
A11: 5 | B11: 晨瑋 | C11: 41281 | D11: 6190 | E11: 100 12/6*5440 101 1/25*750 | F11: 第7頁
C12: 41289 | D12: 1500 | E12: 11/9+11/24*1500 | F12: 第7頁
A13: 6 | B13: 治富 | C13: 41281 | D13: =1125+375+375+190 -> 2065 | E13: 1/2*1125 1/7*375 1/10*375 1/11*190 | F13: 第8頁
C14: 41284 | D14: 190 | E14: 1/3*190 | F14: 第8頁
C15: 不明 | D15: =190+1125+190+375+190+375 -> 2445 | E15: 1/15*190 1/17*1125 1/18*190 1/22*375 1/26*190 1/25*375 | F15: 第8頁 | G15: 起訴書誤載金額為「1880」
A16: 7 | B16: 昇昌 | C16: 不明 | D16: 2250 | E16: 1/2*2250 | F16: 第9頁
C17: 合計 | D17: =SUM(D2:D16) -> 47095
A18: 扣除合法利息（註2） | D18: =47095*2.5/7.5 -> 15698.333
A19: 犯罪所得（註2） | D19: =D17-D18 -> 31396.667
B20: 註1： | C20: 按被告許達逸102年4月20日偵訊時供述（A20卷第2808-2811頁）所示，並依102 年刑保管1053號扣押物品清單編號1 「帳冊」【即扣押物箱內編號8-1（灰色資料夾），係起訴書非供述證據編號6】所示之帳冊資料，據以計算出元一當鋪已收取之利息金額。
B21: 註2： | C21: 按被告許達逸、黃瑞桐供述（A3卷第138頁反面、A12卷第413頁、A20卷第2809頁、A3卷第134頁反面）內容所示，元一當鋪向借款司機所收之利息皆為月息2.5%加上倉棧費5%（月利率為7.5％，即2.5％加上5％），且元一當鋪借款沒有分期清償方式，亦即依上開扣案物記載期間102年1月1日至102年1月22日所收取之利息金額47,095元，其中包含得合法收取之月息2.5%及非法收取之倉棧費5%，因此此部分犯罪所得金額應限於非法收取之倉棧費5%，而不包含得合法收取之月息2.5%，其計算式為：47,095元*[5%/(5%+2.5%)]=31,397元。

Sheet 合豐當鋪
A1: 會員 編號 | B1: 日期 （註1） | C1: 會計科目 （註1） | D1: 科目名稱 （註1） | E1: 利息金額 （註1） | F1: 科目摘要 （註1） | G1: 計息方式 （註2） | H1: 利率 （註2） | I1: 犯罪所得 （註3）
A2: 1 | B2: 40922 | C2: 71110001 | D2: 利息收入-吳志忠 | E2: 2250 | F2: 吳志忠-3利-利息1/14-2/14 | G2: 不分期 | H2: 0.075 | I2: =E2*(H2-0.025)/H2 -> 1500
A3: 1 | B3: 40938 | C3: 71110001 | D3: 利息收入-吳志忠 | E3: 1125 | F3: 借支-吳志忠3利1/30-2/15 | G3: 不分期 | H3: 0.075 | I3: =E3*(H3-0.025)/H3 -> 750
A4: 1 | B4: 40946 | C4: 71110001 | D4: 分期利息收入-吳志忠 | E4: 1125 | F4: 分期利息收入-吳志忠3利2/7-2/22 | G4: 不分期 | H4: 0.075 | I4: =E4*(H4-0.025)/H4 -> 750
A5: 1 | B5: 40961 | C5: 71120001 | D5: 利息-吳志忠 | E5: 300 | F5: 利息-吳志忠2分-1 | G5: 分期 | H5: 0.06 | I5: =E5*(H5-0.025)/H5 -> 175
A6: 1 | B6: 40964 | C6: 71110001 | D6: 利息-吳志忠 | E6: 2250 | F6: 利息-吳志忠3利2/14-2/29 2/29-3/14 | G6: 不分期 | H6: 0.075 | I6: =E6*(H6-0.025)/H6 -> 1500
A7: 1 | B7: 40964 | C7: 71110001 | D7: 利息-吳志忠 | E7: 2250 | F7: 利息-吳志忠3利2/15-2/29 2/29-3/15 | G7: 不分期 | H7: 0.075 | I7: =E7*(H7-0.025)/H7 -> 1500
A8: 1 | B8: 40964 | C8: 71110001 | D8: 利息-吳志忠 | E8: 3750 | F8: 利息-吳志忠5利2/7-2/22 2/22-3/7 | G8: 不分期 | H8: 0.075 | I8: =E8*(H8-0.025)/H8 -> 2500
A9: 1 | B9: 40964 | C9: 71110001 | D9: 利息-吳志忠 | E9: 3000 | F9: 利息-吳志忠4利2/14-2/29 2/29-3/14 | G9: 不分期 | H9: 0.075 | I9: =E9*(H9-0.025)/H9 -> 2000
A10: 1 | B10: 40968 | C10: 71120001 | D10: 利息-吳志忠 | E10: 300 | F10: 利息-吳志忠2分-2 | G10: 分期 | H10: 0.06 | I10: =E10*(H10-0.025)/H10 -> 175
A11: 1 | B11: 40968 | C11: 71110001 | D11: 利息-吳志忠 | E11: 10500 | F11: 利息-吳志忠14利2/7-2/22 2/22-3/7 | G11: 不分期 | H11: 0.075 | I11: =E11*(H11-0.025)/H11 -> 7000
A12: 1 | B12: 40975 | C12: 71120001 | D12: 利息-吳志忠 | E12: 300 | F12: 利息-吳志忠2分-3 | G12: 分期 | H12: 0.06 | I12: =E12*(H12-0.025)/H12 -> 175
A13: 1 | B13: 40984 | C13: 71120001 | D13: 利息-吳志忠 | E13: 2100 | F13: 利息-吳志忠2分 4-10 | G13: 分期 | H13: 0.06 | I13: =E13*(H13-0.025)/H13 -> 1225
... A461: 98 | B461: 40959 | C461: 71119998 | D461: 利息-許世明 | E461: 15000 | F461: 利息-許世明 票貼2/20-3/1 | G461: 不分期 | H461: 0.075 | I461: =E461*(H461-0.025)/H461 -> 10000
D462: 合計 | E462: =SUM(E2:E461) -> 597095 | I462: =SUM(I2:I461) -> 393819.58
A463: 註1： | B463: 資料來源為102 刑保管1061號扣押物品清單編號16「日報表」【即扣押物箱內編號11，係起訴書非供述證據編號11】。起訴書附表五-5誤載處，已修正如上開附表各欄位所示。
A464: 註2： | B464: （1）按被告林冠福102年5月1日偵訊時供述（A30卷第57頁）內容所示，「分期」攤還本息者均係每7天為一期收一次款，分10期攤還本息，計息方式是以借款1萬元（分10期）每個禮拜還1150元本利和，核與102 綠保字第691 號扣押物品清單編號19「隨身碟」（係起訴書非供述證據編號10）內所示檔案「追蹤表」（檔案路徑：「桌面」資料夾--> 「新增資料夾（3） 」 ）所示還款情況相同（以該檔案「A002吳志忠」工作表為例，其第三欄第二個表格所示借款2萬元，每7日須還本息2300元，其中300元為利息，2000元為本金），可證合豐當鋪內「分期還款」之借款，其借款利率為月息6％（=(300*10)/20,000/10*4））。其餘「不分期」攤還本息者，按被告林冠福102年4月15日偵訊時供述（A30卷第6-7頁）內容所示，每借款1萬元，每月利息750元，其中倉棧費500元，月息250元，月息為7.5％（=750/10,000）。 （2）「分期」借款者，因每一期均有攤還本金，且當「分期」借款者借新還舊時（即追蹤表下方註明「洗」字樣者），借款人實際可取得之新借款項係先扣除舊借款尚未清償的本利和後之餘額，故其月利率必較十期後才一次償還本利所計算得出之簡單平均報酬率6％（即總利息/本金=(150*10)/10000/10*4）為高，惟因影響不大，故採有利被告之簡化算法，僅以月利率6%作為「分期」借款之利率，併此說明。
A465: 註3： | B465: 「犯罪所得」欄之計算方式為：「利息金額」*（「利率」-2.5％）/「利率」（即扣除當鋪業得合法收取按月利率2.5％計算之利息後，所得之金額）。

Sheet 瑞誠當鋪
A1: 編號 | B1: 姓名 | C1: [A]本金 | D1: [B]借款日 (註2) | E1: [C]每期 固定息 | F1: [D]繳息 次數 | G1: [E]月利率 (註3) | H1: [F]計息期間 (天)(註3) | I1: [G]已繳利息 (註4) | J1: [H]犯罪所得 (註5)
A2: 1 | B2: 陳水源 | C2: 20000 | D2: 0223 | E2: 750 | F2: 31 | G2: =E2/(C2*H2/30) -> 0.075 | H2: 15 | I2: =IF(H2="分期",C2*G2*2.5*F2/10,C2*G2*H2/30*F2) -> 23250 | J2: =IF(H2="分期",C2*(G2-0.025)*2.5*F2/10,C2*(G2-0.025)*H2/30*F2) -> 15500
C3: 15000 | D3: 0531 | E3: 565 | F3: 17 | G3: =E3/(C3*H3/30) -> 0.075333333 | H3: 15 | I3: =IF(H3="分期",C3*G3*2.5*F3/10,C3*G3*H3/30*F3) -> 9605 | J3: =IF(H3="分期",C3*(G3-0.025)*2.5*F3/10,C3*(G3-0.025)*H3*F3/30) -> 6417.5
C4: 15000 | D4: 0120 | E4: 565 | F4: 2 | G4: =E4/(C4*H4/30) -> 0.075333333 | H4: 15 | I4: =IF(H4="分期",C4*G4*2.5*F4/10,C4*G4*H4/30*F4) -> 1130 | J4: =IF(H4="分期",C4*(G4-0.025)*2.5*F4/10,C4*(G4-0.025)*H4*F4/30) -> 755
C5: 10000 | D5: 0326 | E5: 375 | F5: 5 | G5: =E5/(C5*H5/30) -> 0.075 | H5: 15 | I5: =IF(H5="分期",C5*G5*2.5*F5/10,C5*G5*H5/30*F5) -> 1875 | J5: =IF(H5="分期",C5*(G5-0.025)*2.5*F5/10,C5*(G5-0.025)*H5*F5/30) -> 1250
C6: 30000 | D6: 0827 | E6: 1125 | F6: 1 | G6: =E6/(C6*H6/30) -> 0.075 | H6: 15 | I6: =IF(H6="分期",C6*G6*2.5*F6/10,C6*G6*H6/30*F6) -> 1125 | J6: =IF(H6="分期",C6*(G6-0.025)*2.5*F6/10,C6*(G6-0.025)*H6*F6/30) -> 750
C7: 30000 | D7: 1029 | E7: 1125 | F7: 1 | G7: =E7/(C7*H7/30) -> 0.075 | H7: 15 | I7: =IF(H7="分期",C7*G7*2.5*F7/10,C7*G7*H7/30*F7) -> 1125 | J7: =IF(H7="分期",C7*(G7-0.025)*2.5*F7/10,C7*(G7-0.025)*H7*F7/30) -> 750
C8: 5000 | D8: 0514 | E8: 190 | F8: 2 | G8: =E8/(C8*H8/30) -> 0.076 | H8: 15 | I8: =IF(H8="分期",C8*G8*2.5*F8/10,C8*G8*H8/30*F8) -> 380 | J8: =IF(H8="分期",C8*(G8-0.025)*2.5*F8/10,C8*(G8-0.025)*H8*F8/30) -> 255
C9: 40000 | D9: 0924 | E9: 1500 | F9: 3 | G9: =E9/(C9*H9/30) -> 0.075 | H9: 15 | I9: =IF(H9="分期",C9*G9*2.5*F9/10,C9*G9*H9/30*F9) -> 4500 | J9: =IF(H9="分期",C9*(G9-0.025)*2.5*F9/10,C9*(G9-0.025)*H9*F9/30) -> 3000
C10: 30000 | D10: 0813 | E10: 1125 | F10: 2 | G10: =E10/(C10*H10/30) -> 0.075 | H10: 15 | I10: =IF(H10="分期",C10*G10*2.5*F10/10,C10*G10*H10/30*F10) -> 2250 | J10: =IF(H10="分期",C10*(G10-0.025)*2.5*F10/10,C10*(G10-0.025)*H10*F10/30) -> 1500
C11: 40000 | D11: 1015 | E11: 1500 | F11: 2 | G11: =E11/(C11*H11/30) -> 0.075 | H11: 15 | I11: =IF(H11="分期",C11*G11*2.5*F11/10,C11*G11*H11/30*F11) -> 3000 | J11: =IF(H11="分期",C11*(G11-0.025)*2.5*F11/10,C11*(G11-0.025)*H11*F11/30) -> 2000
A12: 3 | B12: 漆鎮偉 | C12: 100000 | D12: 0223 | E12: 3750 | F12: 23 | G12: =E12/(C12*H12/30) -> 0.075 | H12: 15 | I12: =IF(H12="分期",C12*G12*2.5*F12/10,C12*G12*H12/30*F12) -> 86250 | J12: =IF(H12="分期",C12*(G12-0.025)*2.5*F12/10,C12*(G12-0.025)*H12*F12/30) -> 57500
C13: 10000 | D13: 1114 | E13: 1150 | F13: 10 | G13: 0.06 | H13: 分期 | I13: =IF(H13="分期",C13*G13*2.5*F13/10,C13*G13*H13/30*F13) -> 1500 | J13: =IF(H13="分期",C13*(G13-0.025)*2.5*F13/10,C13*(G13-0.025)*H13*F13/30) -> 875
C14: 10000 | D14: 0225 | E14: 2150 | F14: 5 | G14: 0.06 | H14: 分期 | I14: =IF(H14="分期",C14*G14*2.5*F14/10,C14*G14*H14/30*F14) -> 750 | J14: =IF(H14="分期",C14*(G14-0.025)*2.5*F14/10,C14*(G14-0.025)*H14*F14/30) -> 437.5
C15: 20000 | D15: 1129 | E15: 750 | F15: 5 | G15: =E15/(C15*H15/30) -> 0.075 | H15: 15 | I15: =IF(H15="分期",C15*G15*2.5*F15/10,C15*G15*H15/30*F15) -> 3750 | J15: =IF(H15="分期",C15*(G15-0.025)*2.5*F15/10,C15*(G15-0.025)*H15*F15/30) -> 2500
A16: 4 | B16: 吳清江 | C16: 70000 | D16: 0224 | E16: 2625 | F16: 15 | G16: =E16/(C16*H16/30) -> 0.075 | H16: 15 | I16: =IF(H16="分期",C16*G16*2.5*F16/10,C16*G16*H16/30*F16) -> 39375 | J16: =IF(H16="分期",C16*(G16-0.025)*2.5*F16/10,C16*(G16-0.025)*H16*F16/30) -> 26250
C17: 60000 | D17: 0512 | E17: 2250 | F17: 10 | G17: =E17/(C17*H17/30) -> 0.075 | H17: 15 | I17: =IF(H17="分期",C17*G17*2.5*F17/10,C17*G17*H17/30*F17) -> 22500 | J17: =IF(H17="分期",C17*(G17-0.025)*2.5*F17/10,C17*(G17-0.025)*H17*F17/30) -> 15000
C18: 13000 | D18: 0920 | E18: 490 | F18: 2 | G18: =E18/(C18*H18/30) -> 0.075384615 | H18: 15 | I18: =IF(H18="分期",C18*G18*2.5*F18/10,C18*G18*H18/30*F18) -> 980 | J18: =IF(H18="分期",C18*(G18-0.025)*2.5*F18/10,C18*(G18-0.025)*H18*F18/30) -> 655
C19: 10000 | D19: 0818 | E19: 375 | F19: 4 | G19: =E19/(C19*H19/30) -> 0.075 | H19: 15 | I19: =IF(H19="分期",C19*G19*2.5*F19/10,C19*G19*H19/30*F19) -> 1500 | J19: =IF(H19="分期",C19*(G19-0.025)*2.5*F19/10,C19*(G19-0.025)*H19*F19/30) -> 1000
A20: 7 | B20: 謝六發 | C20: 20000 | D20: 0225 | E20: 750 | F20: 36 | G20: =E20/(C20*H20/30) -> 0.075 | H20: 15 | I20: =IF(H20="分期",C20*G20*2.5*F20/10,C20*G20*H20/30*F20) -> 27000 | J20: =IF(H20="分期",C20*(G20-0.025)*2.5*F20/10,C20*(G20-0.025)*H20*F20/30) -> 18000
C21: 40000 | D21: 1108 | E21: 1500 | F21: 19 | G21: =E21/(C21*H21/30) -> 0.075 | H21: 15 | I21: =IF(H21="分期",C21*G21*2.5*F21/10,C21*G21*H21/30*F21) -> 28500 | J21: =IF(H21="分期",C21*(G21-0.025)*2.5*F21/10,C21*(G21-0.025)*H21*F21/30) -> 19000
C22: 20000 | D22: 0429 | E22: 750 | F22: 32 | G22: =E22/(C22*H22/30) -> 0.075 | H22: 15 | I22: =IF(H22="分期",C22*G22*2.5*F22/10,C22*G22*H22*F22/30) -> 24000 | J22: =IF(H22="分期",C22*(G22-0.025)*2.5*F22/10,C22*(G22-0.025)*H22*F22/30) -> 16000
C23: 30000 | D23: 1209 | E23: 2250 | F23: 3 | G23: =E23/(C23*H23/30) -> 0.075 | H23: 30 | I23: =IF(H23="分期",C23*G23*2.5*F23/10,C23*G23*H23*F23/30) -> 6750 | J23: =IF(H23="分期",C23*(G23-0.025)*2.5*F23/10,C23*(G23-0.025)*H23*F23/30) -> 4500
C24: 20000 | D24: 0701 | E24: 750 | F24: 28 | G24: =E24/(C24*H24/30) -> 0.075 | H24: 15 | I24: =IF(H24="分期",C24*G24*2.5*F24/10,C24*G24*H24*F24/30) -> 21000 | J24: =IF(H24="分期",C24*(G24-0.025)*2.5*F24/10,C24*(G24-0.025)*H24*F24/30) -> 14000
C25: 20000 | D25: 0922 | E25: 750 | F25: 22 | G25: =E25/(C25*H25/30) -> 0.075 | H25: 15 | I25: =IF(H25="分期",C25*G25*2.5*F25/10,C25*G25*H25*F25/30) -> 16500 | J25: =IF(H25="分期",C25*(G25-0.025)*2.5*F25/10,C25*(G25-0.025)*H25*F25/30) -> 11000
C26: 60000 | D26: 1128 | E26: 4500 | F26: 8 | G26: =E26/(C26*H26/30) -> 0.075 | H26: 30 | I26: =IF(H26="分期",C26*G26*2.5*F26/10,C26*G26*H26*F26/30) -> 36000 | J26: =IF(H26="分期",C26*(G26-0.025)*2.5*F26/10,C26*(G26-0.025)*H26*F26/30) -> 24000
C27: 20000 | D27: 0505 | E27: 750 | F27: 7 | G27: =E27/(C27*H27/30) -> 0.075 | H27: 15 | I27: =IF(H27="分期",C27*G27*2.5*F27/10,C27*G27*H27*F27/30) -> 5250 | J27: =IF(H27="分期",C27*(G27-0.025)*2.5*F27/10,C27*(G27-0.025)*H27*F27/30) -> 3500
A28: 8 | B28: 范光宏 | C28: 20000 | D28: 0225 | E28: 750 | F28: 15 | G28: =E28/(C28*H28/30) -> 0.075 | H28: 15 | I28: =IF(H28="分期",C28*G28*2.5*F28/10,C28*G28*H28*F28/30) -> 11250 | J28: =IF(H28="分期",C28*(G28-0.025)*2.5*F28/10,C28*(G28-0.025)*H28*F28/30) -> 7500
C29: 20000 | D29: 1002 | E29: 2300 | F29: 10 | G29: 0.06 | H29: 分期 | I29: =IF(H29="分期",C29*G29*2.5*F29/10,C29*G29*H29*F29/30) -> 3000 | J29: =IF(H29="分期",C29*(G29-0.025)*2.5*F29/10,C29*(G29-0.025)*H29*F29/30) -> 1750
C30: 10000 | D30: 0714 | E30: 375 | F30: 10 | G30: =E30/(C30*H30/30) -> 0.075 | H30: 15 | I30: =IF(H30="分期",C30*G30*2.5*F30/10,C30*G30*H30*F30/30) -> 3750 | J30: =IF(H30="分期",C30*(G30-0.025)*2.5*F30/10,C30*(G30-0.025)*H30*F30/30) -> 2500
C31: 80000 | D31: 0228 | E31: 3000 | F31: 7 | G31: =E31/(C31*H31/30) -> 0.075 | H31: 15 | I31: =IF(H31="分期",C31*G31*2.5*F31/10,C31*G31*H31*F31/30) -> 21000 | J31: =IF(H31="分期",C31*(G31-0.025)*2.5*F31/10,C31*(G31-0.025)*H31*F31/30) -> 14000
C32: 60000 | D32: 0613 | E32: 2250 | F32: 27 | G32: =E32/(C32*H32/30) -> 0.075 | H32: 15 | I32: =IF(H32="分期",C32*G32*2.5*F32/10,C32*G32*H32*F32/30) -> 60750 | J32: =IF(H32="分期",C32*(G32-0.025)*2.5*F32/10,C32*(G32-0.025)*H32*F32/30) -> 40500
C33: 20000 | D33: 0613 | E33: 2300 | F33: 10 | G33: 0.06 | H33: 分期 | I33: =IF(H33="分期",C33*G33*2.5*F33/10,C33*G33*H33*F33/30) -> 3000 | J33: =IF(H33="分期",C33*(G33-0.025)*2.5*F33/10,C33*(G33-0.025)*H33*F33/30) -> 1750
C34: 20000 | D34: 0730 | E34: 2300 | F34: 10 | G34: 0.06 | H34: 分期 | I34: =IF(H34="分期",C34*G34*2.5*F34/10,C34*G34*H34*F34/30) -> 3000 | J34: =IF(H34="分期",C34*(G34-0.025)*2.5*F34/10,C34*(G34-0.025)*H34*F34/30) -> 1750
C35: 30000 | D35: 0408 | E35: 1125 | F35: 32 | G35: =E35/(C35*H35/30) -> 0.075 | H35: 15 | I35: =IF(H35="分期",C35*G35*2.5*F35/10,C35*G35*H35*F35/30) -> 36000 | J35: =IF(H35="分期",C35*(G35-0.025)*2.5*F35/10,C35*(G35-0.025)*H35*F35/30) -> 24000
C36: 20000 | D36: 1203 | E36: 2300 | F36: 10 | G36: 0.06 | H36: 分期 | I36: =IF(H36="分期",C36*G36*2.5*F36/10,C36*G36*H36*F36/30) -> 3000 | J36: =IF(H36="分期",C36*(G36-0.025)*2.5*F36/10,C36*(G36-0.025)*H36*F36/30) -> 1750
C37: 20000 | D37: 1222 | E37: 750 | F37: 2 | G37: =E37/(C37*H37/30) -> 0.075 | H37: 15 | I37: =IF(H37="分期",C37*G37*2.5*F37/10,C37*G37*H37*F37/30) -> 1500 | J37: =IF(H37="分期",C37*(G37-0.025)*2.5*F37/10,C37*(G37-0.025)*H37*F37/30) -> 1000
C38: 20000 | D38: 0122 | E38: 2300 | F38: 10 | G38: 0.06 | H38: 分期 | I38: =IF(H38="分期",C38*G38*2.5*F38/10,C38*G38*H38*F38/30) -> 3000 | J38: =IF(H38="分期",C38*(G38-0.025)*2.5*F38/10,C38*(G38-0.025)*H38*F38/30) -> 1750
C39: 10000 | D39: 1027 | E39: 375 | F39: 3 | G39: =E39/(C39*H39/30) -> 0.075 | H39: 15 | I39: =IF(H39="分期",C39*G39*2.5*F39/10,C39*G39*H39*F39/30) -> 1125 | J39: =IF(H39="分期",C39*(G39-0.025)*2.5*F39/10,C39*(G39-0.025)*H39*F39/30) -> 750
C40: 10000 | D40: 0223 | E40: 375 | F40: 11 | G40: =E40/(C40*H40/30) -> 0.075 | H40: 15 | I40: =IF(H40="分期",C40*G40*2.5*F40/10,C40*G40*H40*F40/30) -> 4125 | J40: =IF(H40="分期",C40*(G40-0.025)*2.5*F40/10,C40*(G40-0.025)*H40*F40/30) -> 2750
...

Sheet 依被害人證述計算
A1: 當鋪名稱 | B1: 被害人 姓名 | C1: 借款及繳息期間 （註3） | D1: 借款金額 | E1: 利率(月) | F1: 計息週期(天) | G1: 繳息次數 （註2） | H1: 已繳利息 （註2及註3） | I1: 犯罪所得 （註2及註3） | J1: 合法利率(月) （註4） | K1: 卷證出處及備註
A2: 國泰當鋪 | B2: 丁銘宏 | C2: 94、95年間至102年1月23日 | D2: 100000 | E2: 9%、7.5％ | F2: 15 | G2: 不明 | H2: 不明 | I2: 不明 | J2: 4%、2.5% | K2: A14 卷第1010-1029頁、第1030-1032頁、本院卷十一第301頁
A3: 國泰當鋪 | B3: 劉遠輝 | C3: 95年12月至100年8月 | D3: 155000 | E3: 9%、7.5％ | F3: 15 | G3: 不明 | H3: 不明 | I3: 不明 | J3: 4%、2.5% | K3: B17卷第31-35頁、A16卷第1813-1820頁、本院卷十一第301頁
A4: 國泰當鋪 | B4: 張良盛 | C4: 97、98年間至102年1月23日 | D4: 180000 | E4: 9%、7.5％ | F4: 15 | G4: 不明 | H4: 不明 | I4: 不明 | J4: 4%、2.5% | K4: A62 卷第126-128 頁、A4卷第50-53反頁、A16卷第1821-1825頁、本院卷十一第301頁
A5: 國泰當鋪 | B5: A8 | C5: 97年7月起至100年2月 | D5: 70000 | E5: 9%、7.5％ | F5: 15 | G5: 不明 | H5: 不明 | I5: 不明 | J5: 4%、2.5% | K5: B3卷第228-235頁、第237頁反面-240頁、本院卷十一第301頁
A6: 國泰當鋪 合計 | H6: =SUM(H2:H5) -> 0 | I6: =SUM(I2:I5) -> 0
A7: 丙全當鋪 | B7: 林順義 | C7: 96年6月起至99年9月 | D7: 20000 | E7: 0.08 | F7: 7天（分期 攤還本息） | G7: 104 | H7: =400*G7 -> 41600 | I7: =H7*(E7-J7)/E7 -> 20800 | J7: 0.04 | K7: 1.卷證出處為A21卷第2943-2952頁。 2.分期攤還本息部分，係每萬元每七天還1200元（其中1000為本金，200為利息），分十期，還完後再借。故該部分借款「已繳利息」為（200*2）*（27個月*每月4週）=43,200元。
C8: 98年6月起至99年9月 | D8: 15000 | E8: 0.09 | F8: 15 | G8: 30 | H8: =D8*E8*F8*G8/30 -> 20250 | I8: =D8*(E8-J8)*F8*G8/30 -> 11250 | J8: 0.04
A9: 丙全當鋪 | B9: 張耀童 | C9: 96年間起至100年10月6日 | D9: 10幾萬元 | E9: 9%、7.5％ | F9: 15 | G9: 不明 | H9: 不明 | I9: 不明 | J9: 4%、2.5% | K9: A13卷第765-765之20頁、第766-768頁、本院卷十一第341頁反面
A10: 丙全當鋪 | B10: 張志惠 | C10: 96、97年間至100年10月間 | D10: 20幾萬元 | E10: 9%、7.5％ | F10: 15 | G10: 不明 | H10: 不明 | I10: 不明 | J10: 4%、2.5% | K10: A16 卷第1715-1738 頁、第1740-1743 頁、本院卷十一第341頁反面
A11: 丙全當鋪 | B11: 陳耀武 | C11: 98年9 月23日至99年1 月12日 | D11: 70000 | E11: 0.09 | F11: 15 | G11: 不明 | H11: 不明 | I11: 不明 | J11: 0.04 | K11: A4卷第72-74頁、A12卷第513-519頁、A2卷第233-235頁、本院卷十一第341頁反面
A12: 丙全當鋪 | B12: 陳和平 | C12: 98、99年間至100 年10月 | D12: 150000 | E12: 0.09 | F12: 15 | G12: 24 | H12: =D12*E12*F12*G12/30 -> 162000 | I12: =D12*(E12-J12)*F12*G12/30 -> 90000 | J12: 0.04 | K12: A13卷第730之4-730之21頁、第732-735頁
D13: 150000 | E13: 0.075 | F13: 15 | G13: 18 | H13: =D13*E13*F13*G13/30 -> 101250 | I13: =D13*(E13-J13)*F13*G13/30 -> 67500 | J13: 0.025
A14: 丙全當鋪 | B14: 柯偉松 | C14: 99年7月21日起 | D14: 70000 | E14: 0.09 | F14: 15 | G14: 不明 | H14: 不明 | I14: 不明 | J14: 0.04 | K14: A2卷第16-21頁、第40-46頁、第278-280頁、本院卷十一第341頁反面
A15: 丙全當鋪 | B15: 李德勝 | C15: 99、100年間起一年 | D15: 20000 | E15: 0.075 | F15: 15 | G15: 24 | H15: =D15*E15*F15*G15/30 -> 18000 | I15: =D15*(E15-J15)*F15*G15/30 -> 12000 | J15: 0.025 | K15: A20 卷第2789-2791頁
A16: 丙全當鋪 | B16: 藍萬結 | C16: 99、100年間 | D16: 80000 | E16: 9%、7.5％ | F16: 15 | G16: 不明 | H16: 不明 | I16: 不明 | J16: 4%、2.5% | K16: A21卷第2917-2918頁、本院卷十一第341頁反面
A17: 丙全當鋪 | B17: 張木炎 | C17: 99年4月13日至100年9月 | D17: 60000 | E17: 0.09 | F17: 15 | G17: 17 | H17: =D17*E17*F17*G17/30 -> 45900 | I17: =D17*(E17-J17)*F17*G17/30 -> 25500 | J17: 0.04 | K17: A15卷第1210-1213頁、第1219-1221頁
D18: 60000 | E18: 0.075 | F18: 15 | G18: 18 | H18: =D18*E18*F18*G18/30 -> 40500 | I18: =D18*(E18-J18)*F18*G18/30 -> 27000 | J18: 0.025
A19: 丙全當鋪 | B19: A4 | C19: 99年12月28日至100年9月 | D19: 30000 | E19: 0.075 | F19: 30 | G19: 8 | H19: =D19*E19*F19*G19/30 -> 18000 | I19: =D19*(E19-J19)*F19*G19/30 -> 12000 | J19: 0.025 | K19: B6卷第623-664頁、第665-669之1頁
A20: 丙全當鋪 | B20: 林傳興 | C20: 99年間 | D20: 20000 | E20: 0.09 | F20: 7天（分期 攤還本息） | G20: 10 | H20: 不明 | I20: 不明 | J20: 0.04 | K20: A21卷第2968-2970頁
A21: 丙全當鋪 | B21: 郭承翰 | C21: 100年3月11日至100年9月 | D21: 120000 | E21: 0.075 | F21: 15 | G21: 11 | H21: =D21*E21*F21*G21/30 -> 49500 | I21: =D21*(E21-J21)*F21*G21/30 -> 33000 | J21: 0.025 | K21: A15卷第1192-1208頁
A22: 丙全當鋪 | B22: 朱海鳳 | C22: 98年2月2日 | D22: 70000 | E22: 0.09 | F22: 7 | G22: 不明 | H22: 不明 | I22: 不明 | J22: 0.04 | K22: 台北地檢署102年度偵緝字第20號起訴書 台北地方法院102年度審簡字第894號判決書
C23: 98年2月23日 | D23: 20000 | E23: 0.09 | F23: 7 | G23: 不明 | H23: 不明 | I23: 不明 | J23: 0.04
A24: 丙全當鋪 | B24: 葉福聰 | C24: 100年4月20日至4月30日 | D24: 200000 | E24: 0.075 | F24: 15 | G24: 不明 | H24: 不明 | I24: 不明 | J24: 0.025 | K24: 台北地方法院101年度易字第813號判決書 台灣高等法院102年度上易字第54號判決書
C25: 100年5月1日至11月4日 | D25: 425500 | E25: 至少7.5% | F25: 不明 | G25: 不明 | H25: 不明 | I25: 不明 | J25: 0.025
A26: 丙全當鋪 | B26: 陳舜德 | C26: 97年11月間起約一年 | D26: 160000 | E26: 0.09 | F26: 1 | G26: 365 | H26: =D26*E26*F26*G26/30 -> 175200 | I26: =D26*(E26-J26)*F26*G26/30 -> 97333.333 | J26: 0.04 | K26: 新北地方法院100年度訴字第1538號判決書
A27: 丙全當鋪 | B27: 李如駿 | C27: 98年7月22日起至同年12月初 | D27: 220000 | E27: 0.09 | F27: 1 | G27: 132 | H27: =D27*E27*F27*G27/30 -> 87120 | I27: =D27*(E27-J27)*F27*G27/30 -> 48400 | J27: 0.04 | K27: 新北地方法院100年度訴字第1538號判決書
A28: 丙全當鋪 合計 | H28: =SUM(H7:H27) -> 759320 | I28: =SUM(I7:I27) -> 444783.33
A29: 元一當鋪 | B29: 方士祥 | C29: 101年3、4月間 | D29: 40000 | E29: 0.075 | F29: 15 | G29: 不明 | H29: 不明 | I29: 不明 | J29: 0.025 | K29: A20卷第2833-2836 頁
A30: 元一當鋪 | B30: 王定承 | C30: 97年間起 | D30: 陸續多次借款，金額在1萬至10萬之間 | E30: 9%、7.5％ | F30: 15 | G30: 不明 | H30: 不明 | I30: 不明 | J30: 4%、2.5% | K30: A3卷第126-133 頁
A31: 元一當鋪 | B31: 陳定祥 | C31: 98年初起至100年4月 | D31: 3至5萬元 | E31: 9%、7.5％ | F31: 15 | G31: 不明 | H31: 不明 | I31: 不明 | J31: 4%、2.5% | K31: A20卷第2793-2795頁
A32: 元一當鋪 | B32: 蔣中民 | C32: 98年4、5月起至7、8月 | D32: 50000 | E32: 0.08 | F32: 7天（分期 攤還本息） | G32: 10 | H32: =200*5*10 -> 10000 | I32: =H32*(E32-J32)/E32 -> 5000 | J32: 0.04 | K32: 1.卷證出處為A3卷第35-39頁、A3卷第40-48頁。 2.分期攤還本息部分，係每萬元每七天還1200元（其中1000為本金，200為利息），分十期。
C33: 98年8月間至11月間 | D33: 30000 | E33: 0.08 | F33: 7天（分期 攤還本息） | G33: 10 | H33: =200*3*10 -> 6000 | I33: =H33*(E33-J33)/E33 -> 3000 | J33: 0.04
C34: 98年9、10月間至99年8月 | D34: 110000 | E34: 0.09 | F34: 15 | G34: 20 | H34: =D34*E34*F34*G34/30 -> 99000 | I34: =D34*(E34-J34)*F34*G34/30 -> 55000 | J34: 0.04
A35: 元一當鋪 | B35: 麥宗龍 | C35: 98年7、8月 | D35: 60000 | E35: 0.09 | F35: 15 | G35: 9 | H35: =D35*E35*F35*G35/30 -> 24300 | I35: =D35*(E35-J35)*F35*G35/30 -> 13500 | J35: 0.04 | K35: 證人証述之繳息方式係每10天每萬元900元（A32卷第3-6頁），與其他證人証述每月月息係9％（即每萬元每月利息900元）之內容不符，經被告黃瑞桐以證人身份作證時確認對麥宗龍之放款利率係月息9％（本院卷十一第348頁反面），可見證人麥宗龍之証述應係借款時間久遠而有記憶錯誤之情形，應以月息9％較為可採。
A36: 元一當鋪 | B36: 林賢忠 | C36: 99年1月至99年3月 | D36: 20000 | E36: 0.09 | F36: 15 | G36: 6 | H36: =D36*E36*F36*G36/30 -> 5400 | I36: =D36*(E36-J36)*F36*G36/30 -> 3000 | J36: 0.04 | K36: 1.卷證出處為A3卷第53-58頁、A16卷第1803-1808頁。 2.最後一筆借款2萬元，其証述與其他證人及被告所述放款利率及繳息方式不同，應係證人借款時間久遠而有記憶錯誤之情形，應以月息9％（99年底前）及7.5％（100年以後）較為可採。
C37: 99年4月至99年5月 | D37: 50000 | E37: 0.09 | F37: 15 | G37: 4 | H37: =D37*E37*F37*G37/30 -> 9000 | I37: =D37*(E37-J37)*F37*G37/30 -> 5000 | J37: 0.04
C38: 99年6月至100年3月 | D38: 80000 | E38: 0.09 | F38: 15 | G38: 14 | H38: =D38*E38*F38*G38/30 -> 50400 | I38: =D38*(E38-J38)*F38*G38/30 -> 28000 | J38: 0.04
D39: 80000 | E39: 0.075 | F39: 15 | G39: 6 | H39: =D39*E39*F39*G39/30 -> 18000 | I39: =D39*(E39-J39)*F39*G39/30 -> 12000 | J39: 0.025
C40: 99年10月至100年3月 | D40: 20000 | E40: 9%、7.5％ | F40: 15 | G40: 不明 | H40: 不明 | I40: 不明 | J40: 4%、2.5%
...
