Workbook

Sheet Sheet1
A1: 附表二
A2: 項次 | B2: 工 程 項 目 | C2: 日勝生公司 | D2: 驗收版鑑定報告
C3: 工程預算表差異欄 | D3: 工程算差異表
A4: =[1]工程預算表!A8 -> 項次 | B4: =[1]工程預算表!B8 -> 項目及說明
A5: =[1]工程預算表!A9 -> 壹 | B5: =[1]工程預算表!B9 -> 直接工程費
A6: =[1]工程預算表!A10 -> 一 | B6: =[1]工程預算表!B10 -> 假設工程 | C6: 0.562 | D6: 0.5629
A7: =[1]工程預算表!A15 -> 六 | B7: =[1]工程預算表!B15 -> 雜項裝修工程 | C7: 0.33 | D7: 0.3386
A8: =[1]工程預算表!A16 -> 七 | B8: =[1]工程預算表!B16 -> 門窗工程 | C8: 0.367 | D8: 0.3671
A9: =[1]工程預算表!A18 -> 九 | B9: =[1]工程預算表!B18 -> 廚房設備工程 | C9: 0.202 | D9: 0.2026
A10: =[1]工程預算表!A20 -> 十一 | B10: =[1]工程預算表!B20 -> 機電工程 | C10: 0.28 | D10: 0.2886
A11: =[1]工程預算表!A21 -> 十二 | B11: =[1]工程預算表!B21 -> 其他工程 | C11: 0.24 | D11: 0.2405
A12: =[1]工程預算表!A22 -> 十三 | B12: =[1]工程預算表!B22 -> 景觀VIP室工程 | C12: 0.2 | D12: 0.2
A13: =[1]工程預算表!A24 -> 貳 | B13: =[1]工程預算表!B24 -> 間接工程費
A14: =[1]工程預算表!A29 -> 五 | B14: =[1]工程預算表!B29 -> 營業稅5% | C14: 0.2376 | D14: 0.2376
A15: =[1]工程預算表!A32 -> 0 | B15: =[1]工程預算表!B32 -> 0
A16: =[1]工程預算表!A41 -> 一 | B16: =[1]工程預算表!B41 -> 假設工程
A17: =[1]工程預算表!A43 -> 一2 | B17: =[1]工程預算表!B43 -> 臨時電高壓變電站 | C17: 0.9153 | D17: 0.9153
A18: =[1]工程預算表!A49 -> 一8 | B18: =[1]工程預算表!B49 -> 鄰房鑑定費 | C18: 0.499 | D18: 0.4998
A19: =[1]工程預算表!A52 -> 一11 | B19: =[1]工程預算表!B52 -> 捷運出口臨時鋼棚 | C19: 0.25 | D19: 0.2593
A20: =[1]工程預算表!A54 -> 一13 | B20: =[1]工程預算表!B54 -> 組合房屋 | C20: 0.39 | D20: 0.3904
A21: =[1]工程預算表!A55 -> 一14 | B21: =[1]工程預算表!B55 -> 工務所配備 | C21: 0.36 | D21: 0.3627
A22: =[1]工程預算表!A56 -> 一15 | B22: =[1]工程預算表!B56 -> 臨時水電費 | C22: 0.95 | D22: 0.9534
A23: =[1]工程預算表!A58 -> 一17 | B23: =[1]工程預算表!B58 -> 塔吊工程 | C23: 0.68 | D23: 0.687
A24: =[1]工程預算表!A59 -> 一18 | B24: =[1]工程預算表!B59 -> 施工電梯工程 | C24: 0.57 | D24: 0.5751
A25: =[1]工程預算表!A60 -> 一19 | B25: =[1]工程預算表!B60 -> 地下室抽排風設備 | C25: 0.235 | D25: 1
A26: =[1]工程預算表!A61 -> 一20 | B26: =[1]工程預算表!B61 -> 點井降水工程
A27: =[1]工程預算表!A63 -> 二 | B27: =[1]工程預算表!B63 -> 結構體工程
A28: =[1]工程預算表!A64 -> 二1 | B28: =[1]工程預算表!B64 -> 辦公大樓地下層-混凝土打除 | C28: 0.8 | D28: 0.8
A29: =[1]工程預算表!A65 -> 二2 | B29: =[1]工程預算表!B65 -> 辦公大樓地下層-連續壁壁樁工程 | C29: 0.4165 | D29: 0.4165
A30: =[1]工程預算表!A66 -> 二3 | B30: =[1]工程預算表!B66 -> 辦公大樓地下層-支撐工程 | C30: 0.4294 | D30: 0.4294
A31: =[1]工程預算表!A67 -> 二4 | B31: =[1]工程預算表!B67 -> 辦公大樓地下層-觀測工程 | C31: 0.4153 | D31: 0.4153
A32: =[1]工程預算表!A68 -> 二5 | B32: =[1]工程預算表!B68 -> 辦公大樓地下層-土方工程 | C32: 0.2344 | D32: 0.2344
A33: =[1]工程預算表!A71 -> 二8 | B33: =[1]工程預算表!B71 -> 辦公大樓地下層-模版工程 | C33: 0.3902 | D33: 0.3902
A34: =[1]工程預算表!A76 -> 二13 | B34: =[1]工程預算表!B76 -> 辦公大樓地下層-二次無收縮水泥工程 | C34: 0.4144 | D34: 0.233
A35: =[1]工程預算表!A80 -> 二17 | B35: =[1]工程預算表!B80 -> 辦公大樓一至六樓-鋼筋綁紮工程 | C35: 0.4144 | D35: 0.4144
A36: =[1]工程預算表!A81 -> 二18 | B36: =[1]工程預算表!B81 -> 辦公大樓一至六樓-點焊鋼絲網工料費 | C36: 0.4301 | D36: 0.4301
A37: =[1]工程預算表!A82 -> 二19 | B37: =[1]工程預算表!B82 -> 辦公大樓一至六樓-鋼骨工程 | C37: 0.2293 | D37: 0.2293
A38: =[1]工程預算表!A83 -> 二20 | B38: =[1]工程預算表!B83 -> 辦公大樓一至六樓-防火披覆工程 | C38: 0.3191 | D38: 0.3191
A39: =[1]工程預算表!A84 -> 二21 | B39: =[1]工程預算表!B84 -> 辦公大樓一至六樓-鋼承鈑工料費 | C39: 0.3975 | D39: 0.3973
A40: =[1]工程預算表!A94 -> 二31 | B40: =[1]工程預算表!B94 -> 商場大樓地下層及一樓-觀測系統 | C40: 0.3925 | D40: 0.3925
...

Sheet Sheet2

Sheet Sheet3
