Workbook

Sheet Sheet1
A1: 附表二
A2: 項次 | B2: 工 程 項 目 | C2: 日勝生公司 | D2: 驗收版鑑定報告
C3: 工程預算表差異欄 | D3: 工程算差異表
A4: =[1]工程預算表!A8 -> 項次 | B4: =[1]工程預算表!B8 -> 項目及說明
A5: =[1]工程預算表!A9 -> 壹 | B5: =[1]工程預算表!B9 -> 直接工程費
A6: =[1]工程預算表!A10 -> 一 | B6: =[1]工程預算表!B10 -> 假設工程 | C6: 0.562 | D6: 0.5629
A7: =[1]工程預算表!A15 -> 六 | B7: =[1]工程預算表!B15 -> 雜項裝修工程 | C7: 0.33 | D7: 0.3386
A8: =[1]工程預算表!A16 -> 七 | B8: =[1]工程預算表!B16 -> 門窗工程 | C8: 0.367 | D8: 0.3671
A9: =[1]工程預算表!A18 -> 九 | B9: =[1]工程預算表!B18 -> 廚房設備工程 | C9: 0.202 | D9: 0.2026
A10: =[1]工程預算表!A20 -> 十一 | B10: =[1]工程預算表!B20 -> 機電工程 | C10: 0.28 | D10: 0.2886
A11: =[1]工程預算表!A21 -> 十二 | B11: =[1]工程預算表!B21 -> 其他工程 | C11: 0.24 | D11: 0.2405
A12: =[1]工程預算表!A22 -> 十三 | B12: =[1]工程預算表!B22 -> 景觀VIP室工程 | C12: 0.2 | D12: 0.2
A13: =[1]工程預算表!A24 -> 貳 | B13: =[1]工程預算表!B24 -> 間接工程費
A14: =[1]工程預算表!A29 -> 五 | B14: =[1]工程預算表!B29 -> 營業稅5% | C14: 0.2376 | D14: 0.2376
A15: =[1]工程預算表!A32 -> 0 | B15: =[1]工程預算表!B32 -> 0
A16: =[1]工程預算表!A41 -> 一 | B16: =[1]工程預算表!B41 -> 假設工程
A17: =[1]工程預算表!A43 -> 一2 | B17: =[1]工程預算表!B43 -> 臨時電高壓變電站 | C17: 0.9153 | D17: 0.9153
A18: =[1]工程預算表!A49 -> 一8 | B18: =[1]工程預算表!B49 -> 鄰房鑑定費 | C18: 0.499 | D18: 0.4998
A19: =[1]工程預算表!A52 -> 一11 | B19: =[1]工程預算表!B52 -> 捷運出口臨時鋼棚 | C19: 0.25 | D19: 0.2593
A20: =[1]工程預算表!A54 -> 一13 | B20: =[1]工程預算表!B54 -> 組合房屋 | C20: 0.39 | D20: 0.3904
A21: =[1]工程預算表!A55 -> 一14 | B21: =[1]工程預算表!B55 -> 工務所配備 | C21: 0.36 | D21: 0.3627
A22: =[1]工程預算表!A56 -> 一15 | B22: =[1]工程預算表!B56 -> 臨時水電費 | C22: 0.95 | D22: 0.9534
A23: =[1]工程預算表!A58 -> 一17 | B23: =[1]工程預算表!B58 -> 塔吊工程 | C23: 0.68 | D23: 0.687
A24: =[1]工程預算表!A59 -> 一18 | B24: =[1]工程預算表!B59 -> 施工電梯工程 | C24: 0.57 | D24: 0.5751
A25: =[1]工程預算表!A60 -> 一19 | B25: =[1]工程預算表!B60 -> 地下室抽排風設備 | C25: 0.235 | D25: 1
A26: =[1]工程預算表!A61 -> 一20 | B26: =[1]工程預算表!B61 -> 點井降水工程
A27: =[1]工程預算表!A63 -> 二 | B27: =[1]工程預算表!B63 -> 結構體工程
A28: =[1]工程預算表!A64 -> 二1 | B28: =[1]工程預算表!B64 -> 辦公大樓地下層-混凝土打除 | C28: 0.8 | D28: 0.8
A29: =[1]工程預算表!A65 -> 二2 | B29: =[1]工程預算表!B65 -> 辦公大樓地下層-連續壁壁樁工程 | C29: 0.4165 | D29: 0.4165
A30: =[1]工程預算表!A66 -> 二3 | B30: =[1]工程預算表!B66 -> 辦公大樓地下層-支撐工程 | C30: 0.4294 | D30: 0.4294
A31: =[1]工程預算表!A67 -> 二4 | B31: =[1]工程預算表!B67 -> 辦公大樓地下層-觀測工程 | C31: 0.4153 | D31: 0.4153
A32: =[1]工程預算表!A68 -> 二5 | B32: =[1]工程預算表!B68 -> 辦公大樓地下層-土方工程 | C32: 0.2344 | D32: 0.2344
A33: =[1]工程預算表!A71 -> 二8 | B33: =[1]工程預算表!B71 -> 辦公大樓地下層-模版工程 | C33: 0.3902 | D33: 0.3902
A34: =[1]工程預算表!A76 -> 二13 | B34: =[1]工程預算表!B76 -> 辦公大樓地下層-二次無收縮水泥工程 | C34: 0.4144 | D34: 0.233
A35: =[1]工程預算表!A80 -> 二17 | B35: =[1]工程預算表!B80 -> 辦公大樓一至六樓-鋼筋綁紮工程 | C35: 0.4144 | D35: 0.4144
A36: =[1]工程預算表!A81 -> 二18 | B36: =[1]工程預算表!B81 -> 辦公大樓一至六樓-點焊鋼絲網工料費 | C36: 0.4301 | D36: 0.4301
A37: =[1]工程預算表!A82 -> 二19 | B37: =[1]工程預算表!B82 -> 辦公大樓一至六樓-鋼骨工程 | C37: 0.2293 | D37: 0.2293
A38: =[1]工程預算表!A83 -> 二20 | B38: =[1]工程預算表!B83 -> 辦公大樓一至六樓-防火披覆工程 | C38: 0.3191 | D38: 0.3191
A39: =[1]工程預算表!A84 -> 二21 | B39: =[1]工程預算表!B84 -> 辦公大樓一至六樓-鋼承鈑工料費 | C39: 0.3975 | D39: 0.3973
A40: =[1]工程預算表!A94 -> 二31 | B40: =[1]工程預算表!B94 -> 商場大樓地下層及一樓-觀測系統 | C40: 0.3925 | D40: 0.3925
A41: =[1]工程預算表!A95 -> 二32 | B41: =[1]工程預算表!B95 -> 商場大樓地下層及一樓-土方工程 | C41: 0.473 | D41: 0.4737
A42: =[1]工程預算表!A103 -> 二40 | B42: =[1]工程預算表!B103 -> 商場大樓二樓以上-防火批覆工程 | C42: 0.8761 | D42: 0.8761
A43: =[1]工程預算表!A104 -> 二41 | B43: =[1]工程預算表!B104 -> 商場大樓二樓以上-鋼承鈑工料費 | C43: 0.2248 | D43: 0.2248
A44: =[1]工程預算表!A105 -> 二42 | B44: =[1]工程預算表!B105 -> 商場大樓二樓以上-點焊鋼絲網工料費 | C44: 0.4154 | D44: 0.4154
A45: =[1]工程預算表!A107 -> 二44 | B45: =[1]工程預算表!B107 -> 住宅區地下層-連續壁壁樁工程 | C45: 0.2236 | D45: 0.2236
A46: =[1]工程預算表!A108 -> 二45 | B46: =[1]工程預算表!B108 -> 住宅區地下層-支撐工程 | C46: 0.433 | D46: 0.433
A47: =[1]工程預算表!A109 -> 二46 | B47: =[1]工程預算表!B109 -> 住宅區地下層-觀測系統 | C47: 0.207 | D47: 0.2032
A48: =[1]工程預算表!A110 -> 二47 | B48: =[1]工程預算表!B110 -> 住宅區地下層-土方工程 | C48: 0.3531 | D48: 0.3531
A49: =[1]工程預算表!A113 -> 二50 | B49: =[1]工程預算表!B113 -> 住宅區地下層-模版工程 | C49: 0.2639 | D49: 0.2639
A50: =[1]工程預算表!A116 -> 二53 | B50: =[1]工程預算表!B116 -> 住宅區地下層-中間樁止水 | C50: 0.2959 | D50: 0.2959
A51: =[1]工程預算表!A117 -> 二54 | B51: =[1]工程預算表!B117 -> 住宅區地下層-二次無收縮水泥工程 | C51: 0.889 | D51: 0.889
A52: =[1]工程預算表!A120 -> 二57 | B52: =[1]工程預算表!B120 -> 住宅區人工地盤以下結構-鋼筋綁紮工程 | C52: 0.7586 | D52: 0.7586
A53: =[1]工程預算表!A126 -> 二63 | B53: =[1]工程預算表!B126 -> 住宅大樓D 棟結構體工程-模版工程 | C53: 0.2163 | D53: 0.2163
A54: =[1]工程預算表!A134 -> 二71 | B54: =[1]工程預算表!B134 -> 住宅大樓GJ棟結構體工程-模版工程 | C54: 0.2517 | D54: 0.2517
A55: =[1]工程預算表!A135 -> 二72 | B55: =[1]工程預算表!B135 -> 其他棟住宅結構體工程-3000PSI混凝土工程 | C55: 0.5585 | D55: 0.5585
A56: =[1]工程預算表!A143 -> 三 | B56: =[1]工程預算表!B143 -> 外牆裝修工程
A57: =[1]工程預算表!A144 -> 三1 | B57: =[1]工程預算表!B144 -> 外牆乾式花崗石 | C57: 0.5564 | D57: 0.5564
A58: =[1]工程預算表!A145 -> 三2 | B58: =[1]工程預算表!B145 -> 外牆粉刷打底貼山型磚 | C58: 0.48 | D58: 0.48
A59: =[1]工程預算表!A146 -> 三3 | B59: =[1]工程預算表!B146 -> 屋突外牆金屬烤漆
A60: =[1]工程預算表!A147 -> 三4 | B60: =[1]工程預算表!B147 -> 外牆金屬烤漆 | C60: 0.2764 | D60: 0.3764
A61: =[1]工程預算表!A153 -> 三10 | B61: =[1]工程預算表!B153 -> 屋面鈦鋅板鋪面 | C61: 0.2644 | D61: 0.2644
A62: =[1]工程預算表!A154 -> 三11 | B62: =[1]工程預算表!B154 -> 外牆金屬烤漆遮陽板 | C62: 0.2701 | D62: 0.2701
A63: =[1]工程預算表!A155 -> 三12 | B63: =[1]工程預算表!B155 -> 現有外牆整修工程 | C63: 0.4167 | D63: 0.4176
A64: =[1]工程預算表!A156 -> 三13 | B64: =[1]工程預算表!B156 -> 外牆帷幕風雨試驗費 | C64: 0.6 | D64: 0.6
A65: =[1]工程預算表!A168 -> 四 | B65: =[1]工程預算表!B168 -> 內裝修工程
A66: =[1]工程預算表!A175 -> 四7 | B66: =[1]工程預算表!B175 -> 辦公大樓鋼梯地坪鋪PVC地磚 | C66: 0.2804 | D66: 0.2804
A67: =[1]工程預算表!A177 -> 四9 | B67: =[1]工程預算表!B177 -> 辦公大樓地坪鋪天然石材 | C67: 0.3223 | D67: 0.3223
A68: =[1]工程預算表!A179 -> 四11 | B68: =[1]工程預算表!B179 -> 辦公大樓輕質隔間灌漿牆 | C68: 0.6701 | D68: 0.6701
A69: =[1]工程預算表!A180 -> 四12 | B69: =[1]工程預算表!B180 -> 辦公大樓輕質隔間灌漿牆10.5CM厚 | C69: 0.6624 | D69: 0.6624
A70: =[1]工程預算表!A189 -> 四21 | B70: =[1]工程預算表!B189 -> 辦公大樓內牆水泥粉光刷水泥漆 | C70: 0.2562 | D70: 0.2562
A71: =[1]工程預算表!A193 -> 四25 | B71: =[1]工程預算表!B193 -> 辦公大樓灌漿牆噴水泥漆 | C71: 0.988 | D71: 0.988
A72: =[1]工程預算表!A194 -> 四26 | B72: =[1]工程預算表!B194 -> 辦公大樓平頂磨平批土 | C72: 0.7507 | D72: 0.7501
A73: =[1]工程預算表!A195 -> 四27 | B73: =[1]工程預算表!B195 -> 辦公大樓地下室磨平批土噴水泥漆 | C73: 0.4622 | D73: 0.4622
A74: =[1]工程預算表!A197 -> 四29 | B74: =[1]工程預算表!B197 -> 辦公大樓平頂磨平批土噴乳膠漆加竹碳面漆 | C74: 0.4376 | D74: 0.4376
A75: =[1]工程預算表!A198 -> 四30 | B75: =[1]工程預算表!B198 -> 辦公大樓樓梯背側水泥粉光刷水泥漆 | C75: 0.436 | D75: 0.4366
A76: =[1]工程預算表!A204 -> 四36 | B76: =[1]工程預算表!B204 -> 辦公大樓陽台平頂鋁企口天花板 | C76: 0.6859 | D76: 0.6889
A77: =[1]工程預算表!A206 -> 四38 | B77: =[1]工程預算表!B206 -> 辦公大樓PVC踢腳 | C77: 0.8348 | D77: -0.3519
A78: =[1]工程預算表!A224 -> 四56 | B78: =[1]工程預算表!B224 -> 商場大樓地下室連續壁側防水粉刷刷水泥漆 | C78: 0.6028 | D78: 0.6028
A79: =[1]工程預算表!A227 -> 四59 | B79: =[1]工程預算表!B227 -> 商場大樓灌漿牆面貼30*60拋光石英磚 | C79: 0.3065 | D79: 0.3065
A80: =[1]工程預算表!A229 -> 四61 | B80: =[1]工程預算表!B229 -> 商場大樓灌漿牆面刷水泥漆 | C80: 0.698 | D80: 0.698
A81: =[1]工程預算表!A236 -> 四68 | B81: =[1]工程預算表!B236 -> 商場大樓平頂矽酸鈣板刷乳膠漆 | C81: 0.7871 | D81: 0.7671
A82: =[1]工程預算表!A239 -> 四71 | B82: =[1]工程預算表!B239 -> 商場大樓陽台平頂鋁企口天花板 | C82: 0.7538 | D82: 0.3538
A83: =[1]工程預算表!A241 -> 四73 | B83: =[1]工程預算表!B241 -> 商場大樓屋頂地坪防水工程 | C83: 0.7974 | D83: 0.7974
A84: =[1]工程預算表!A243 -> 四75 | B84: =[1]工程預算表!B243 -> 住宅大樓筏基防水粉刷 | C84: 0.62 | D84: 0.6245
A85: =[1]工程預算表!A248 -> 四80 | B85: =[1]工程預算表!B248 -> 住宅大樓樓梯地坪貼磁磚磨石子收邊 | C85: 0.4908 | D85: 0.4408
A86: =[1]工程預算表!A249 -> 四81 | B86: =[1]工程預算表!B249 -> 住宅大樓鋼梯地坪鋪PVC地磚 | C86: 0.5831 | D86: 0.3731
A87: =[1]工程預算表!A252 -> 四84 | B87: =[1]工程預算表!B252 -> 住宅大樓地坪水泥砂漿粉光塗EPOXY | C87: 0.424 | D87: 0.424
A88: =[1]工程預算表!A254 -> 四86 | B88: =[1]工程預算表!B254 -> 住宅大樓輕質隔間灌漿牆10.5CM厚 | C88: 0.5164 | D88: 0.5164
A89: =[1]工程預算表!A258 -> 四90 | B89: =[1]工程預算表!B258 -> 住宅大樓地下室連續壁側防水粉刷刷水泥漆 | C89: 0.5417 | D89: 0.5417
A90: =[1]工程預算表!A259 -> 四91 | B90: =[1]工程預算表!B259 -> 住宅大樓內牆貼30*60拋光石磚搭配石材 | C90: 0.6239 | D90: 0.6239
A91: =[1]工程預算表!A262 -> 四94 | B91: =[1]工程預算表!B262 -> 住宅大樓內牆水泥粉光刷水泥漆 | C91: 0.6234 | D91: 0.6234
A92: =[1]工程預算表!A263 -> 四95 | B92: =[1]工程預算表!B263 -> 住宅大樓內牆水泥粉光刷乳膠漆加竹碳面漆 | C92: 0.4211 | D92: -0.0899
A93: =[1]工程預算表!A268 -> 四100 | B93: =[1]工程預算表!B268 -> 住宅大樓地下室磨平批土噴水泥漆 | C93: 0.4717 | D93: 0.4717
A94: =[1]工程預算表!A269 -> 四101 | B94: =[1]工程預算表!B269 -> 住宅大樓平頂磨平批土噴水泥漆 | C94: 0.6174 | D94: 0.6174
A95: =[1]工程預算表!A270 -> 四102 | B95: =[1]工程預算表!B270 -> 住宅大樓平頂磨平批土噴乳膠漆加竹碳面漆 | C95: 0.4023 | D95: 0.4023
A96: =[1]工程預算表!A271 -> 四103 | B96: =[1]工程預算表!B271 -> 住宅大樓樓梯背側水泥粉光刷水泥漆 | C96: 0.6206 | D96: 0.6806
A97: =[1]工程預算表!A274 -> 四106 | B97: =[1]工程預算表!B274 -> 住宅大樓矽酸鈣板包樑刷乳膠漆 | C97: 0.4011 | D97: 0.4011
A98: =[1]工程預算表!A275 -> 四107 | B98: =[1]工程預算表!B275 -> 住宅大樓平頂藝術造型天花板 | C98: 0.5306 | D98: 1
A99: =[1]工程預算表!A280 -> 四112 | B99: =[1]工程預算表!B280 -> 住宅大樓屋頂地坪防水工程 | C99: 0.8817 | D99: 0.8817
A100: =[1]工程預算表!A296 -> 五 | B100: =[1]工程預算表!B296 -> 附屬工程-因應新店機廠開發必要工程
...

Sheet Sheet2

Sheet Sheet3
