Workbook

Sheet 附表1
A1: 附表1
A2: 編號 | B2: 姓名 | C2: 區分所有權比例a | D2: 原告主張 | H2: 判斷 (新臺幣，元)
D3: 原聲明公設損害總額b1 （附表1-1「原告主張」「原聲明」） | E3: 追加聲明公設損害總額b2 （附表1-1「原告主張」「追加聲明」） | F3: 原聲明請求賠償金額c1=axb1 | G3: 追加聲明請求賠償金額c2=axb2 | H3: 公設損害總額d1 （附表1-1「判斷」「原聲明」） | I3: 公設損害總額d2 （附表1-1「判斷」「追加聲明」） | J3: 判斷原聲明賠償金額(e1=axd1) | K3: 判斷追加聲明賠償金額(e2=axd2) | L3: 判斷總計（el+e2） | M3: 應供擔保金額
A4: 1 | B4: 陳偉謀 | C4: 0.0272 | D4: ='附表1-1'!C8 -> 24024919 | E4: ='附表1-1'!D8 -> 181300 | F4: =ROUND(D4*C4,) -> 653478 | G4: =ROUND(C4*E4,) -> 4931 | H4: ='附表1-1'!E8 -> 1866987 | I4: ='附表1-1'!F8 -> 181300 | J4: =ROUND(C4*H4,) -> 50782 | K4: =ROUND(I4*C4,) -> 4931 | L4: =SUM(J4+K4) -> 55713 | M4: =ROUND(L4/3,0) -> 18571
A5: 2 | B5: 劉懿文 | C5: 0.0272 | D5: =D4 -> 24024919 | E5: =E4 -> 181300 | F5: =ROUND(D5*C5,) -> 653478 | G5: =ROUND(C5*E5,) -> 4931 | H5: =H4 -> 1866987 | I5: =I4 -> 181300 | J5: =ROUND(C5*H5,) -> 50782 | K5: =ROUND(I5*C5,) -> 4931 | L5: =SUM(J5+K5) -> 55713 | M5: =ROUND(L5/3,0) -> 18571
A6: 3 | B6: 丁水金 | C6: 0.0272 | D6: =D5 -> 24024919 | E6: =E5 -> 181300 | F6: =ROUND(D6*C6,) -> 653478 | G6: =ROUND(C6*E6,) -> 4931 | H6: =H5 -> 1866987 | I6: =I5 -> 181300 | J6: =ROUND(C6*H6,) -> 50782 | K6: =ROUND(I6*C6,) -> 4931 | L6: =SUM(J6+K6) -> 55713 | M6: =ROUND(L6/3,0) -> 18571
A7: 4 | B7: 熊暉、 康文心 | C7: 0.0272 | D7: =D6 -> 24024919 | E7: =E6 -> 181300 | F7: =ROUND(D7*C7,) -> 653478 | G7: =ROUND(C7*E7,) -> 4931 | H7: =H6 -> 1866987 | I7: =I6 -> 181300 | J7: =ROUND(C7*H7,) -> 50782 | K7: =ROUND(I7*C7,) -> 4931 | L7: =SUM(J7+K7) -> 55713 | M7: =ROUND(L7/3,0) -> 18571
A8: 5 | B8: 黃俶秋 | C8: 0.024 | D8: =D7 -> 24024919 | E8: =E7 -> 181300 | F8: 576597 | G8: 4352 | H8: =H7 -> 1866987 | I8: =I7 -> 181300 | J8: =ROUND(C8*H8,) -> 44808 | K8: =ROUND(I8*C8,) -> 4351 | L8: =SUM(J8+K8) -> 49159 | M8: =ROUND(L8/3,0) -> 16386
A9: 6 | B9: 徐佩瑗 | C9: 0.024 | D9: =D8 -> 24024919 | E9: =E8 -> 181300 | F9: 576597 | G9: 4352 | H9: =H8 -> 1866987 | I9: =I8 -> 181300 | J9: =ROUND(C9*H9,) -> 44808 | K9: =ROUND(I9*C9,) -> 4351 | L9: =SUM(J9+K9) -> 49159 | M9: =ROUND(L9/3,0) -> 16386
A10: 7 | B10: 林美秀 | C10: 0.024 | D10: =D9 -> 24024919 | E10: =E9 -> 181300 | F10: 576597 | G10: 4352 | H10: =H9 -> 1866987 | I10: =I9 -> 181300 | J10: =ROUND(C10*H10,) -> 44808 | K10: =ROUND(I10*C10,) -> 4351 | L10: =SUM(J10+K10) -> 49159 | M10: =ROUND(L10/3,0) -> 16386
A11: 8 | B11: 李玫欣 | C11: 0.024 | D11: =D10 -> 24024919 | E11: =E10 -> 181300 | F11: 576597 | G11: 4352 | H11: =H10 -> 1866987 | I11: =I10 -> 181300 | J11: =ROUND(C11*H11,) -> 44808 | K11: =ROUND(I11*C11,) -> 4351 | L11: =SUM(J11+K11) -> 49159 | M11: =ROUND(L11/3,0) -> 16386
A12: 9 | B12: 陳中明 | C12: 0.024 | D12: =D11 -> 24024919 | E12: =E11 -> 181300 | F12: 576597 | G12: 4352 | H12: =H11 -> 1866987 | I12: =I11 -> 181300 | J12: =ROUND(C12*H12,) -> 44808 | K12: =ROUND(I12*C12,) -> 4351 | L12: =SUM(J12+K12) -> 49159 | M12: =ROUND(L12/3,0) -> 16386
A13: 10 | B13: 張瑾怩 | C13: 0.024 | D13: =D12 -> 24024919 | E13: =E12 -> 181300 | F13: 576597 | G13: 4352 | H13: =H12 -> 1866987 | I13: =I12 -> 181300 | J13: =ROUND(C13*H13,) -> 44808 | K13: =ROUND(I13*C13,) -> 4351 | L13: =SUM(J13+K13) -> 49159 | M13: =ROUND(L13/3,0) -> 16386
A14: 11 | B14: 黃子真 | C14: 0.024 | D14: =D13 -> 24024919 | E14: =E13 -> 181300 | F14: 576597 | G14: 4352 | H14: =H13 -> 1866987 | I14: =I13 -> 181300 | J14: =ROUND(C14*H14,) -> 44808 | K14: =ROUND(I14*C14,) -> 4351 | L14: =SUM(J14+K14) -> 49159 | M14: =ROUND(L14/3,0) -> 16386
A15: 12 | B15: 王嘉祥 | C15: 0.024 | D15: =D14 -> 24024919 | E15: =E14 -> 181300 | F15: 576597 | G15: 4352 | H15: =H14 -> 1866987 | I15: =I14 -> 181300 | J15: =ROUND(C15*H15,) -> 44808 | K15: =ROUND(I15*C15,) -> 4351 | L15: =SUM(J15+K15) -> 49159 | M15: =ROUND(L15/3,0) -> 16386
A16: 13 | B16: 金春之 | C16: 0.024 | D16: =D15 -> 24024919 | E16: =E15 -> 181300 | F16: 576597 | G16: 4352 | H16: =H15 -> 1866987 | I16: =I15 -> 181300 | J16: =ROUND(C16*H16,) -> 44808 | K16: =ROUND(I16*C16,) -> 4351 | L16: =SUM(J16+K16) -> 49159 | M16: =ROUND(L16/3,0) -> 16386
C17: 0.0216 | D17: =D16 -> 24024919 | E17: =E16 -> 181300 | F17: =ROUND(D17*C17,) -> 518938 | G17: =ROUND(C17*E17,) -> 3916 | H17: =H16 -> 1866987 | I17: =I16 -> 181300 | J17: =ROUND(C17*H17,) -> 40327 | K17: =ROUND(I17*C17,) -> 3916 | L17: =SUM(J17+K17) -> 44243 | M17: =ROUND(L17/3,0) -> 14748
A18: 14 | B18: 謝芳淑 | C18: 0.024 | D18: =D17 -> 24024919 | E18: =E17 -> 181300 | F18: 576597 | G18: 4352 | H18: =H17 -> 1866987 | I18: =I17 -> 181300 | J18: =ROUND(C18*H18,) -> 44808 | K18: =ROUND(I18*C18,) -> 4351 | L18: =SUM(J18+K18) -> 49159 | M18: =ROUND(L18/3,0) -> 16386
A19: 15 | B19: 陳世惠 | C19: 0.024 | D19: =D18 -> 24024919 | E19: =E18 -> 181300 | F19: 576597 | G19: 4352 | H19: =H18 -> 1866987 | I19: =I18 -> 181300 | J19: =ROUND(C19*H19,) -> 44808 | K19: =ROUND(I19*C19,) -> 4351 | L19: =SUM(J19+K19) -> 49159 | M19: =ROUND(L19/3,0) -> 16386
A20: 16 | B20: 周義佩 | C20: 0.024 | D20: =D19 -> 24024919 | E20: =E19 -> 181300 | F20: 576597 | G20: 4352 | H20: =H19 -> 1866987 | I20: =I19 -> 181300 | J20: =ROUND(C20*H20,) -> 44808 | K20: =ROUND(I20*C20,) -> 4351 | L20: =SUM(J20+K20) -> 49159 | M20: =ROUND(L20/3,0) -> 16386
C21: 0.0216 | D21: =D20 -> 24024919 | E21: =E20 -> 181300 | F21: =ROUND(D21*C21,) -> 518938 | G21: =ROUND(C21*E21,) -> 3916 | H21: =H20 -> 1866987 | I21: =I20 -> 181300 | J21: =ROUND(C21*H21,) -> 40327 | K21: =ROUND(I21*C21,) -> 3916 | L21: =SUM(J21+K21) -> 44243 | M21: =ROUND(L21/3,0) -> 14748
A22: 17 | B22: 梁維辰、 梁凱惠 | C22: 0.0216 | D22: =D21 -> 24024919 | E22: =E21 -> 181300 | F22: =ROUND(D22*C22,) -> 518938 | G22: =ROUND(C22*E22,) -> 3916 | H22: =H21 -> 1866987 | I22: =I21 -> 181300 | J22: =ROUND(C22*H22,) -> 40327 | K22: =ROUND(I22*C22,) -> 3916 | L22: =SUM(J22+K22) -> 44243 | M22: =ROUND(L22/3,0) -> 14748
A23: 18 | B23: 黃淑梅 | C23: 0.0216 | D23: =D22 -> 24024919 | E23: =E22 -> 181300 | F23: =ROUND(D23*C23,) -> 518938 | G23: =ROUND(C23*E23,) -> 3916 | H23: =H22 -> 1866987 | I23: =I22 -> 181300 | J23: =ROUND(C23*H23,) -> 40327 | K23: =ROUND(I23*C23,) -> 3916 | L23: =SUM(J23+K23) -> 44243 | M23: =ROUND(L23/3,0) -> 14748
A24: 19 | B24: 名儕醫學文教基金會 | C24: 0.0216 | D24: =D23 -> 24024919 | E24: =E23 -> 181300 | F24: =ROUND(D24*C24,) -> 518938 | G24: =ROUND(C24*E24,) -> 3916 | H24: =H23 -> 1866987 | I24: =I23 -> 181300 | J24: =ROUND(C24*H24,) -> 40327 | K24: =ROUND(I24*C24,) -> 3916 | L24: =SUM(J24+K24) -> 44243 | M24: =ROUND(L24/3,0) -> 14748
A25: 20 | B25: 張登升 | C25: 0.0216 | D25: =D24 -> 24024919 | E25: =E24 -> 181300 | F25: =ROUND(D25*C25,) -> 518938 | G25: =ROUND(C25*E25,) -> 3916 | H25: =H24 -> 1866987 | I25: =I24 -> 181300 | J25: =ROUND(C25*H25,) -> 40327 | K25: =ROUND(I25*C25,) -> 3916 | L25: =SUM(J25+K25) -> 44243 | M25: =ROUND(L25/3,0) -> 14748
A26: 21 | B26: 許伸光 | C26: 0.0216 | D26: =D25 -> 24024919 | E26: =E25 -> 181300 | F26: =ROUND(D26*C26,) -> 518938 | G26: =ROUND(C26*E26,) -> 3916 | H26: =H25 -> 1866987 | I26: =I25 -> 181300 | J26: =ROUND(C26*H26,) -> 40327 | K26: =ROUND(I26*C26,) -> 3916 | L26: =SUM(J26+K26) -> 44243 | M26: =ROUND(L26/3,0) -> 14748
A27: 22 | B27: 劉仁娟 | C27: 0.0216 | D27: =D26 -> 24024919 | E27: =E26 -> 181300 | F27: =ROUND(D27*C27,) -> 518938 | G27: =ROUND(C27*E27,) -> 3916 | H27: =H26 -> 1866987 | I27: =I26 -> 181300 | J27: =ROUND(C27*H27,) -> 40327 | K27: =ROUND(I27*C27,) -> 3916 | L27: =SUM(J27+K27) -> 44243 | M27: =ROUND(L27/3,0) -> 14748
A28: 23 | B28: 陳侯如玲 | C28: 0.0216 | D28: =D27 -> 24024919 | E28: =E27 -> 181300 | F28: =ROUND(D28*C28,) -> 518938 | G28: =ROUND(C28*E28,) -> 3916 | H28: =H27 -> 1866987 | I28: =I27 -> 181300 | J28: =ROUND(C28*H28,) -> 40327 | K28: =ROUND(I28*C28,) -> 3916 | L28: =SUM(J28+K28) -> 44243 | M28: =ROUND(L28/3,0) -> 14748
A29: 24 | B29: 陳慶命 | C29: 0.0272 | D29: =D28 -> 24024919 | E29: =E28 -> 181300 | F29: =ROUND(D29*C29,) -> 653478 | G29: =ROUND(C29*E29,) -> 4931 | H29: =H28 -> 1866987 | I29: =I28 -> 181300 | J29: =ROUND(C29*H29,) -> 50782 | K29: =ROUND(I29*C29,) -> 4931 | L29: =SUM(J29+K29) -> 55713 | M29: =ROUND(L29/3,0) -> 18571
A30: 25 | B30: 周芳明 | C30: 0.0272 | D30: =D29 -> 24024919 | E30: =E29 -> 181300 | F30: =ROUND(D30*C30,) -> 653478 | G30: =ROUND(C30*E30,) -> 4931 | H30: =H29 -> 1866987 | I30: =I29 -> 181300 | J30: =ROUND(C30*H30,) -> 50782 | K30: =ROUND(I30*C30,) -> 4931 | L30: =SUM(J30+K30) -> 55713 | M30: =ROUND(L30/3,0) -> 18571
A31: 26 | B31: 金季企業股份有限公司 | C31: 0.0272 | D31: =D30 -> 24024919 | E31: =E30 -> 181300 | F31: =ROUND(D31*C31,) -> 653478 | G31: =ROUND(C31*E31,) -> 4931 | H31: =H30 -> 1866987 | I31: =I30 -> 181300 | J31: =ROUND(C31*H31,) -> 50782 | K31: =ROUND(I31*C31,) -> 4931 | L31: =SUM(J31+K31) -> 55713 | M31: =ROUND(L31/3,0) -> 18571
A32: 27 | B32: 莊雅玲 | C32: 0.024 | D32: =D31 -> 24024919 | E32: =E31 -> 181300 | F32: 576597 | G32: 4352 | H32: =H31 -> 1866987 | I32: =I31 -> 181300 | J32: 0 | K32: 0 | L32: =SUM(J32+K32) -> 0 | M32: =ROUND(L32/3,0) -> 0
A33: 28 | B33: 莊惠文 | C33: 0.0272 | D33: =D32 -> 24024919 | E33: =E32 -> 181300 | F33: =ROUND(D33*C33,) -> 653478 | G33: =ROUND(C33*E33,) -> 4931 | H33: =H32 -> 1866987 | I33: =I32 -> 181300 | J33: 0 | K33: 0 | L33: =SUM(J33+K33) -> 0 | M33: =ROUND(L33/3,0) -> 0
A34: 29 | B34: 支藝樺、林振宏 | C34: 0.024 | D34: =D33 -> 24024919 | E34: =E33 -> 181300 | F34: 576597 | G34: 4352 | H34: =H33 -> 1866987 | I34: =I33 -> 181300 | J34: 0 | K34: 0 | L34: =SUM(J34+K34) -> 0 | M34: =ROUND(L34/3,0) -> 0
A35: 30 | B35: 林光田 | C35: 0.0216 | D35: =D34 -> 24024919 | E35: =E34 -> 181300 | F35: =ROUND(D35*C35,) -> 518938 | G35: =ROUND(C35*E35,) -> 3916 | H35: =H34 -> 1866987 | I35: =I34 -> 181300 | J35: =ROUND(C35*H35,) -> 40327 | K35: =ROUND(I35*C35,) -> 3916 | L35: =SUM(J35+K35) -> 44243 | M35: =ROUND(L35/3,0) -> 14748
A36: 31 | B36: 黃佳媛 | C36: 0.0216 | D36: =D35 -> 24024919 | E36: =E35 -> 181300 | F36: =ROUND(D36*C36,) -> 518938 | G36: =ROUND(C36*E36,) -> 3916 | H36: =H35 -> 1866987 | I36: =I35 -> 181300 | J36: =ROUND(C36*H36,) -> 40327 | K36: =ROUND(I36*C36,) -> 3916 | L36: =SUM(J36+K36) -> 44243 | M36: =ROUND(L36/3,0) -> 14748
A37: 32 | B37: 蔡旼珊 | C37: 0.0216 | D37: =D36 -> 24024919 | E37: =E36 -> 181300 | F37: =ROUND(D37*C37,) -> 518938 | G37: =ROUND(C37*E37,) -> 3916 | H37: =H36 -> 1866987 | I37: =I36 -> 181300 | J37: 0 | K37: 0 | L37: =SUM(J37+K37) -> 0 | M37: =ROUND(L37/3,0) -> 0
A38: 33 | B38: 曾瑛俊 | C38: 0.0216 | D38: =D37 -> 24024919 | E38: =E37 -> 181300 | F38: =ROUND(D38*C38,) -> 518938 | G38: =ROUND(C38*E38,) -> 3916 | H38: =H37 -> 1866987 | I38: =I37 -> 181300 | J38: 0 | K38: 0 | L38: =SUM(J38+K38) -> 0 | M38: =ROUND(L38/3,0) -> 0
B39: 合計 | D39: =D38+E38 -> 24206219 | F39: =SUM(F4:F38) -> 20046376 | G39: 151284 | J39: =SUM(J4:J38) -> 1336767 | K39: =SUM(K4:K38) -> 129805 | L39: =SUM(L4:L38) -> 1466572
B40: 總計 | F40: =F39+G39 -> 20197660 | J40: =J39+K39 -> 1466572

Sheet 附表1-1
A1: 附表1-1「公設損害總額」（編號1至編號33部分）
A2: 項次 | B2: 內容 | C2: 原告主張 | E2: 判斷 | G2: 備註
C3: 原聲明 | D3: 追加聲明 | E3: 原聲明 | F3: 追加聲明
A4: 1 | B4: 公設瑕疵損害 | C4: ='附表1-2'!C15 -> 3305104 | D4: ='附表1-2'!D15 -> 181300 | E4: ='附表1-2'!E15 -> 1086160 | F4: ='附表1-2'!F15 -> 181300 | G4: 如附表1-2
A5: 2 | B5: 未依約施作公設損害 | C5: ='附表1-3'!C13 -> 3064611 | D5: - | E5: ='附表1-3'!D13 -> 780827 | F5: - | G5: 如附表1-3
A6: 3 | B6: 違法使用公設（一樓迎賓車道及夾層SPA區）損害 | C6: ='附表1-4'!C6 -> 14055204 | D6: - | E6: ='附表1-4'!D6 -> 0 | F6: - | G6: 如附表1-4
A7: 4 | B7: C棟佔用台電受電室公設損害 | C7: 3600000 | D7: - | E7: 0 | F7: -
B8: 合計 | C8: =SUM(C4:C7) -> 24024919 | D8: =SUM(D4:D7) -> 181300 | E8: =SUM(E4:E7) -> 1866987 | F8: =SUM(F4:F7) -> 181300
B9: 總計 | C9: =C8+D8 -> 24206219 | E9: =E8+F8 -> 2048287

Sheet 附表1-2
A1: 附表1-2「公設瑕疵損害」
A2: 項次 | B2: 內容 | C2: 原告主張 | E2: 判斷
C3: 原聲明 | D3: 追加聲明 | E3: 原聲明 | F3: 追加聲明
A4: 1 | B4: 一樓大廳流瀑工程 | C4: 415980 | D4: - | E4: 214850 | F4: -
A5: 2 | B5: 停車升降設備工程 | C5: 180000 | D5: - | E5: 73500 | F5: -
A6: 3 | B6: 一樓後院排水溝坡度及深度不足改善工程 | C6: 297768 | D6: - | E6: 57500 | F6: -
A7: 4 | B7: 屋頂地坪排水不良改善工程 | C7: 449900 | D7: - | E7: 56700 | F7: -
A8: 5 | B8: 地下室車位及通道地坪凹凸不平改善工程 | C8: 635426 | D8: - | E8: 0 | F8: -
A9: 6 | B9: 連續壁牆面粉刷空心及滲水改善工程 | C9: 413535 | D9: - | E9: 388515 | F9: -
A10: 7 | B10: 機電缺失未修繕改善工程 | C10: 362495 | D10: - | E10: ='附表1-5'!E40 -> 263095 | F10: -
A11: 8 | B11: 外牆以及公共空間小瑕疵修補部分 | C11: 150000 | D11: - | E11: 32000 | F11: -
A12: 9 | B12: 地下室、樓梯間滲漏水瑕疵（新增） | C12: - | D12: 181300 | E12: - | F12: 181300
A13: 10 | B13: 勞工安全衛生費及工程綜合保險費 | C13: 215000 | D13: - | E13: 0 | F13: -
A14: 11 | B14: 假設工程 | C14: 185000 | D14: - | E14: 0 | F14: -
B15: 合計 | C15: =SUM(C4:C14) -> 3305104 | D15: =SUM(D4:D14) -> 181300 | E15: =SUM(E4:E14) -> 1086160 | F15: =SUM(F4:F14) -> 181300
B16: 總計 | C16: =C15+D15 -> 3486404 | E16: =E15+F15 -> 1267460

Sheet 附表1-3
A1: 附表1-3「未依約施作公設損害」
A2: 項次 | B2: 內容 | C2: 原告主張 | D2: 判斷
A3: 1 | B3: 一樓綠化工程及屋頂平台景觀工程 | C3: 280827 | D3: 190827
A4: 2 | B4: 女兒牆頂未依合約向內斜改善工程 | C4: 157284 | D4: 70000
A5: 3 | B5: 屋頂蓄水池未依合約設計子母水箱改善工程 | C5: 96000 | D5: 63000
A6: 4 | B6: 電梯設備未依合約規格設置改善工程 | C6: 1295000 | D6: 182000
A7: 5 | B7: 一樓未依合約設置藝術燈飾及燈光設計 | C7: 750000 | D7: 0
A8: 6 | B8: 緊急發電機未依合約採用醫院專用型消音器 | C8: 50000 | D8: 42000
A9: 7 | B9: 屋頂及一樓往地下室不銹鋼甲種防火門未依合約設置讀卡互鎖門禁裝置 | C9: 50000 | D9: 50000
A10: 8 | B10: 汽車升降機未依合約設置近接感應讀卡機 | C10: 15000 | D10: 15000
A11: 9 | B11: 10樓以下未依規定設置消防緩降機 | C11: 202500 | D11: 0
A12: 10 | B12: A棟梯廳牆面大理石黏貼工程 | C12: 168000 | D12: 168000
B13: 合計 | C13: =SUM(C3:C12) -> 3064611 | D13: =SUM(D3:D12) -> 780827

Sheet 附表1-4
A1: 附表1-4「違法使用公設損害」
A2: 項次 | B2: 內容 | C2: 原告主張 | D2: 判斷
A3: 1 | B3: 一樓迎賓車道 | C3: 1220204 | D3: 0
A4: 2 | B4: 夾層SPA區 | C4: 835000 | D4: 0
A5: 3 | B5: 房屋價值減損 | C5: 12000000 | D5: 0
B6: 合計 | C6: =SUM(C3:C5) -> 14055204 | D6: =SUM(D3:D5) -> 0

Sheet 附表1-5
A1: 附表1-5「機電缺失未修繕改善工程」（卷五第188頁）
A2: 項次 | B2: 原告主張 | E2: 判斷
B3: 缺失 | C3: 修復內容 | D3: 修復費用
B4: 發電機設備
A5: 1 | B5: 2.柴油箱未依規定使用不鏽鋼製材質 | C5: 發電機600L白鐵儲油槽3mm與拆除更換工資 | D5: 53500 | E5: =D5 -> 53500
A6: 2 | B6: 14.發電機房內配電盤上方有一空出線盒未使用盲蓋板封閉 | C6: 發電機房內上方盲蓋封閉 | D6: 350 | E6: 0
B7: 電氣設備
A8: 3 | B8: 82.ATS裝置，緊急電源端14mm²接地線欠缺 | C8: 緊急電源端14mm接地線欠缺重新配置（7M） | D8: 4550 | E8: 0
A9: 4 | B9: 88.第11，12分路MC（電磁接觸器）非使用電容專用型 | C9: 電容器專用電磁接觸器換裝設置（2只） | D9: 7600 | E9: =D9 -> 7600
A10: 5 | B10: 98.總開關NFB-IC值與圖不符，圖面標示應為20KA，現場配置18KA | C10: 3Φ 220/380V 100A IC20KA-NFB開關 | D10: 12500 | E10: =D10 -> 12500
A11: 6 | B11: 108.第11，12分路MC（電磁接觸器）非使用電容專用型 | C11: 電容器專用電磁接觸器換裝設置（2只） | D11: 9000 | E11: =D11 -> 9000
A12: 7 | B12: 118.至GP1總盤開關間之匯流銅排規格與圖不符，圖面標示應為30*5mm，現場配置20*2mm | C12: 4-30*5mm匯流銅牌更新施作（至GP1盤總開關間） | D12: 11500 | E12: =D12 -> 11500
A13: 8 | B13: 123.GP1盤第2分路負載線徑與圖不符，圖面標示應為38mm²，現場配置22 mm² ，且未配管（Φ52mm） | C13: 4-38mm IV線更換施作 | D13: 13800 | E13: 0
A14: 9 | B14: 174.分路（2）ATS裝置之無熔絲開關IC值與圖不符，圖面標示應為25KA，現場配置20KA | C14: 3Φ 220/380V 100A IC20KA-NFB開關 | D14: 16500 | E14: =D14 -> 16500
A15: 10 | B15: 177.分路（3-8）MC（電磁接觸器）非使用電容器專用型 | C15: 電容器專用電磁接觸器換裝設置（2只） | D15: 9000 | E15: =D15 -> 9000
A16: 11 | B16: 232.分路（7）配線材質與圖面標示不符，圖面標示應為FR（耐熱線），現場配置IV（PVC線） | C16: 14mm FR耐熱線更換施作（70M） | D16: 45500 | E16: =D16 -> 45500
A17: 12 | B17: 286.電流切換開關圖面6段，現場4段 | C17: 電流表及電流切換開關更換施作 | D17: 3500 | E17: 0
A18: 13 | B18: 287.電容器NFB關閉x4迴，電磁接觸器非專用型x4 | C18: 電容器專用電磁接觸器換裝設置（4只） | D18: 18000 | E18: =D18 -> 18000
A19: 14 | B19: 306.匯流銅排圖面標4片x15mm，現場2片x12mm | C19: 4-15*2mm匯流銅排更新施作 | D19: 6500 | E19: =D19 -> 6500
A20: 15 | B20: 344.圖面電源線為8平方，現場為5.5平方 | C20: 4-8mm IV線更換施作（130M） | D20: 42000 | E20: 0
A21: 16 | B21: 345.圖面匯流銅排x4片15mm，現場3片x12mm | C21: 4-15*2mm匯流銅排更新施作 | D21: 6500 | E21: =D21 -> 6500
B22: 給排水設備
A23: 17 | B23: 40.水池上方監控線未包覆 | C23: A棟上水池監控線重新包覆PVC管 | D23: 1200 | E23: 0
A24: 18 | B24: 33.水池上方監控線未包覆 | C24: B棟上水池監控線重新包覆PVC管 | D24: 1200 | E24: 0
A25: 19 | B25: 58.頂樓之各戶水表幹管接頭處均已銹蝕 | C25: 頂樓各戶給水幹管接頭銹蝕重新處理油漆 | D25: 30000 | E25: 0
B26: 消防設備
A27: 20 | B27: 72.緊急電話未固定 | C27: A棟11F緊急電話固定施作 | D27: 450 | E27: 0
A28: 21 | B28: 75.回路斷線 | C28: A棟火警及排煙回路斷線查修（3回） | D28: 10500 | E28: =D28 -> 10500
A29: 22 | B29: 83.瞄子欠缺 | C29: 瞄子欠缺補充（2只） | D29: 1300 | E29: =D29 -> 1300
A30: 23 | B30: 85.自動警報逆止閥主閥關閉 | C30: 自動警報逆止閥關閉開啟測試（3式） | D30: 10500 | E30: =D30 -> 10500
A31: 24 | B31: 87.揚聲器欠缺 | C31: 揚聲器欠約補充（2只） | D31: 1600 | E31: 0
A32: 25 | B32: 88.滅火器失壓 | C32: 滅火器更新 | D32: 750 | E32: 0
A33: 26 | B33: 96.消防栓箱緊急電源標示燈故障 | C33: A棟消防栓箱緊急電源標示燈燈泡更新 | D33: 195 | E33: =D33 -> 195
A34: 27 | B34: 98.偵煙探測器無電 | C34: B棟偵煙探測器無電查修 | D34: 3500 | E34: =D34 -> 3500
A35: 28 | B35: 103.自動警報逆止閥蜂鳴器被拆 | C35: A棟自動警報逆止閥蜂鳴器查修 | D35: 3500 | E35: =D35 -> 3500
A36: 29 | B36: 106.B棟B2樓吊掛式出口方向燈電源未使用金屬軟管 | C36: B棟出口方向燈電源金屬軟管安裝施作 | D36: 1500 | E36: =D36 -> 1500
B37: 監控設備
A38: 30 | B38: 18.AB棟之揚水泵無運轉、過載警報 | C38: AB棟揚水泵設置運轉過載警報配線 | D38: 12000 | E38: 12000
A39: 31 | B39: 19.AB棟上下水池無高水位、低水位警報 | C39: AB棟上下水池設置高低水位警報配線 | D39: 24000 | E39: 24000
B40: 合計 | D40: =SUM(D5:D39) -> 362495 | E40: =SUM(E5:E39) -> 263095

Sheet 附表2
A1: 附表2
A2: 編號 | B2: 姓名 | C2: 區分所有權比例a | D2: 原告主張 (見卷一第76頁、卷四第172頁、卷五第15頁) | H2: 判斷 (新臺幣，元)
D3: 原聲明公設損害總額b1 （附表1-1「原告主張」「原聲明」） | E3: 追加聲明公設損害總額b2 （附表1-1「原告主張」「追加聲明」） | F3: 原聲明請求賠償金額c1=axb1 | G3: 追加聲明請求賠償金額c2=axb2 | H3: 原聲明公設損害總額d1 （附表1-1「判斷」「原聲明」） | I3: 追加聲明公設損害總額d2 （附表1-1「判斷」「追加聲明」） | J3: 判斷原聲明賠償金額e1=axd1 | K3: 判斷追加聲明賠償金額e2=axd2 | L3: 判斷總計（e1+e2） | M3: 應供擔保金額
A4: 34 | B4: 陳順忠 | C4: 0.0066 | D4: ='附表1-1'!C8 -> 24024919 | E4: ='附表1-1'!D8 -> 181300 | F4: =ROUND(D4*C4,) -> 158564 | G4: 1196 | H4: ='附表1-1'!E8 -> 1866987 | I4: ='附表1-1'!F8 -> 181300 | J4: =ROUND(C4*H4,) -> 12322 | K4: =ROUND(I4*C4,) -> 1197 | L4: =SUM(J4+K4) -> 13519 | M4: =ROUND(L4/3,0) -> 4506
C5: 0.025 | D5: =D4 -> 24024919 | E5: =E4 -> 181300 | F5: =ROUND(D5*C5,) -> 600623 | G5: 4532 | H5: =H4 -> 1866987 | I5: =I4 -> 181300 | J5: =ROUND(C5*H5,) -> 46675 | K5: =ROUND(I5*C5,) -> 4533 | L5: =SUM(J5+K5) -> 51208 | M5: =ROUND(L5/3,0) -> 17069
C6: 0.0337 | D6: =D5 -> 24024919 | E6: =E5 -> 181300 | F6: 809639 | G6: =ROUND(C6*E6,) -> 6110 | H6: =H5 -> 1866987 | I6: =I5 -> 181300 | J6: =ROUND(C6*H6,) -> 62917 | K6: =ROUND(I6*C6,) -> 6110 | L6: =SUM(J6+K6) -> 69027 | M6: =ROUND(L6/3,0) -> 23009
A7: 35 | B7: 洪士媛 | C7: 0.026 | D7: =D6 -> 24024919 | E7: =E6 -> 181300 | F7: =ROUND(D7*C7,) -> 624648 | G7: =ROUND(C7*E7,) -> 4714 | H7: =H6 -> 1866987 | I7: =I6 -> 181300 | J7: =ROUND(C7*H7,) -> 48542 | K7: =ROUND(I7*C7,) -> 4714 | L7: =SUM(J7+K7) -> 53256 | M7: =ROUND(L7/3,0) -> 17752
A8: 36 | B8: 韓海潮 | C8: 0.025 | D8: =D7 -> 24024919 | E8: =E7 -> 181300 | F8: =ROUND(D8*C8,) -> 600623 | G8: 4532 | H8: =H7 -> 1866987 | I8: =I7 -> 181300 | J8: =ROUND(C8*H8,) -> 46675 | K8: =ROUND(I8*C8,) -> 4533 | L8: =SUM(J8+K8) -> 51208 | M8: =ROUND(L8/3,0) -> 17069
B9: 合計 | F9: =SUM(F4:F8) -> 2794097 | G9: =SUM(G4:G8) -> 21084 | J9: =SUM(J4:J8) -> 217131 | K9: =SUM(K4:K8) -> 21087 | L9: =SUM(L4:L8) -> 238218
B10: 總計 | F10: =F9+G9 -> 2815181 | J10: =J9+K9 -> 238218

Sheet 附表3
A1: 附表3
A2: 編號 | B2: 姓名 | C2: 區分所有權比例a | D2: 請求罰金c=ax300萬元 | E2: 判斷金額
A3: 1 | B3: 陳偉謀 | C3: 0.0272 | D3: =ROUND(C3*3000000,) -> 81600 | E3: 0
A4: 2 | B4: 陳懿文 | C4: 0.0272 | D4: =ROUND(C4*3000000,) -> 81600 | E4: 0
A5: 3 | B5: 丁水金 | C5: 0.0272 | D5: =ROUND(C5*3000000,) -> 81600 | E5: 0
A6: 4 | B6: 熊暉、康文心 | C6: 0.0272 | D6: =ROUND(C6*3000000,) -> 81600 | E6: 0
A7: 5 | B7: 黃俶秋 | C7: 0.024 | D7: =ROUND(C7*3000000,) -> 72000 | E7: 0
A8: 6 | B8: 徐佩瑗 | C8: 0.024 | D8: =ROUND(C8*3000000,) -> 72000 | E8: 0
A9: 7 | B9: 林美秀 | C9: 0.024 | D9: =ROUND(C9*3000000,) -> 72000 | E9: 0
A10: 8 | B10: 李玫欣 | C10: 0.024 | D10: =ROUND(C10*3000000,) -> 72000 | E10: 0
A11: 9 | B11: 陳中明 | C11: 0.024 | D11: =ROUND(C11*3000000,) -> 72000 | E11: 0
A12: 10 | B12: 張瑾怩 | C12: 0.024 | D12: =ROUND(C12*3000000,) -> 72000 | E12: 0
A13: 11 | B13: 黃子真 | C13: 0.024 | D13: =ROUND(C13*3000000,) -> 72000 | E13: 0
A14: 12 | B14: 王嘉祥 | C14: 0.024 | D14: =ROUND(C14*3000000,) -> 72000 | E14: 0
A15: 13 | B15: 金春之 | C15: 0.024 | D15: =ROUND(C15*3000000,) -> 72000 | E15: 0
C16: 0.0216 | D16: =ROUND(C16*3000000,) -> 64800 | E16: 0
A17: 14 | B17: 謝芳淑 | C17: 0.024 | D17: =ROUND(C17*3000000,) -> 72000 | E17: 0
A18: 15 | B18: 陳世惠 | C18: 0.024 | D18: =ROUND(C18*3000000,) -> 72000 | E18: 0
A19: 16 | B19: 周義佩 | C19: 0.024 | D19: =ROUND(C19*3000000,) -> 72000 | E19: 0
C20: 0.0216 | D20: =ROUND(C20*3000000,) -> 64800 | E20: 0
A21: 17 | B21: 梁維辰、梁凱惠 | C21: 0.0216 | D21: =ROUND(C21*3000000,) -> 64800 | E21: 0
A22: 18 | B22: 黃淑梅 | C22: 0.0216 | D22: =ROUND(C22*3000000,) -> 64800 | E22: 0
A23: 19 | B23: 名儕醫學文教基金會 | C23: 0.0216 | D23: =ROUND(C23*3000000,) -> 64800 | E23: 0
A24: 20 | B24: 張登升 | C24: 0.0216 | D24: =ROUND(C24*3000000,) -> 64800 | E24: 0
A25: 21 | B25: 許伸光 | C25: 0.0216 | D25: =ROUND(C25*3000000,) -> 64800 | E25: 0
A26: 22 | B26: 劉仁娟 | C26: 0.0216 | D26: =ROUND(C26*3000000,) -> 64800 | E26: 0
A27: 23 | B27: 陳侯如玲 | C27: 0.0216 | D27: =ROUND(C27*3000000,) -> 64800 | E27: 0
A28: 24 | B28: 陳慶命 | C28: 0.0272 | D28: =ROUND(C28*3000000,) -> 81600 | E28: 0
A29: 25 | B29: 周芳明 | C29: 0.0272 | D29: =ROUND(C29*3000000,) -> 81600 | E29: 0
A30: 26 | B30: 金季企業股份有限公司 | C30: 0.0272 | D30: =ROUND(C30*3000000,) -> 81600 | E30: 0
A31: 27 | B31: 莊雅玲 | C31: 0.024 | D31: =ROUND(C31*3000000,) -> 72000 | E31: 0
A32: 28 | B32: 莊惠文 | C32: 0.0272 | D32: =ROUND(C32*3000000,) -> 81600 | E32: 0
... A38: 34 | B38: 陳順忠 | C38: 0.0066 | D38: =ROUND(C38*3000000,) -> 19800 | E38: 0
C39: 0.025 | D39: =ROUND(C39*3000000,) -> 75000 | E39: 0
C40: 0.0337 | D40: =ROUND(C40*3000000,) -> 101100 | E40: 0
A41: 35 | B41: 洪士媛 | C41: 0.026 | D41: =ROUND(C41*3000000,) -> 78000 | E41: 0
A42: 36 | B42: 韓海潮 | C42: 0.025 | D42: =ROUND(C42*3000000,) -> 75000 | E42: 0
B43: 合計 | D43: =SUM(D3:D42) -> 2852100 | E43: 0
