Workbook
Name 附表5: Sheet1!$E$4

Sheet 附表1
A1: 附表1
A2: 項次 | B2: 內容 | C2: 原告主張 | D2: 被告抗辯 | E2: 本院判斷
A3: 壹 | B3: 炳廣得請求貨款
A4: 一 | B4: 第24及25期工程貨款 | C4: 11146755 | D4: =C4 -> 11146755 | E4: =C4 -> 11146755
A5: 二 | B5: 103年5月份工程貨款 | C5: 4391866 | D5: 0 | E5: 2022043
B6: 合計（項次壹）（項次一+項次二） | C6: =SUM(C4:C5) -> 15538621 | D6: =SUM(D4:D5) -> 11146755 | E6: =SUM(E4:E5) -> 13168798
A7: 貳 | B7: 被告抵銷金額
A8: 一 | B8: 瑕疵扣款及代墊款
A9: 1 | B9: 103年瑕疵修補費用 | D9: 6639941 | E9: =附表2!D36 -> 10950
A10: 2 | B10: 103年其他代墊款及瑕疵修補費用 | D10: 8330758 | E10: =附表3!D47 -> 231030
A11: 3 | B11: 104年瑕疵修補費用 | D11: 4067240 | E11: =附表4!D8 -> 0
A12: 4 | B12: 105年瑕疵修補費用 | D12: 3540500 | E12: =附表4!D9 -> 0
A13: 5 | B13: 106年瑕疵修補費用 | D13: 416000 | E13: =附表4!D10 -> 0
B14: 小計（項次一）（項次1至5） | D14: =SUM(D9:D13) -> 22994439 | E14: =SUM(E9:E12) -> 241980
A15: 二 | B15: 逾期違約金 | D15: 4754000 | E15: 0
A16: 三 | B16: 本票債權 | D16: 15000000 | E16: 0
B17: 合計（項次一至三） | E17: =SUM(E14:E16) -> 241980
B18: 總計（項次壹-項次貳） | E18: =E6-E17 -> 12926818

Sheet 附表2
A1: 附表2
A2: 項次 | B2: 瑕疵內容或施作項目 | C2: 被告主張 （見卷三第6頁） | D2: 本院判斷
D3: 金額 | E3: 理由
A4: 一 | B4: 道面板塊44塊斷裂、128塊瑕疵
A5: 1 | B5: G20L側薄層剝落敲除（小破碎機3台） | C5: 14324 | D5: 0 | E5: 非屬（混凝土材料）瑕疵
A6: 2 | B6: 版塊切割G20L160M重鋪25M2伸縮縫 | C6: 128800 | D6: 0 | E6: 非屬瑕疵
A7: 3 | B7: G20L側缺失版塊175M2（MC-70） | C7: 2328 | D7: 0 | E7: 非屬瑕疵
A8: 4 | B8: G20L缺失版塊鑽孔共112孔 | C8: 13440 | D8: 0 | E8: 非屬瑕疵
A9: 5 | B9: G20L測溝剝落修補供應水泥 | C9: 15000 | D9: 0 | E9: 非屬瑕疵
A10: 6 | B10: G20L版塊缺失掃紋 | C10: 30000 | D10: 0 | E10: 非屬瑕疵
A11: 7 | B11: G20L版塊缺失薄層修補 | C11: 20250 | D11: 0 | E11: 非屬瑕疵
A12: 8 | B12: G20L清理版塊（山貓9天） | C12: 81000 | D12: 0 | E12: 非屬瑕疵
A13: 9 | B13: G20L修補點工 | C13: 100800 | D13: 0 | E13: 非屬瑕疵
A14: 10 | B14: G20L修補點工 | C14: 52000 | D14: 0 | E14: 非屬瑕疵
A15: 11 | B15: G20L側650PSI混凝土抗彎試體檢驗 | C15: 9750 | D15: =C15 -> 9750 | E15: 混凝土材料檢驗費應由炳廣公司負擔
A16: 12 | B16: 650PSI混凝土抗彎試體檢驗 | C16: 1200 | D16: =C16 -> 1200 | E16: 混凝土材料檢驗費應由炳廣公司負擔
A17: 13 | B17: G20L清理版塊（山貓2天） | C17: 18000 | D17: 0 | E17: 非屬瑕疵
A18: 14 | B18: G20L標線 | C18: 38423 | D18: 0 | E18: 非屬瑕疵
A19: 15 | B19: G20L修補點工 | C19: 91200 | D19: 0 | E19: 非屬瑕疵
A20: 16 | B20: G20L版塊刨除 | C20: 340568 | D20: 0 | E20: 非屬瑕疵
A21: 17 | B21: G20L清理版塊（山貓土車板車） | C21: 75000 | D21: 0 | E21: 非屬瑕疵
A22: 18 | B22: G20L版塊打除重新澆置 | C22: 586000 | D22: 0 | E22: 非屬瑕疵
A23: 19 | B23: G20L側1K+000～2K+100版塊薄層修（補） | C23: 1197000 | D23: 0 | E23: 非屬瑕疵
A24: 20 | B24: G20L側0K+300～1K+00版塊薄層加鋪一次及二次施工 | C24: 2077360 | D24: 0 | E24: 非屬瑕疵
A25: 21 | B25: G20L側0K+700～2K+100版塊薄層加鋪一次施（工） | C25: 1020000 | D25: 0 | E25: 非屬瑕疵
A26: 22 | B26: G20L標線 | C26: 10000 | D26: 0 | E26: 非屬瑕疵
A27: 二 | B27: 初驗缺失-版塊缺失 | E27: 非屬瑕疵
A28: 1 | B28: G20及飛管版塊修補共27塊 | C28: 162000 | D28: 0 | E28: 非屬瑕疵
A29: 2 | B29: 南滑行道及F加溫坪缺失版塊 | C29: 6318 | D29: 0 | E29: 非屬瑕疵
A30: 三 | B30: 正驗缺失-版塊缺失 | E30: 非屬瑕疵
A31: 1 | B31: G20L側缺失版塊刨除薄層清除（山貓） | C31: 415000 | D31: 0 | E31: 非屬瑕疵
A32: 2 | B32: 配合10/23驗收前修補點工 | C32: 68800 | D32: 0 | E32: 非屬瑕疵
A33: 3 | B33: 配合10/23驗收打除洗車台後出料 | C33: 12600 | D33: 0 | E33: 非屬瑕疵
A34: 4 | B34: 配合10/23驗收後退場修補點工（G20R側、F加溫坪及北飛管樹枝挖除噴養護劑） | C34: 46200 | D34: 0 | E34: 非屬瑕疵
A35: 5 | B35: 木屑挖除坑洞修補 | C35: 6580 | D35: 0 | E35: 非屬瑕疵
B36: 合計 | C36: =SUM(C5:C35) -> 6639941 | D36: =SUM(D5:D35) -> 10950

Sheet 附表3
A1: 附表3
A2: 項次 | B2: 瑕疵內容或施作項目 | C2: 被告主張 （見卷三第10頁） | D2: 本院判斷
D3: 金額 | E3: 理由
A4: 一 | B4: 103年四月份扣款-南滑行道一、二階段及G20R側等處
A5: 1 | B5: 高壓電預扣 | C5: -95238 | D5: =C5 -> -95238 | E5: 被告既自認本項預扣應補回，對原告有利，應得採信。
A6: 2 | B6: 冷縫處理 | C6: -1850 | D6: =C6 -> -1850 | E6: 被告既自認本項預扣應補回，對原告有利，應得採信。
A7: 3 | B7: 高壓電 | C7: 102327 | D7: =C7 -> 102327 | E7: 炳廣公司應分擔電力費用
A8: 4 | B8: 牆面批土 | C8: 36300 | D8: 0 | E8: 非炳廣公司承攬範圍，亦非屬（混凝土材料）瑕疵。
A9: 5 | B9: G20R側缺失版塊1358.2M2（MC-70） | C9: 19019 | D9: 0 | E9: 非屬瑕疵。
A10: 6 | B10: 壁虎276支 | C10: 2760 | D10: 0 | E10: 非炳廣公司承攬範圍，亦非瑕疵。
A11: 7 | B11: 10號鋼筋材料 | C11: 48630 | D11: 0 | E11: 非炳廣公司承攬範圍，亦非瑕疵。
A12: 8 | B12: G20R側缺失版塊1819.25M2（MC-70） | C12: 25470 | D12: 0 | E12: 非屬（混凝土材料）瑕疵。
A13: 9 | B13: 清理版塊（破碎機挖土機） | C13: 302500 | D13: 0 | E13: 非屬瑕疵。
A14: 10 | B14: 修補點工 | C14: 161400 | D14: 0 | E14: 非屬瑕疵。
A15: 11 | B15: G20R側0K+160～2K+100版塊修補23塊（依1：1.5比例） | C15: 138000 | D15: 0 | E15: 非屬瑕疵。
A16: 12 | B16: G20R側1K+300～500、0K+600～900及1K+160～300試體未過版塊打除切割共36塊，南滑道一二段1K+000～200及636～637機棚版塊缺失打除切割55塊 | C16: 1079600 | D16: 0 | E16: 非屬瑕疵。
A17: 13 | B17: 南滑道一二階段綴縫筋缺失改善 | C17: 189410 | D17: 0 | E17: 非炳廣公司承攬範圍，亦非瑕疵。
A18: 14 | B18: 南滑道0K+900～1K+200（30塊）及G20R側0K+600～1K+160（17塊）板塊修補 | C18: 204000 | D18: 0 | E18: 非屬瑕疵。
A19: 15 | B19: 粗細骨材試驗 | C19: 6000 | D19: =C19 -> 6000 | E19: 混凝土材料檢驗費應由炳廣公司負擔
A20: 16 | B20: G20R側及南滑行道一二階段缺失版塊鑽孔共945孔 | C20: 120880 | D20: 0 | E20: 非屬瑕疵。
A21: 17 | B21: G20R側及南滑行道一二階段缺失版塊圓棒2000支 | C21: 146000 | D21: 0 | E21: 非屬瑕疵。
A22: 18 | B22: 清理版塊（挖土機破碎機山貓卡車） | C22: 61250 | D22: 0 | E22: 非屬瑕疵。
A23: 二 | B23: 版塊修補及缺失
A24: 1 | B24: 高壓電 | C24: 90970 | D24: =C24 -> 90970 | E24: 炳廣公司應分擔電力費用
A25: 2 | B25: 高壓電 | C25: 85621 | D25: =C25 -> 85621 | E25: 炳廣公司應分擔電力費用
A26: 3 | B26: G20R側及南滑道RL側及一二階段缺失板塊19451M2（MC-70） | C26: 272316 | D26: 0 | E26: 非屬瑕疵。
A27: 4 | B27: 清理板塊（16台土車） | C27: 128000 | D27: 0 | E27: 非屬瑕疵。
A28: 5 | B28: 南滑行道一二階段板塊缺失改善（破碎機挖土機） | C28: 269750 | D28: 0 | E28: 非屬瑕疵。
A29: 6 | B29: 修補點工 | C29: 117000 | D29: 0 | E29: 非屬瑕疵。
A30: 7 | B30: G20R側，北飛管及南滑道版塊打除切割工1652.2M2 | C30: 660880 | D30: 0 | E30: 非屬瑕疵。
A31: 8 | B31: 南滑道一二三階段、鷹眼大坪及631～639棚版塊修補，橫向無綴縫筋施工縫共1364.5M、縱向有綴縫筋施工縫共972M | C31: 609745 | D31: 0 | E31: 非屬瑕疵。
A32: 9 | B32: G20R側、H加溫坪及南滑行道一二階段缺失版塊鑽孔共655孔與植筋藥劑20支 | C32: 82480 | D32: 0 | E32: 非屬瑕疵。
A33: 10 | B33: G20R側及南滑行道一二階段缺失版塊圓棒1600支 | C33: 116800 | D33: 0 | E33: 非屬瑕疵。
A34: 11 | B34: G20L側及第三階段飛管大坪缺失版塊圓棒3000支 | C34: 219000 | D34: 0 | E34: 非屬瑕疵。
A35: 三 | B35: 版塊修補及缺失
A36: 1 | B36: 高壓電 | C36: 72845 | D36: 0 | E36: 炳廣公司未進場。
A37: 2 | B37: 南滑道一二三四階段、A加溫坪、第一工區及生活區版塊修補350kg/cm2共720.5M3（含價差） | C37: 1471424 | D37: 0 | E37: 非屬瑕疵。
A38: 3 | B38: 版塊切割、F加溫115M、北飛管50M、G20L332M、H加溫38M | C38: 214000 | D38: 0 | E38: 非屬瑕疵。
A39: 4 | B39: 混凝土抗彎試體38支 | C39: 22800 | D39: =C39 -> 22800 | E39: 混凝土材料檢驗費應由炳廣公司負擔
A40: 5 | B40: 混凝土抗彎試體42支及圓柱混凝土抗壓試體8支 | C40: 26315 | D40: 20400 | E40: 混凝土材料檢驗費應由炳廣公司負擔
A41: 6 | B41: 北飛管、F加溫坪及南滑行道初驗缺失版塊鑽孔共1021孔 | C41: 68022 | D41: 0 | E41: 非屬瑕疵。
A42: 7 | B42: 修補點工 | C42: 282400 | D42: 0 | E42: 非屬瑕疵。
A43: 8 | B43: 南滑道一二三階段缺失版塊修補350kg/cm2共110.5M3 | C43: 210392 | D43: 0 | E43: 非屬瑕疵。
A44: 9 | B44: F加溫坪版塊缺失 | C44: 4540 | D44: 0 | E44: 非屬瑕疵。
A45: 10 | B45: 南滑行道一二階段、F加溫坪及工務所版塊缺失改善（破碎機挖土機板車山貓） | C45: 431550 | D45: 0 | E45: 非屬瑕疵。
A46: 四 | B46: 650PSI版塊打除再生級配加工-G20RL側南滑行道一二三階段、A,F加溫坪及北飛管等處 | C46: 327450 | D46: 0 | E46: 非屬瑕疵。
B47: 合計 | C47: =SUM(C5:C46) -> 8330758 | D47: =SUM(D5:D46) -> 231030

Sheet 附表4
A1: 附表4
A2: 項次 | B2: 瑕疵內容或施作項目 | C2: 被告主張 （見卷三第14） | D2: 本院判斷
D3: 金額 | E3: 理由
A4: 一 | B4: 道面版版塊髮裂、崩角及裂縫
A5: 1 | B5: 南滑行道276塊及F加溫坪29塊缺失版塊修復 | C5: 1872700 | D5: 0 | E5: 非屬混凝土材料瑕疵。
A6: 2 | B6: G20滑行道44塊及F加溫坪17塊缺失版塊修復 | C6: 374450 | D6: 0 | E6: 同前項。
A7: 二 | B7: 道面板塊面層剝落缺失-M滑行道70塊缺失版塊薄層加鋪（含原道面刨除作業） | C7: 1820000 | D7: 0 | E7: 同前項。
B8: 合計 | C8: =SUM(C5:C7) -> 4067150 | D8: =SUM(D5:D7) -> 0

Sheet Sheet1
A1: 附表5
A2: 項次 | B2: 瑕疵內容或施作項目 | C2: 被告主張 （見卷五第93頁） | D2: 本院判斷
D3: 金額 | E3: 理由
A4: 一 | B4: 剛性道面薄層加鋪作業（含原道面0.5cm刨除作業） | C4: 3068000 | D4: 0 | E4: 非屬混凝土材料瑕疵。
A5: 二 | B5: 裂紋及崩角 | C5: 472500 | D5: 0 | E5: 同前項。
B6: 合計 | C6: =SUM(C4:C5) -> 3540500 | D6: =SUM(D5:D5) -> 0

Sheet Sheet2
A1: 附表6
A2: 項次 | B2: 瑕疵內容或施作項目 | C2: 被告主張 （見卷五第93頁） | D2: 本院判斷
D3: 金額 | E3: 理由
A4: 一 | B4: 剛性道面薄層加鋪作業（含原道面0.5cm刨除作業） | C4: 416000 | D4: 0 | E4: 非屬混凝土材料瑕疵。
