Workbook

Sheet 附表一
A1: 附表一：汐止積木彩繪餐廳投資案投資明細表（投資人為詠語公司員工及其等親友；依投資人是否為員工區分，簽立「ARTR投資契約書」或「ARTR員工投資契約書」）
A2: 編號 | B2: 投資人 | C2: 與被告間關係 | D2: 實際投資明細 | J2: 收款明細 | N2: 備註
D3: 投資標的 | E3: 投資日期 | F3: 投資 單位 | G3: 投資金額 | H3: 紅利計算 起始月份 （註） | I3: 投資卷證出處 | J3: 收款時間 | K3: 收款金額 | L3: 收款帳戶 | M3: 資金卷證出處
A4: 1 | B4: 李志源 | C4: 被告張文亮公司員工（A1P181、P262、A5P51） | D4: 汐止分店 | E4: 104/09 | F4: 2 | G4: 400000 | H4: 104/10 | I4: 扣押物A-1-2檔名為「汐止投資人紅利」之內容（A1P201） 104年不明日期契約書 （A1P277-278） | J4: 104/9/16 | K4: 400000 | L4: 張文亮合作金庫銀行復旦分行帳戶1250000000000 | M4: 銀行交易明細 （A6P6） | N4: 其中20萬元係以「李淑美」名義匯入（A1P183）
A5: 2 | B5: 林煒翔 | C5: 被告張文亮公司員工（A1P181、P262） | D5: 汐止分店 | E5: 104/05/23 | F5: 1 | G5: 100000 | H5: 104/08 | I5: 扣押物A-1-2檔名為「汐止投資人紅利」之內容（A1P201） 104.05.23契約書 （A1P284-285） | J5: 104/5/21 | K5: 100000 | L5: 詠語公司合作金庫銀行民族分行帳戶0900000000000 | M5: 銀行交易明細 （A6P54）
G6: 100000 | J6: 不明 | K6: 不明 | L6: 不明 | M6: NA
A7: 3 | B7: 陳宥汝 | C7: 被告張文亮公司員工（A1P181、P262） | D7: 汐止分店 | E7: 104/09 | F7: 3 | G7: 600000 | H7: 104/10 | I7: 扣押物A-1-2檔名為「汐止投資人紅利」之內容（A1P201） 104年不明日期契約書 （A1P286-287） | J7: 104/9/8 | K7: 400000 | L7: 張文亮合作金庫銀行復旦分行帳戶1250000000000 | M7: 銀行交易明細 （A6P5） | N7: 係以陳宥汝母「林美雲」名義匯入款項（A1P183）
J8: 104/9/11 | K8: 200000 | M8: 銀行交易明細 （A6P6）
A9: 4 | B9: 王景弘 | C9: 被告張文亮公司員工之父（A1P182） | D9: 汐止分店 | E9: 104/09/18 | F9: 1 | G9: 200000 | H9: 104/10 | I9: 扣押物A-1-2檔名為「汐止投資人紅利」之內容（A1P201） | J9: 不明 | K9: 不明 | L9: 不明 | M9: NA
A10: 5 | B10: 陳美君 | C10: 被告張文亮公司員工（A1P181） | D10: 汐止分店 | E10: 104/09 | F10: 1 | G10: 200000 | H10: 104/10 | I10: 扣押物A-1-2檔名為「汐止投資人紅利」之內容（A1P201） | J10: 不明 | K10: 不明 | L10: 不明 | M10: NA
A11: 6 | B11: 林泰源 | C11: 被告張文亮公司員工（A1P181、P262） | D11: 汐止分店 | E11: 104/04/30 | F11: 1 | G11: 200000 | H11: 104/08 | I11: 扣押物A-1-2檔名為「汐止投資人紅利」之內容（A1P201） 104.04.30契約書 （A1P319-320） | J11: 不明 | K11: 不明 | L11: 不明 | M11: NA
A12: 7 | B12: 林威達 | C12: 被告張文亮公司員工（A1P181） | D12: 汐止分店 | E12: 104/05 | F12: 3 | G12: 600000 | H12: 104/08 | I12: 扣押物A-1-2檔名為「汐止投資人紅利」之內容（A1P201） | J12: 104/4/24 | K12: 600000 | L12: 詠語公司合作金庫銀行民族分行帳戶0900000000000 | M12: 匯款申請書 （A3P111） 銀行交易明細 （A6P54）
A15: 8 | B15: 徐子涵 | C15: 被告張文亮公司員工（A1P262） | D15: 汐止分店 | E15: 104/04/16 | F15: 6 | G15: 1200000 | H15: 104/08 | I15: 扣押物A-1-2檔名為「汐止投資人紅利」之內容（A1P201） 104.12.24契約書 （A1P288-289） | J15: 不明 | K15: 不明 | L15: 不明 | M15: NA
A16: 9 | B16: 曾浩銘 | C16: 被告張文亮公司員工（A1P181、A5P51） | D16: 汐止分店 | E16: 104/09 | F16: 3 | G16: 600000 | H16: 104/10 | I16: 扣押物A-1-2檔名為「汐止投資人紅利」之內容（A1P201） | J16: 不明 | K16: 不明 | L16: 不明 | M16: NA
A17: 10 | B17: 陳翊綸 | C17: 被告張文亮公司員工（A1P181、A5P51） | D17: 汐止分店 | E17: 104/09 | F17: 1 | G17: 200000 | H17: 104/10 | I17: 扣押物A-1-2檔名為「汐止投資人紅利」之內容（A1P201） | J17: 104/9/22 | K17: 200000 | L17: 張文亮合作金庫銀行復旦分行帳戶1250000000000 | M17: 銀行交易明細 （A6P6）
A18: 11 | B18: 梁令芳 | C18: 被告張文亮友人 （A1P181） | D18: 汐止分店 | E18: 104/05/06 | F18: 1 | G18: 200000 | H18: 104/08 | I18: 扣押物A-1-2檔名為「汐止投資人紅利」之內容（A1P201） | J18: 104/5/13 | K18: 200000 | L18: 詠語公司合作金庫銀行民族分行帳戶0900000000000 | M18: 銀行交易明細 （A6P54）
A21: 12 | B21: 蔡依雯 | C21: 被告張文亮教會友謝佩君之友（A1P182、P263） | D21: 汐止分店 | E21: 104/05 | F21: 3 | G21: 600000 | H21: 104/08 | I21: 扣押物A-1-2檔名為「汐止投資人紅利」之內容（A1P201） | J21: 104/5/11 | K21: 600000 | L21: 詠語公司合作金庫銀行民族分行帳戶0900000000000 | M21: 銀行交易明細 （A6P54） | N21: 係以「林照峰」名義匯入款項（A1P183）
A22: 13 | B22: 李佩錦 | C22: 被告張文亮教會友謝佩君之鄰居（A1P264） | D22: 汐止分店 | E22: 104/05/03 | F22: 1 | G22: 200000 | H22: 104/08 | I22: 扣押物A-1-2檔名為「汐止投資人紅利」之內容（A1P201） 104.05.03契約書 （A1P301-302） | J22: 104/5/4 | K22: 200000 | L22: 詠語公司合作金庫銀行民族分行帳戶0900000000000 | M22: 銀行交易明細 （A6P54）
A23: 14 | B23: 謝瑞君 | C23: 不明 | D23: 汐止分店 | E23: 104/05/04 | F23: 1 | G23: 200000 | H23: 104/08 | I23: 扣押物A-1-2檔名為「汐止投資人紅利」之內容（A1P201） | J23: 104/5/8 | K23: 200000 | L23: 詠語公司合作金庫銀行民族分行帳戶0900000000000 | M23: 銀行交易明細 （A6P54）
A24: 15 | B24: 李宜蓁 | C24: 不明 | D24: 汐止分店 | E24: 104/05/01 | F24: 1 | G24: 200000 | H24: 104/08 | I24: 扣押物A-1-2檔名為「汐止投資人紅利」之內容（A1P201） | J24: 104/5/8 | K24: 200000 | L24: 詠語公司合作金庫銀行民族分行帳戶0900000000000 | M24: 銀行交易明細 （A6P54）
A25: 16 | B25: 李于豪 | C25: 林威達高中同學 （A5P49） | D25: 汐止分店 | E25: 104/09 | F25: 3 | G25: 600000 | H25: 104/10 | I25: 扣押物A-1-2檔名為「汐止投資人紅利」之內容（A1P201） | J25: 104/9/17 | K25: 600000 | L25: 張文亮合作金庫銀行復旦分行帳戶1250000000000 | M25: 銀行交易明細 （A6P6） | N25: 係以「洪芷筠」、「黃月雲」名義匯入
A26: 17 | B26: 林千惠 | C26: 林威達友人 （A1P181） | D26: 汐止分店 | E26: 104/09 | F26: 1 | G26: 200000 | H26: 104/10 | I26: 扣押物A-1-2檔名為「汐止投資人紅利」之內容（A1P201） 104年不明日期契約書（A1P293-294） | J26: 不明 | K26: 不明 | L26: 不明 | M26: NA
B27: 小計 | F27: =SUM(F4:F26) -> 33 | G27: =SUM(G4:G26) -> 6600000
A28: 註： | B28: 依扣押物A-1-2檔名為「汐止投資人紅利」（A1P201）之「到期日」欄所示內容「109/07」、「109/09」，按投資期限五年回推，計算可得紅利計算之起始月份係依序為「104/08」、「104/10」。

Sheet 附表一之一
A1: 附表一之一、汐止積木彩繪餐廳投資案每投資單位於各期償還本金及給付紅利計算表
A2: 期數 （註1） | B2: 月份 （註2） | C2: 單位現金流量 (A)（註3） | D2: 各期給付紅利金額 (B)=(前期D)*實質期間利率 | E2: 各期償還投資本金金額 (C)=(A)-(B) | F2: 每單位未償還之 投資本金餘額 (D)=(前期D)+(C) | G2: 投資單位數 (E)（註6） | H2: 各期實際償還之 投資本金 (F)=(C)*(E)（註7） | I2: 各期實際償還之 本利和 (G)=(A)*(E)（註7）
A3: 0 | B3: 104/07 | C3: 200000 | D3: 0 | E3: 0 | F3: =C3 -> 200000 | G3: 0 | H3: 0 | I3: 0
A4: 1 | B4: 104/08 | C4: -10000 | D4: =-F3*$C$64 -> -9356.3833 | E4: =C4-D4 -> -643.61672 | F4: =F3+E4 -> 199356.38 | G4: 18 | H4: =E4*G4 -> -11585.101 | I4: =C4*G4 -> -180000
A5: 2 | B5: 104/09 | C5: -10000 | D5: =-F4*$C$64 -> -9326.2737 | E5: =C5-D5 -> -673.72634 | F5: =F4+E5 -> 198682.66 | G5: 18 | H5: =E5*G5 -> -12127.074 | I5: =C5*G5 -> -180000
A6: 3 | B6: 104/10 | C6: -10000 | D6: =-F5*$C$64 -> -9294.7555 | E6: =C6-D6 -> -705.24455 | F6: =F5+E6 -> 197977.41 | G6: 33 | H6: =E6*G6 -> -23273.07 | I6: =C6*G6 -> -330000
A7: 4 | B7: 104/11 | C7: -10000 | D7: =-F6*$C$64 -> -9261.7628 | E7: =C7-D7 -> -738.23724 | F7: =F6+E7 -> 197239.18 | G7: 33 | H7: =E7*G7 -> -24361.829 | I7: =C7*G7 -> -330000
A8: 5 | B8: 104/12 | C8: -10000 | D8: =-F7*$C$64 -> -9227.2266 | E8: =C8-D8 -> -772.77339 | F8: =F7+E8 -> 196466.4 | G8: 33 | H8: =E8*G8 -> -25501.522 | I8: =C8*G8 -> -330000
A9: 6 | B9: 105/01 | C9: -10000 | D9: =-F8*$C$64 -> -9191.0748 | E9: =C9-D9 -> -808.92521 | F9: =F8+E9 -> 195657.48 | G9: 33 | H9: =E9*G9 -> -26694.532 | I9: =C9*G9 -> -330000
A10: 7 | B10: 105/02 | C10: -10000 | D10: =-F9*$C$64 -> -9153.2317 | E10: =C10-D10 -> -846.76828 | F10: =F9+E10 -> 194810.71 | G10: 33 | H10: =E10*G10 -> -27943.353 | I10: =C10*G10 -> -330000
A11: 8 | B11: 105/03 | C11: -10000 | D11: =-F10*$C$64 -> -9113.6183 | E11: =C11-D11 -> -886.38173 | F11: =F10+E11 -> 193924.33 | G11: 33 | H11: =E11*G11 -> -29250.597 | I11: =C11*G11 -> -330000
A12: 9 | B12: 105/04 | C12: -10000 | D12: =-F11*$C$64 -> -9072.1516 | E12: =C12-D12 -> -927.84836 | F12: =F11+E12 -> 192996.48 | G12: 33 | H12: =E12*G12 -> -30618.996 | I12: =C12*G12 -> -330000
A13: 10 | B13: 105/05 | C13: -10000 | D13: =-F12*$C$64 -> -9028.7451 | E13: =C13-D13 -> -971.25489 | F13: =F12+E13 -> 192025.22 | G13: 33 | H13: =E13*G13 -> -32051.411 | I13: =C13*G13 -> -330000
A14: 11 | B14: 105/06 | C14: -10000 | D14: =-F13*$C$64 -> -8983.3079 | E14: =C14-D14 -> -1016.6921 | F14: =F13+E14 -> 191008.53 | G14: 33 | H14: =E14*G14 -> -33550.838 | I14: =C14*G14 -> -330000
A15: 12 | B15: 105/07 | C15: -10000 | D15: =-F14*$C$64 -> -8935.7451 | E15: =C15-D15 -> -1064.2549 | F15: =F14+E15 -> 189944.28 | G15: 33 | H15: =E15*G15 -> -35120.41 | I15: =C15*G15 -> -330000
... A28: 25 | B28: 106/08 | C28: -10000 | D28: =-F27*$C$64 -> -8071.6921 | E28: =C28-D28 -> -1928.3079 | F28: =F27+E28 -> 170610.41 | G28: 33 | H28: =E28*G28 -> -63634.162 | I28: =C28*G28 -> -330000
A29: 26 | B29: 106/09 | C29: -10000 | D29: =-F28*$C$64 -> -7981.4821 | E29: =C29-D29 -> -2018.5179 | F29: =F28+E29 -> 168591.9
A30: 27 | B30: 106/10 | C30: -10000 | D30: =-F29*$C$64 -> -7887.052 | E30: =C30-D30 -> -2112.948 | F30: =F29+E30 -> 166478.95
A31: 28 | B31: 106/11 | C31: -10000 | D31: =-F30*$C$64 -> -7788.2042 | E31: =C31-D31 -> -2211.7958 | F31: =F30+E31 -> 164267.15
A32: 29 | B32: 106/12 | C32: -10000 | D32: =-F31*$C$64 -> -7684.7322 | E32: =C32-D32 -> -2315.2678 | F32: =F31+E32 -> 161951.88
A33: 30 | B33: 107/01 | C33: -10000 | D33: =-F32*$C$64 -> -7576.4195 | E33: =C33-D33 -> -2423.5805 | F33: =F32+E33 -> 159528.3
A34: 31 | B34: 107/02 | C34: -10000 | D34: =-F33*$C$64 -> -7463.0398 | E34: =C34-D34 -> -2536.9602 | F34: =F33+E34 -> 156991.34
A35: 32 | B35: 107/03 | C35: -10000 | D35: =-F34*$C$64 -> -7344.3559 | E35: =C35-D35 -> -2655.6441 | F35: =F34+E35 -> 154335.7
A36: 33 | B36: 107/04 | C36: -10000 | D36: =-F35*$C$64 -> -7220.1198 | E36: =C36-D36 -> -2779.8802 | F36: =F35+E36 -> 151555.82
A37: 34 | B37: 107/05 | C37: -10000 | D37: =-F36*$C$64 -> -7090.0717 | E37: =C37-D37 -> -2909.9283 | F37: =F36+E37 -> 148645.89
A38: 35 | B38: 107/06 | C38: -10000 | D38: =-F37*$C$64 -> -6953.9397 | E38: =C38-D38 -> -3046.0603 | F38: =F37+E38 -> 145599.83
A39: 36 | B39: 107/07 | C39: -10000 | D39: =-F38*$C$64 -> -6811.4391 | E39: =C39-D39 -> -3188.5609 | F39: =F38+E39 -> 142411.27
A40: 37 | B40: 107/08 | C40: -10000 | D40: =-F39*$C$64 -> -6662.2721 | E40: =C40-D40 -> -3337.7279 | F40: =F39+E40 -> 139073.54
... A63: 60 | B63: 109/07 | C63: -10000 | D63: =-F62*$C$64 -> -446.91177 | E63: =C63-D63 -> -9553.0882 | F63: =F62+E63 -> 8.7687113e-07
A64: 實質期間利率（註4） | C64: =IRR(C3:C63) -> 0.046781916 | G64: 小計 | H64: =SUM(H3:H63) -> -950096.2 | I64: =SUM(I3:I63) -> -7950000
A65: 實質年利率（註5） | C65: =C64*12 -> 0.561383
A66: 註1： | B66: 依投資契約，係每1個月為一期，投資期間為5年，故總期數為60期（=12*5）。
A67: 註2： | B67: 按附表一「紅利計算起始月份」欄位內容，本投資方案最早計算紅利之起始月份係「104/07」，又依投資契約係每個月發放一次，故計算紅利期間如上表該欄位所示。
A68: 註3： | B68: 依投資契約，每投資單位為20萬元，每單位每期領得1萬元。
A69: 註4： | B69: 係以EXCEL之IRR公式計算而得。IRR係指由投資方案產生之一序列現金流量中，反推出該投資案之內部報酬率。其計算方式為將每筆現金流量以利率rate折現，然後令所有現金流量的淨現值(NPV)等於零(0 = C0 + C1/(1+rate)^1 + C2/(1+rate)^2+ C3/(1+rate)^3....+ Cn/(1+rate)^n))下所得之rate，該rate就稱為內部報酬率。
A70: 註5： | B70: 係以實質期間利率（係每個月為一期）*12而得。
A71: 註6： | B71: 按附表一「紅利計算起始月份」欄位所示，得以領取「104/08」及「104/09」月份紅利之投資人僅有附表一編號2、編號6至8、編號11至15者，合計參與計算紅利之投資單位為18個；另自「104/10」月份起則所有投資人均得以領取，合計計算紅利之投資單位為33個（＝660萬元/20萬元）。
A72: 註7： | B72: 按被告林威達之供述，每期紅利至106年8月尚能如期發放（A5P60），與投資人林煒翔、林泰源等人證稱「已給了約22期」、「已拿到紅利約20幾期」（A1P262）相符，應可認定本投資案最後發放紅利之時間點為「106年8月」，經換算本投資案之投資人領取之紅利期數應共25期。

Sheet 附表二
A1: 附表二：詠語資金-員工等投資案投資明細表（簽署「詠語創意國際有限公司投資契約書」）
A2: 編號 | B2: 投資人 | C2: 與被告間關係 | D2: 投資明細 | J2: 收款明細 | N2: 備註
D3: 投資標的 | E3: 投資日期 | F3: 投資 單位 | G3: 投資金額 | H3: 紅利計算 起始月份 | I3: 投資卷證出處 | J3: 收款時間 | K3: 收款金額 | L3: 收款帳戶 | M3: 資金卷證出處
A4: 1 | B4: 徐子涵 | C4: 被告張文亮公司員工（A1P262） | D4: 詠語公司 | E4: 104/12/25 | F4: 1 | G4: 600000 | H4: 105/02 | I4: 扣押物A-1-2檔名為「詠語投資人紅利」之內容（A1P203） | J4: 104/12/25 | K4: 1800000 | L4: 張文亮合作金庫銀行復旦分行帳戶1250000000000 | M4: 銀行交易明細 （A6P7）
A5: 2 | B5: 吳麗玲 | C5: 被告張文亮公司員工徐子涵之母（A1P263） | D5: 詠語公司 | E5: 10412/25 | F5: 1 | G5: 600000 | H5: 105/02 | I5: 扣押物A-1-2檔名為「詠語投資人紅利」之內容（A1P203） 104.12.23契約書 （A1P279-280）
A6: 3 | B6: 徐偉軒 | C6: 被告張文亮公司員工徐子涵之兄（A1P263） | D6: 詠語公司 | E6: 104/12/25 | F6: 1 | G6: 600000 | H6: 105/02 | I6: 扣押物A-1-2檔名為「詠語投資人紅利」之內容（A1P203） 104.12.23契約書 （A1P290-291）
A7: 4 | B7: 林泰源 | C7: 被告張文亮公司員工（A1P181、P182） | D7: 詠語公司 | E7: 105/02/04 | F7: 1 | G7: 600000 | H7: 105/02 | I7: 扣押物A-1-2檔名為「詠語投資人紅利」之內容（A1P203） 105.02.04契約書 （A1P321-322） | J7: 不明 | K7: 不明 | L7: 不明 | M7: NA
A8: 5 | B8: 金佩穎 | C8: 被告張文亮公司員工之姐（A1P182） | D8: 詠語公司 | E8: 105/01/05 | F8: 1 | G8: 600000 | H8: 105/02 | I8: 扣押物A-1-2檔名為「詠語投資人紅利」之內容（A1P203） | J8: 105/1/5 | K8: 600000 | L8: 張文亮合作金庫銀行復旦分行帳戶1250000000000 | M8: 銀行交易明細 （A6P7）
A9: 6 | B9: 陳俊宇 | C9: 被告張文亮公司員工陳翊綸之兄（A1P182） | D9: 詠語公司 | E9: 104/12/11 | F9: 1 | G9: 600000 | H9: 105/02 | I9: 扣押物A-1-2檔名為「詠語投資人紅利」之內容（A1P203） | J9: 104/12/24 | K9: 600000 | L9: 張文亮合作金庫銀行復旦分行帳戶1250000000000 | M9: 銀行交易明細 （A6P7）
A10: 7 | B10: 謝佩融 | C10: 被告張文亮公司員工之友（本院卷P82） | D10: 詠語公司 | E10: 104/12/23 | F10: 1 | G10: 600000 | H10: 105/02 | I10: 扣押物A-1-2檔名為「詠語投資人紅利」之內容（A1P203） | J10: 104/12/23 | K10: 600000 | L10: 張文亮合作金庫銀行復旦分行帳戶1250000000000 | M10: 銀行交易明細 （A6P7）
A11: 8 | B11: 林千惠 | C11: 林威達友人 （A1P181） | D11: 詠語公司 | E11: 104/11/30 | F11: 1 | G11: 600000 | H11: 105/02 | I11: 扣押物A-1-2檔名為「詠語投資人紅利」之內容（A1P203） 不明年月日契約書 （A1P295-296） | J11: 不明 | K11: 不明 | L11: 不明 | M11: NA
A12: 9 | B12: 張雯馨 | C12: 林威達高中同學李于豪妻洪芷筠之弟妹（A1P309 ） | D12: 詠語公司 | E12: 105/01/12 | F12: 1 | G12: 600000 | H12: 105/02 | I12: 扣押物A-1-2檔名為「詠語投資人紅利」之內容（A1P203） 105.01.12契約書 （A2P331-332） | J12: 105/1/12 | K12: 600000 | L12: 張文亮合作金庫銀行復旦分行帳戶1250000000000 | M12: 銀行交易明細 （A6P8）
A13: 10 | B13: 邱惠玲 | C13: 林威達高中同學李于豪妻洪芷筠之友人（A1P309 ） | D13: 詠語公司 | E13: 105/02/03 | F13: 1 | G13: 600000 | H13: 105/02 | I13: 扣押物A-1-2檔名為「詠語投資人紅利」之內容（A1P203） | J13: 105/2/3 | K13: 600000 | L13: 張文亮合作金庫銀行復旦分行帳戶1250000000000 | M13: 銀行交易明細 （A6P7）
B14: 小計 | F14: =SUM(F4:F13) -> 10 | G14: =SUM(G4:G13) -> 6000000
A15: 註： | B15: 依扣押物A-1-2檔名為「詠語投資人紅利」（A1P203）之「到期日」欄所示內容「108/12」，按投資期限四年、每兩個月為一期回推，計算可得紅利計算之起始月份係「105/02」。

Sheet 附表二之一
A1: 附表二之一、詠語資金-員工等投資案每投資單位於各期償還本金及給付紅利計算表
A2: 期數 （註1） | B2: 月份 （註2） | C2: 單位現金流量 (A)（註3） | D2: 各期給付紅利金額 (B)=(前期D)*實質期間利率 | E2: 各期償還投資本金金額 (C)=(A)-(B) | F2: 每單位未償還之 投資本金餘額 (D)=(前期D)+(C) | G2: 投資單位數 (E)（註6） | H2: 各期實際償還之 投資本金 (F)=(C)*(E)（註7） | I2: 各期實際償還之 本利和 (G)=(A)*(E)（註7）
A3: 0 | C3: 600000 | D3: - | E3: - | F3: =C3 -> 600000 | G3: 0 | H3: - | I3: -
A4: 1 | B4: 105/02 | C4: -60000 | D4: =-F3*$D$28 -> -51766.828 | E4: =C4-D4 -> -8233.1719 | F4: =F3+E4 -> 591766.83 | G4: 10 | H4: =E4*G4 -> -82331.719 | I4: =C4*G4 -> -600000
A5: 2 | B5: 105/04 | C5: -60000 | D5: =-F4*$D$28 -> -51056.486 | E5: =C5-D5 -> -8943.5139 | F5: =F4+E5 -> 582823.31 | G5: 10 | H5: =E5*G5 -> -89435.139 | I5: =C5*G5 -> -600000
A6: 3 | B6: 105/06 | C6: -60000 | D6: =-F5*$D$28 -> -50284.857 | E6: =C6-D6 -> -9715.1428 | F6: =F5+E6 -> 573108.17 | G6: 10 | H6: =E6*G6 -> -97151.428 | I6: =C6*G6 -> -600000
A7: 4 | B7: 105/08 | C7: -60000 | D7: =-F6*$D$28 -> -49446.654 | E7: =C7-D7 -> -10553.346 | F7: =F6+E7 -> 562554.82 | G7: 10 | H7: =E7*G7 -> -105533.46 | I7: =C7*G7 -> -600000
A8: 5 | B8: 105/10 | C8: -60000 | D8: =-F7*$D$28 -> -48536.131 | E8: =C8-D8 -> -11463.869 | F8: =F7+E8 -> 551090.96 | G8: 10 | H8: =E8*G8 -> -114638.69 | I8: =C8*G8 -> -600000
A9: 6 | B9: 105/12 | C9: -60000 | D9: =-F8*$D$28 -> -47547.051 | E9: =C9-D9 -> -12452.949 | F9: =F8+E9 -> 538638.01 | G9: 10 | H9: =E9*G9 -> -124529.49 | I9: =C9*G9 -> -600000
A10: 7 | B10: 106/02 | C10: -60000 | D10: =-F9*$D$28 -> -46472.635 | E10: =C10-D10 -> -13527.365 | F10: =F9+E10 -> 525110.64 | G10: 10 | H10: =E10*G10 -> -135273.65 | I10: =C10*G10 -> -600000
A11: 8 | B11: 106/04 | C11: -60000 | D11: =-F10*$D$28 -> -45305.521 | E11: =C11-D11 -> -14694.479 | F11: =F10+E11 -> 510416.16 | G11: 10 | H11: =E11*G11 -> -146944.79 | I11: =C11*G11 -> -600000
A12: 9 | B12: 106/06 | C12: -60000 | D12: =-F11*$D$28 -> -44037.71 | E12: =C12-D12 -> -15962.29 | F12: =F11+E12 -> 494453.87 | G12: 10 | H12: =E12*G12 -> -159622.9 | I12: =C12*G12 -> -600000
A13: 10 | B13: 106/08 | C13: -60000 | D13: =-F12*$D$28 -> -42660.514 | E13: =C13-D13 -> -17339.486 | F13: =F12+E13 -> 477114.39
A14: 11 | B14: 106/10 | C14: -60000 | D14: =-F13*$D$28 -> -41164.497 | E14: =C14-D14 -> -18835.503 | F14: =F13+E14 -> 458278.88
A15: 12 | B15: 106/12 | C15: -60000 | D15: =-F14*$D$28 -> -39539.407 | E15: =C15-D15 -> -20460.593 | F15: =F14+E15 -> 437818.29
A16: 13 | B16: 107/02 | C16: -60000 | D16: =-F15*$D$28 -> -37774.107 | E16: =C16-D16 -> -22225.893 | F16: =F15+E16 -> 415592.4
A17: 14 | B17: 107/04 | C17: -60000 | D17: =-F16*$D$28 -> -35856.5 | E17: =C17-D17 -> -24143.5 | F17: =F16+E17 -> 391448.9
A18: 15 | B18: 107/06 | C18: -60000 | D18: =-F17*$D$28 -> -33773.446 | E18: =C18-D18 -> -26226.554 | F18: =F17+E18 -> 365222.35
A19: 16 | B19: 107/08 | C19: -60000 | D19: =-F18*$D$28 -> -31510.671 | E19: =C19-D19 -> -28489.329 | F19: =F18+E19 -> 336733.02
A20: 17 | B20: 107/10 | C20: -60000 | D20: =-F19*$D$28 -> -29052.667 | E20: =C20-D20 -> -30947.333 | F20: =F19+E20 -> 305785.68
A21: 18 | B21: 107/12 | C21: -60000 | D21: =-F20*$D$28 -> -26382.592 | E21: =C21-D21 -> -33617.408 | F21: =F20+E21 -> 272168.28
A22: 19 | B22: 108/02 | C22: -60000 | D22: =-F21*$D$28 -> -23482.147 | E22: =C22-D22 -> -36517.853 | F22: =F21+E22 -> 235650.42
A23: 20 | B23: 108/04 | C23: -60000 | D23: =-F22*$D$28 -> -20331.458 | E23: =C23-D23 -> -39668.542 | F23: =F22+E23 -> 195981.88
A24: 21 | B24: 108/06 | C24: -60000 | D24: =-F23*$D$28 -> -16908.934 | E24: =C24-D24 -> -43091.066 | F24: =F23+E24 -> 152890.81
... A27: 24 | B27: 108/12 | C27: -60000 | D27: =-F26*$D$28 -> -4765.5228 | E27: =C27-D27 -> -55234.477 | F27: =F26+E27 -> 7.9962774e-09
A28: 實質期間利率（註4） | D28: =IRR(C3:C27) -> 0.086278047 | G28: 小計 | H28: =SUM(H3:H27) -> -1055461.3 | I28: =SUM(I3:I27) -> -5400000
A29: 實質年利率（註5） | D29: =D28*6 -> 0.51766828
A30: 註1： | B30: 依投資契約，係每2個月為一期，投資期間為4年，故總期數為24期（=12/2*4）
A31: 註2： | B31: 按附表二「紅利計算起始月份」欄位所示，本投資方案最早計算紅利之起始月份係「105/02」，又依投資契約係每兩個月發放一次，故計算紅利期間如上表該欄位所示。
A32: 註3： | B32: 依投資契約，每投資單位為60萬元，每單位每期領得6萬元。
A33: 註4： | B33: 係以EXCEL之IRR公式計算而得。IRR係指由投資方案產生之一序列現金流量中，反推出該投資案之內部報酬率。其計算方式為將每筆現金流量以利率rate折現，然後令所有現金流量的淨現值(NPV)等於零(0 = C0 + C1/(1+rate)^1 + C2/(1+rate)^2+ C3/(1+rate)^3....+ Cn/(1+rate)^n))下所得之rate，該rate就稱為內部報酬率。
A34: 註5： | B34: 係以實質期間利率（係每兩個月為一期）*6而得。
A35: 註6： | B35: 按附表二「紅利計算起始月份」欄位所示，各投資人均係自「105/02」月份起開始計算紅利，故各月份計算紅利之投資單位均為10個（=600萬元/60萬元）。
A36: 註7： | B36: 按投資人張雯馨證稱「我只拿回9期」（A1P309），與林泰源證稱「差一期沒拿到」（A1P311）等語相符，應可認定本投資案之投資人領取之紅利期數應共9期。

Sheet 附表三
A1: 附表三：詠語資金-友人投資案投資明細表（簽署「金錢消費借貸契約書」）
A2: 編號 | B2: 出資人 | C2: 與被告間關係 | D2: 實際出資明細 | I2: 收款明細 | M2: 備註
D3: 借款對象 | E3: 出資日期 | F3: 出資金額 | G3: 本紅計算 起始月份 | H3: 投資卷證出處 | I3: 收款 時間 | J3: 收款金額 | K3: 收款帳戶 | L3: 資金卷證出處
A4: 1 | B4: 謝俊吉 | C4: 被告張文亮國中同學（A1P45、P101、P135） | D4: 詠語公司 張文亮 | E4: 105/02/01 | F4: 2000000 | G4: 105/02 | H4: 105.02.01契約書（A1P73-75） | I4: 105/2/4 | J4: 10000000 | K4: 係先由其他投資人將投資款項匯款至謝俊吉帳戶後，再由謝俊吉併其本身投資款，匯出至張文亮設於合作金庫銀行復旦分行帳戶12540000000000號帳戶（A1P67、P101） | L4: 銀行交易明細 （A6P8）
A5: 2 | B5: 郭紹偉 | C5: 謝俊吉朋友（A1P65、P81、P101） | F5: 2000000
A6: 3 | B6: 賴煥升 | C6: 謝俊吉公司員工（A2P354） | F6: 1500000
A7: 4 | B7: 曾坤泰 | C7: 謝俊吉公司員工（A2P355） | F7: 500000
A8: 5 | B8: 李明霞 | C8: 謝俊吉公司員工（A2P354、P356 ） | F8: 500000
A9: 6 | B9: 翁靖雯 | C9: 謝俊吉朋友（A1P66、P101） | F9: 500000
A10: 7 | B10: 黃妙娟 | C10: 謝俊吉公司員工（A1P101） | F10: 3000000 | M10: 投資300萬元中，其中100萬元係「陳幼茹」以黃妙娟名義進行投資（A2P356）
B11: 小計 | F11: =SUM(F1:F10) -> 10000000

Sheet 附表三之一
A1: 附表三之一、詠語資金-友人投資案每投資單位於各期償還本金及給付紅利計算表
A2: 期數 （註1） | B2: 月份 （註2） | C2: 單位現金流量 (A)（註3） | D2: 各期給付紅利金額 (B)=(前期D)*實質期間利率 | E2: 各期償還投資本金金額 (C)=(A)-(B) | F2: 每單位未償還之 投資本金餘額 (D)=(前期D)+(C) | G2: 各期實際償還之 投資本金 (F)=(C)*(E)（註6） | H2: 各期實際償還之 本利和 (G)=(A)*(E)（註7）
A3: 0 | C3: 10000000 | D3: - | E3: - | F3: =C3 -> 10000000 | G3: =E3 -> - | H3: -
A4: 1 | B4: 105/02 | C4: -625000 | D4: =-F3*$D$64 -> -471296.99 | E4: =C4-D4 -> -153703.01 | F4: =F3+E4 -> 9846297 | G4: =E4 -> -153703.01 | H4: =C4 -> -625000
A5: 2 | B5: 105/03 | C5: -625000 | D5: =-F4*$D$64 -> -464053.01 | E5: =C5-D5 -> -160946.99 | F5: =F4+E5 -> 9685350 | G5: =E5 -> -160946.99 | H5: =C5 -> -625000
A6: 3 | B6: 105/04 | C6: -625000 | D6: =-F5*$D$64 -> -456467.63 | E6: =C6-D6 -> -168532.37 | F6: =F5+E6 -> 9516817.6 | G6: =E6 -> -168532.37 | H6: =C6 -> -625000
A7: 4 | B7: 105/05 | C7: -625000 | D7: =-F6*$D$64 -> -448524.75 | E7: =C7-D7 -> -176475.25 | F7: =F6+E7 -> 9340342.4 | G7: =E7 -> -176475.25 | H7: =C7 -> -625000
A8: 5 | B8: 105/06 | C8: -625000 | D8: =-F7*$D$64 -> -440207.52 | E8: =C8-D8 -> -184792.48 | F8: =F7+E8 -> 9155549.9 | G8: =E8 -> -184792.48 | H8: =C8 -> -625000
A9: 6 | B9: 105/07 | C9: -625000 | D9: =-F8*$D$64 -> -431498.31 | E9: =C9-D9 -> -193501.69 | F9: =F8+E9 -> 8962048.2 | G9: =E9 -> -193501.69 | H9: =C9 -> -625000
A10: 7 | B10: 105/08 | C10: -625000 | D10: =-F9*$D$64 -> -422378.63 | E10: =C10-D10 -> -202621.37 | F10: =F9+E10 -> 8759426.8 | G10: =E10 -> -202621.37 | H10: =C10 -> -625000
A11: 8 | B11: 105/09 | C11: -625000 | D11: =-F10*$D$64 -> -412829.15 | E11: =C11-D11 -> -212170.85 | F11: =F10+E11 -> 8547256 | G11: =E11 -> -212170.85 | H11: =C11 -> -625000
A12: 9 | B12: 105/10 | C12: -625000 | D12: =-F11*$D$64 -> -402829.6 | E12: =C12-D12 -> -222170.4 | F12: =F11+E12 -> 8325085.6 | G12: =E12 -> -222170.4 | H12: =C12 -> -625000
A13: 10 | B13: 105/11 | C13: -625000 | D13: =-F12*$D$64 -> -392358.78 | E13: =C13-D13 -> -232641.22 | F13: =F12+E13 -> 8092444.4 | G13: =E13 -> -232641.22 | H13: =C13 -> -625000
A14: 11 | B14: 105/12 | C14: -625000 | D14: =-F13*$D$64 -> -381394.47 | E14: =C14-D14 -> -243605.53 | F14: =F13+E14 -> 7848838.8 | G14: =E14 -> -243605.53 | H14: =C14 -> -625000
A15: 12 | B15: 106/01 | C15: -625000 | D15: =-F14*$D$64 -> -369913.41 | E15: =C15-D15 -> -255086.59 | F15: =F14+E15 -> 7593752.2 | G15: =E15 -> -255086.59 | H15: =C15 -> -625000
... A21: 18 | B21: 106/07 | C21: -350000 | D21: =-F20*$D$64 -> -301688.83 | E21: =C21-D21 -> -48311.166 | F21: =F20+E21 -> 6352935.6 | G21: =E21 -> -48311.166 | H21: =C21 -> -350000
A22: 19 | B22: 106/08 | C22: -350000 | D22: =-F21*$D$64 -> -299411.94 | E22: =C22-D22 -> -50588.057 | F22: =F21+E22 -> 6302347.6
A23: 20 | B23: 106/09 | C23: -350000 | D23: =-F22*$D$64 -> -297027.74 | E23: =C23-D23 -> -52972.257 | F23: =F22+E23 -> 6249375.3
A24: 21 | B24: 106/10 | C24: -350000 | D24: =-F23*$D$64 -> -294531.18 | E24: =C24-D24 -> -55468.823 | F24: =F23+E24 -> 6193906.5
A25: 22 | B25: 106/11 | C25: -350000 | D25: =-F24*$D$64 -> -291916.95 | E25: =C25-D25 -> -58083.052 | F25: =F24+E25 -> 6135823.4
A26: 23 | B26: 106/12 | C26: -350000 | D26: =-F25*$D$64 -> -289179.51 | E26: =C26-D26 -> -60820.489 | F26: =F25+E26 -> 6075003
A27: 24 | B27: 107/01 | C27: -350000 | D27: =-F26*$D$64 -> -286313.06 | E27: =C27-D27 -> -63686.94 | F27: =F26+E27 -> 6011316
A28: 25 | B28: 107/02 | C28: -350000 | D28: =-F27*$D$64 -> -283311.51 | E28: =C28-D28 -> -66688.487 | F28: =F27+E28 -> 5944627.5
A29: 26 | B29: 107/03 | C29: -350000 | D29: =-F28*$D$64 -> -280168.5 | E29: =C29-D29 -> -69831.495 | F29: =F28+E29 -> 5874796
A30: 27 | B30: 107/04 | C30: -350000 | D30: =-F29*$D$64 -> -276877.37 | E30: =C30-D30 -> -73122.632 | F30: =F29+E30 -> 5801673.4
A31: 28 | B31: 107/05 | C31: -350000 | D31: =-F30*$D$64 -> -273431.12 | E31: =C31-D31 -> -76568.88 | F31: =F30+E31 -> 5725104.5
A32: 29 | B32: 107/06 | C32: -350000 | D32: =-F31*$D$64 -> -269822.45 | E32: =C32-D32 -> -80177.548 | F32: =F31+E32 -> 5644927
A33: 30 | B33: 107/07 | C33: -350000 | D33: =-F32*$D$64 -> -266043.71 | E33: =C33-D33 -> -83956.292 | F33: =F32+E33 -> 5560970.7
... A63: 60 | B63: 110/01 | C63: -350000 | D63: =-F62*$D$64 -> -15752.962 | E63: =C63-D63 -> -334247.04 | F63: =F62+E63 -> -1.3737008e-08
A64: 實質期間利率（註4） | D64: =IRR(C3:C63) -> 0.047129699 | F64: 小計 | G64: =SUM(G3:G63) -> -3647064.4 | H64: =SUM(H3:H63) -> -10700000
A65: 實質年利率（註5） | D65: =D64*12 -> 0.56555639
A66: 註1： | B66: 依投資契約，係每1個月為一期，投資期間為5年，故總期數為60期（=12*5）
A67: 註2： | B67: 按附表三「紅利計算起始月份」欄位所示，本投資方案最早計算紅利之起始月份係「105/02」，又依投資契約係每一個月發放一次，故計算紅利期間如上表該欄位所示。
A68: 註3： | B68: 依投資契約，第1至第16個月，係每月給付62萬5000元；第17至第60個月，係每月給付35萬元。
A69: 註4： | B69: 係以EXCEL之IRR公式計算而得。IRR係指由投資方案產生之一序列現金流量中，反推出該投資案之內部報酬率。其計算方式為將每筆現金流量以利率rate折現，然後令所有現金流量的淨現值(NPV)等於零(0 = C0 + C1/(1+rate)^1 + C2/(1+rate)^2+ C3/(1+rate)^3....+ Cn/(1+rate)^n))下所得之rate，該rate就稱為內部報酬率。
A70: 註5： | B70: 係以實質期間利率（係每個月為一期）*12而得。
A71: 註6： | B71: 按投資人謝俊吉、郭紹偉均証述共領得18個月的紅利（A1P101、P135、P168），証述一致，應可認定本投資案之投資人領取之紅利期數共18期。

Sheet 附表四
A1: 附表四：宜蘭分店-友人投資案投資明細表（簽署「詠語創意國際有限公司暨國立宜蘭傳統藝術中心臨水街ARTR投資契約」）
A2: 編號 | B2: 投資人 | C2: 與被告間關係 | D2: 實際投資明細 | J2: 收款明細 | N2: 備註
D3: 投資標的 | E3: 投資日期 | F3: 投資 單位 | G3: 投資金額 | H3: 紅利計算 起始月份 （註1） | I3: 投資卷證出處 | J3: 收款時間 | K3: 收款金額 | L3: 收款帳戶 | M3: 資金卷證出處
A4: 1 | B4: 謝俊吉 | C4: 被告張文亮國中同學（A1P45、P101 、P135 ） | D4: 宜蘭分店 | E4: 105/08/17 | F4: 4 | G4: 4000000 | H4: 106/02 | I4: 105.08.17契約書 （A1P6-7） （註2） | J4: 105/8/19 | K4: 1750000 | L4: 張文亮合作金庫銀行復旦分行帳戶1250000000000 | M4: 銀行交易明細 （A6P11-13） 匯款申請書 （A6P371-373） | N4: 投資契約書上雖載謝俊吉投資700萬元，惟謝俊吉曾轉讓200萬元投資額度予周子文，轉讓100萬元予張華傑，故謝俊吉實際投資金額係400萬元（A1P104）。 實際投資金額為400萬元，惟實際匯款金額合計為525萬元，其差異後由周子文支付25萬元、張華傑支付100萬元予謝俊吉（A1P104、P137）。
J5: 105/9/19 | K5: 1750000
J6: 105/10/19 | K6: 1750000
A7: 1-1 | B7: 周子文 | C7: 被告張文亮國中學長（A1P49、P61、A2P 355） | D7: 宜蘭分店 | E7: 同上 | F7: 2 | G7: 2000000 | H7: 106/02 | I7: 同上 | J7: 105/11/25 | K7: 1750000 | L7: 張文亮合作金庫銀行復旦分行帳戶1250000000000 | M7: 銀行交易明細 （A6P14） | N7: 實際投資金額為200萬元（A1P118、A2P355），惟僅由周子文於105. 11.22以姐周樹梅於匯豐銀行帳戶開立票號0654920號，金額175萬元之支票予張文亮【另金額25萬元則係開立票號0654921號之支票予謝俊吉】（A1P50-51、P62、A6P378-379），其原因為周子文之投資額度係自謝俊吉轉讓而得，而謝俊吉已先行支付超過其實際投資額度款項至張文亮帳戶，故該部分乃由周子文將款項回補予謝俊吉所致。
A8: 2 | B8: 張華傑 | C8: 被告張文亮之友（A1P180、A2P 354-355） | D8: 宜蘭分店 | E8: 同上 | F8: 2 | G8: 2000000 | H8: 106/02 | I8: 同上 | J8: 105/8/19 | K8: 250000 | L8: 張文亮合作金庫銀行復旦分行帳戶1250000000000 | M8: 銀行交易明細 （A6P11-14） 匯款申請書 （A6P374-377） | N8: 實際投資金額為200萬元（A1P118、A2P354），惟實際僅匯款100萬元至張文亮帳戶，其原因為張華傑之投資額度其中100萬元係自謝俊吉轉讓而得，而謝俊吉已先行支付超過其實際投資額度款項至張文亮帳戶，故該部分乃由張華傑將款項回補予謝俊吉所致。
J9: 105/9/19 | K9: 250000
J10: 105/10/20 | K10: 250000
J11: 105/11/18 | K11: 250000
A12: 3 | B12: 黃琮喜 | C12: 被告張文亮國中同學（A1P27、P180） | D12: 宜蘭分店 | E12: 同上 | F12: 2 | G12: 2000000 | H12: 106/02 | I12: 同上 | J12: 105/8/19 | K12: 500000 | L12: 張文亮合作金庫銀行復旦分行帳戶1250000000000 | M12: 銀行交易明細 （A6P11-13） 匯款委託書 （A6P380-383）
J13: 105/9/19 | K13: 500000
J14: 105/10/19 | K14: 500000
J15: 105/11/18 | K15: 500000
A16: 4 | B16: 郭紹偉 | C16: 謝俊吉朋友 （A1P65、P81、P101） | D16: 宜蘭分店 | E16: 同上 | F16: 3 | G16: 3000000 | H16: 106/02 | I16: 同上 | J16: 105/8/18 | K16: 750000 | L16: 張文亮合作金庫銀行復旦分行帳戶1250000000000 | M16: 銀行交易明細 （A6P11-13） 匯款委託書 （A6P397-399）
J17: 105/9/19 | K17: 750000
J18: 105/10/19 | K18: 750000
J19: 105/11/18 | K19: 750000
A20: 5 | B20: 陳素玉 | C20: 謝俊吉朋友 （A1P108） | D20: 宜蘭分店 | E20: 同上 | F20: 3 | G20: 3000000 | H20: 106/02 | I20: 同上 | J20: 105/9/8 | K20: 3000000 | L20: 張文亮合作金庫銀行復旦分行帳戶1250000000000 | M20: 銀行交易明細 （A6P12） 匯款申請書 （A6P416）
A21: 6 | B21: 賴煥升 | C21: 謝俊吉公司員工（A2P354） | D21: 宜蘭分店 | E21: 同上 | F21: 2 | G21: 2000000 | H21: 106/02 | I21: 同上 | J21: 105/8/18 | K21: 500000 | L21: 張文亮合作金庫銀行復旦分行帳戶1250000000000 | M21: 銀行交易明細 （A6P11-13） 匯款申請書 （A6P412-415）
J22: 105/9/19 | K22: 500000
J23: 105/10/19 | K23: 500000
J24: 105/11/18 | K24: 500000
A25: 7 | B25: 呂奇峯 | C25: 謝俊吉公司員工（A1P108） | D25: 宜蘭分店 | E25: 同上 | F25: 2 | G25: 2000000 | H25: 106/02 | I25: 同上 | J25: 105/8/19 | K25: 500000 | L25: 張文亮合作金庫銀行復旦分行帳戶1250000000000 | M25: 銀行交易明細 （A6P11-13） 匯出匯款憑條 （A6P400-403） | N25: 其中50萬元係由謝俊吉朋友楊國松（A1P108）將款項匯入張文亮左列所示合庫帳戶後，再由呂奇峯將款項匯入楊國松帳戶（A6P400-401）
J26: 105/9/20 | K26: 500000
J27: 105/10/20 | K27: 500000
J28: 105/11/14 | K28: 500000
A29: 8 | B29: 宮祖華 | C29: 謝俊吉朋友 （本院卷P82） | D29: 宜蘭分店 | E29: 同上 | F29: 2 | G29: 2000000 | H29: 106/02 | I29: 同上 | J29: 105/8/19 | K29: 500000 | L29: 張文亮合作金庫銀行復旦分行帳戶1250000000000 | M29: 銀行交易明細 （A6P11-13） 大額通貨交易明細 （A6P20） 存款憑條 （A6P393-396）
J30: 105/9/19 | K30: 500000
J31: 105/10/19 | K31: 500000
J32: 105/11/18 | K32: 500000
A33: 9 | B33: 蘇雅卉 | C33: 透過謝俊吉介紹而投資（A2P354 ） | D33: 宜蘭分店 | E33: 同上 | F33: 2 | G33: 2000000 | H33: 106/02 | I33: 同上 | J33: 105/8/19 | K33: 500000 | L33: 張文亮合作金庫銀行復旦分行帳戶1250000000000 | M33: 銀行交易明細 （A6P11-13） 電子預約轉帳交易結果查詢（A1P119-121） | N33: 投資200萬元中，其中50萬元係李明霞以蘇雅卉名義所投資者（A2P356）
J34: 105/9/19 | K34: 500000 | M34: A1P120
J35: 105/10/18 | K35: 500000 | M35: A1P121
J36: 105/11/3 | K36: 3000
J37: 105/11/18 | K37: 497000
A38: 10 | B38: 陳幼茹 | C38: 謝俊吉公司員工（A1P108） | D38: 宜蘭分店 | E38: 同上 | F38: 2 | G38: 2000000 | H38: 106/02 | I38: 同上 | J38: 105/8/19 | K38: 500000 | L38: 張文亮合作金庫銀行復旦分行帳戶1250000000000 | M38: 銀行交易明細 （A6P11-13） 匯款申請書 （A6P384） 銀行轉帳紀錄 （A6P386-388）
J39: 105/9/19 | K39: 750000
J40: 105/10/18 | K40: 750000
...

Sheet 附表四之一
A1: 附表四之一、宜蘭分店-友人投資案每投資單位於各期償還本金及給付紅利計算表
A2: 期數 （註1） | B2: 月份 （註2） | C2: 單位現金流量 (A)（註3） | D2: 各期給付紅利金額 (B)=(前期D)*實質期間利率 | E2: 各期償還投資本金金額 (C)=(A)-(B) | F2: 每單位未償還之 投資本金餘額 (D)=(前期D)+(C) | G2: 投資單位數 (E)（註6） | H2: 各期實際償還之 投資本金 (F)=(C)*(E)（註7） | I2: 各期實際償還之 本利和 (G)=(A)*(E)（註7）
A3: 0 | B3: - | C3: 1000000 | D3: - | E3: - | F3: =C3 -> 1000000 | G3: 0 | H3: - | I3: -
A4: 1 | B4: 106/02 | C4: -50000 | D4: =-F3*$D$64 -> -46781.916 | E4: =C4-D4 -> -3218.0836 | F4: =F3+E4 -> 996781.92 | G4: 30 | H4: =E4*30 -> -96542.507 | I4: =C4*G4 -> -1500000
A5: 2 | B5: 106/03 | C5: -50000 | D5: =-F4*$D$64 -> -46631.368 | E5: =C5-D5 -> -3368.6317 | F5: =F4+E5 -> 993413.28 | G5: 30 | H5: =E5*30 -> -101058.95 | I5: =C5*G5 -> -1500000
A6: 3 | B6: 106/04 | C6: -50000 | D6: =-F5*$D$64 -> -46473.777 | E6: =C6-D6 -> -3526.2227 | F6: =F5+E6 -> 989887.06 | G6: 30 | H6: =E6*30 -> -105786.68 | I6: =C6*G6 -> -1500000
A7: 4 | B7: 106/05 | C7: -50000 | D7: =-F6*$D$64 -> -46308.814 | E7: =C7-D7 -> -3691.1862 | F7: =F6+E7 -> 986195.88 | G7: 30 | H7: =E7*30 -> -110735.59 | I7: =C7*G7 -> -1500000
A8: 5 | B8: 106/06 | C8: -50000 | D8: =-F7*$D$64 -> -46136.133 | E8: =C8-D8 -> -3863.867 | F8: =F7+E8 -> 982332.01 | G8: 30 | H8: =E8*30 -> -115916.01 | I8: =C8*G8 -> -1500000
A9: 6 | B9: 106/07 | C9: -50000 | D9: =-F8*$D$64 -> -45955.374 | E9: =C9-D9 -> -4044.6261 | F9: =F8+E9 -> 978287.38 | G9: 30 | H9: =E9*30 -> -121338.78 | I9: =C9*G9 -> -1500000
A10: 7 | B10: 106/08 | C10: -50000 | D10: =-F9*$D$64 -> -45766.159 | E10: =C10-D10 -> -4233.8414 | F10: =F9+E10 -> 974053.54
A11: 8 | B11: 106/09 | C11: -50000 | D11: =-F10*$D$64 -> -45568.091 | E11: =C11-D11 -> -4431.9086 | F11: =F10+E11 -> 969621.63
A12: 9 | B12: 106/10 | C12: -50000 | D12: =-F11*$D$64 -> -45360.758 | E12: =C12-D12 -> -4639.2418 | F12: =F11+E12 -> 964982.39
A13: 10 | B13: 106/11 | C13: -50000 | D13: =-F12*$D$64 -> -45143.726 | E13: =C13-D13 -> -4856.2744 | F13: =F12+E13 -> 960126.12
A14: 11 | B14: 106/12 | C14: -50000 | D14: =-F13*$D$64 -> -44916.54 | E14: =C14-D14 -> -5083.4603 | F14: =F13+E14 -> 955042.66
A15: 12 | B15: 107/01 | C15: -50000 | D15: =-F14*$D$64 -> -44678.726 | E15: =C15-D15 -> -5321.2743 | F15: =F14+E15 -> 949721.38
A16: 13 | B16: 107/02 | C16: -50000 | D16: =-F15*$D$64 -> -44429.786 | E16: =C16-D16 -> -5570.2137 | F16: =F15+E16 -> 944151.17
A17: 14 | B17: 107/03 | C17: -50000 | D17: =-F16*$D$64 -> -44169.201 | E17: =C17-D17 -> -5830.799 | F17: =F16+E17 -> 938320.37
A18: 15 | B18: 107/04 | C18: -50000 | D18: =-F17*$D$64 -> -43896.425 | E18: =C18-D18 -> -6103.5749 | F18: =F17+E18 -> 932216.79
A19: 16 | B19: 107/05 | C19: -50000 | D19: =-F18*$D$64 -> -43610.888 | E19: =C19-D19 -> -6389.1118 | F19: =F18+E19 -> 925827.68
A20: 17 | B20: 107/06 | C20: -50000 | D20: =-F19*$D$64 -> -43311.993 | E20: =C20-D20 -> -6688.0067 | F20: =F19+E20 -> 919139.68
A21: 18 | B21: 107/07 | C21: -50000 | D21: =-F20*$D$64 -> -42999.115 | E21: =C21-D21 -> -7000.8845 | F21: =F20+E21 -> 912138.79
... A63: 60 | B63: 111/01 | C63: -50000 | D63: =-F62*$D$64 -> -2234.5589 | E63: =C63-D63 -> -47765.441 | F63: =F62+E63 -> -4.3073669e-09
A64: 實質期間利率（註4） | D64: =IRR(C3:C63) -> 0.046781916 | G64: 小計 | H64: =SUM(H3:H63) -> -651378.52 | I64: =SUM(I3:I63) -> -9000000
A65: 實質年利率（註5） | D65: =D64*12 -> 0.561383
A66: 註1： | B66: 依投資契約，係每1個月為一期，投資期間為5年，故總期數為60期（=12*5）
A67: 註2： | B67: 按附表四「紅利計算起始月份」欄位所示，本投資方案最早計算紅利之起始月份係「106/02」，又依投資契約係每一個月發放一次，故計算紅利期間如上表該欄位所示。
A68: 註3： | B68: 依投資契約，每投資單位為100萬元，每單位每期領得5萬元。
A69: 註4： | B69: 係以EXCEL之IRR公式計算而得。IRR係指由投資方案產生之一序列現金流量中，反推出該投資案之內部報酬率。其計算方式為將每筆現金流量以利率rate折現，然後令所有現金流量的淨現值(NPV)等於零(0 = C0 + C1/(1+rate)^1 + C2/(1+rate)^2+ C3/(1+rate)^3....+ Cn/(1+rate)^n))下所得之rate，該rate就稱為內部報酬率。
A70: 註5： | B70: 係以實質期間利率（係每一個月為一期）*12而得。
A71: 註6： | B71: 按附表四「紅利計算起始月份」欄位所示，各投資人均係自「106/02」月份起開始計算紅利，故各月份計算紅利之投資單位均為30個（=3000萬元/100萬元）。
A72: 註7： | B72: 按投資人謝俊吉、郭紹偉均証述共領得6個月的紅利（A1P4、P70），証述一致，應可認定本投資案之投資人領取之紅利期數共6期。

Sheet 附表五
A1: 附表五：宜蘭分店-員工投資案投資明細表（簽署「詠語創意國際有限公司暨國立宜蘭傳藝藝術中心臨水街ARTR投資契約書」）
A2: 編號 | B2: 投資人 | C2: 與被告間關係 | D2: 實際投資明細 | J2: 收款明細 | N2: 備註
D3: 投資標的 | E3: 投資日期 | F3: 投資 單位 | G3: 投資金額 | H3: 紅利計算 起始月份 （註） | I3: 投資卷證出處 | J3: 收款時間 | K3: 收款金額 | L3: 收款帳戶 | M3: 資金卷證出處
A4: 1 | B4: 王景弘 | C4: 被告張文亮公司員工之父，經被告張文亮招攬而投資（A1P182） | D4: 宜蘭分店 | E4: 不明 | F4: 1 | G4: 1000000 | H4: 106/02 | I4: 張文亮供述（A1P182） | J4: 105/12/9 | K4: 1000000 | L4: 張文亮合作金庫銀行復旦分行帳戶1250000000000 | M4: 銀行交易明細 （A6P14）
A5: 2 | B5: 王如君 | C5: 被告張文亮公司員工林泰源之妻，經被告張文亮招攬而投資（A1P262 -263、P310） | D5: 宜蘭分店 | E5: 105/12/15 | F5: 1 | G5: 1000000 | H5: 106/02 | I5: 105.12.15契約書 （A1P324-326） | J5: 105/12/14 | K5: 1000000 | L5: 張文亮合作金庫銀行復旦分行帳戶1250000000000 | M5: 銀行交易明細 （A6P14） 匯款申請書 （A1P327）
A6: 3 | B6: 吳麗玲 | C6: 被告張文亮公司員工徐子涵之母，經被告張文亮招攬而投資（A1P182 、P263） | D6: 宜蘭分店 | E6: 106/02/08 | F6: 2 | G6: 2000000 | H6: 106/02 | I6: 106.02.08契約書 （A1P281-283） | J6: 106/2/8 | K6: 2000000 | L6: 張文亮合作金庫銀行復旦分行帳戶1254765895869 | M6: 銀行交易明細 （A6P15）
A7: 4 | B7: 蔡依雯 | C7: 被告張文亮教友謝佩君之友，經被告張文亮招攬而投資（A1P182、P263） | D7: 宜蘭分店 | E7: 不明 | F7: 1 | G7: 1000000 | H7: 106/02 | I7: 不明日期契約書 （A1P297-299） | J7: 106/1/5 | K7: 1000000 | L7: 張文亮合作金庫銀行復旦分行帳戶1250000000000 | M7: 銀行交易明細 （A6P15） 國內匯款申請書 （A1P300） | N7: 係以「林照峰」名義匯入款項（A1P300）
A8: 5 | B8: 黃立維 | C8: 林威達國中同學，經被告林威達招攬而投資 （A1P182、P309、P311 、A5P5-5反 ） | D8: 宜蘭分店 | E8: 105/12/23 | F8: 1 | G8: 1000000 | H8: 106/02 | I8: 105.12.23契約書 （A2P336-338） | J8: 105/12/23 | K8: 1000000 | L8: 張文亮合作金庫銀行復旦分行帳戶1250000000000 | M8: 黃立維存摺 （A5P12） 匯款回條 （A5P16） 銀行交易明細 （A6P14）
A9: 6 | B9: 麥聖鑫 | C9: 林威達國中同學，經被告林威達招攬而投資 （A1P182、P309、P311 、A5P5反、P23反） | D9: 宜蘭分店 | E9: 105/12/15 | F9: 1 | G9: 1000000 | H9: 106/02 | I9: 105.12.15契約書 （A1P35-37） | J9: 105/12/15 | K9: 1000000 | L9: 張文亮合作金庫銀行復旦分行帳戶1250000000000 | M9: 銀行交易明細 （A6P14） 匯款回條 （A5P28）
A10: 7 | B10: 朱冠諺 | C10: 林威達國中同學，經被告林威達招攬而投資 （A1P182、P309、P311 、A5P5反） | D10: 宜蘭分店 | E10: 105/12/14 | F10: 1 | G10: 1000000 | H10: 106/02 | I10: 105.12.14契約書 （A1P328-330） | J10: 105/12/14 | K10: 1000000 | L10: 張文亮合作金庫銀行復旦分行帳戶1250000000000 | M10: 銀行交易明細 （A6P14）
A11: 8 | B11: 李于豪 | C11: 林威達高中同學，經被告林威達招攬而投資 （A1P182、P264、A5P49） | D11: 宜蘭分店 | E11: 105/12/30 | F11: 1 | G11: 1000000 | H11: 106/02 | I11: 105.12.30契約書 （A2P340-342） | J11: 105/12/30 | K11: 1000000 | L11: 張文亮合作金庫銀行復旦分行帳戶1250000000000 | M11: 銀行交易明細 （A6P14）
A12: 9 | B12: 洪芷筠 | C12: 林威達高中同學李于豪之妻，透過李于豪而投資（A1P264、P353） | D12: 宜蘭分店 | E12: 105/12/28 | F12: 1 | G12: 1000000 | H12: 106/02 | I12: 105.12.28契約書 （A2P343-345） | J12: 105/12/28 | K12: 1000000 | L12: 張文亮合作金庫銀行復旦分行帳戶1250000000000 | M12: 銀行交易明細 （A6P14）
A13: 10 | B13: 邱惠玲 | C13: 林威達高中同學李于豪妻洪芷筠之友人，透過李于豪而投資（A1P182 、P309 ） | D13: 宜蘭分店 | E13: 105/12/15 | F13: 1 | G13: 1000000 | H13: 106/02 | I13: 105.12.15契約書 （A2P333-335） | J13: 105/12/15 | K13: 1000000 | L13: 張文亮合作金庫銀行復旦分行帳戶1250000000000 | M13: 銀行交易明細 （A6P14）
B14: 小計 | F14: =SUM(F4:F13) -> 11 | G14: =SUM(G4:G13) -> 11000000
A15: 註： | B15: 依投資契約第四條第2項「每筆紅利回饋方式」所示，可知紅利計算之始月係「106年2月」。

Sheet 附表五之一
A1: 附表五之一、宜蘭分店-員工投資案每投資單位於各期償還本金及給付紅利計算表
A2: 期數 （註1） | B2: 月份 （註2） | C2: 單位現金流量 (A)（註3） | D2: 各期給付紅利金額 (B)=(前期D)*實質期間利率 | E2: 各期償還投資本金金額 (C)=(A)-(B) | F2: 每單位未償還之 投資本金餘額 (D)=(前期D)+(C) | G2: 投資單位數 (E)（註6） | H2: 各期實際償還之 投資本金 (F)=(C)*(E)（註7） | I2: 各期實際償還之 本利和 (G)=(A)*(E)（註7）
A3: 0 | C3: 1000000 | D3: - | E3: - | F3: =C3 -> 1000000 | G3: - | H3: - | I3: -
A4: 1 | B4: 106/02 | C4: -40000 | D4: =-F3*$D$40 -> -45175.195 | E4: =C4-D4 -> 5175.1949 | F4: =F3+E4 -> 1005175.2 | G4: 11 | H4: =E4*11 -> 56927.144 | I4: =C4*G4 -> -440000
A5: 2 | B5: 106/03 | C5: -40000 | D5: =-F4*$D$40 -> -45408.985 | E5: =C5-D5 -> 5408.9853 | F5: =F4+E5 -> 1010584.2 | G5: 11 | H5: =E5*11 -> 59498.839 | I5: =C5*G5 -> -440000
A6: 3 | B6: 106/04 | C6: -40000 | D6: =-F5*$D$40 -> -45653.337 | E6: =C6-D6 -> 5653.3373 | F6: =F5+E6 -> 1016237.5 | G6: 11 | H6: =E6*11 -> 62186.71 | I6: =C6*G6 -> -440000
A7: 4 | B7: 106/05 | C7: -40000 | D7: =-F6*$D$40 -> -45908.728 | E7: =C7-D7 -> 5908.7279 | F7: =F6+E7 -> 1022146.2 | G7: 11 | H7: =E7*11 -> 64996.007 | I7: =C7*G7 -> -440000
A8: 5 | B8: 106/06 | C8: -40000 | D8: =-F7*$D$40 -> -46175.656 | E8: =C8-D8 -> 6175.6558 | F8: =F7+E8 -> 1028321.9 | G8: 11 | H8: =E8*11 -> 67932.214 | I8: =C8*G8 -> -440000
A9: 6 | B9: 106/07 | C9: -40000 | D9: =-F8*$D$40 -> -46454.642 | E9: =C9-D9 -> 6454.6423 | F9: =F8+E9 -> 1034776.5
A10: 7 | B10: 106/08 | C10: -50000 | D10: =-F9*$D$40 -> -46746.232 | E10: =C10-D10 -> -3253.768 | F10: =F9+E10 -> 1031522.8
A11: 8 | B11: 106/09 | C11: -50000 | D11: =-F10*$D$40 -> -46599.242 | E11: =C11-D11 -> -3400.7576 | F11: =F10+E11 -> 1028122
A12: 9 | B12: 106/10 | C12: -50000 | D12: =-F11*$D$40 -> -46445.613 | E12: =C12-D12 -> -3554.3875 | F12: =F11+E12 -> 1024567.6
A13: 10 | B13: 106/11 | C13: -50000 | D13: =-F12*$D$40 -> -46285.042 | E13: =C13-D13 -> -3714.9576 | F13: =F12+E13 -> 1020852.7
A14: 11 | B14: 106/12 | C14: -50000 | D14: =-F13*$D$40 -> -46117.218 | E14: =C14-D14 -> -3882.7815 | F14: =F13+E14 -> 1016969.9
A15: 12 | B15: 107/01 | C15: -50000 | D15: =-F14*$D$40 -> -45941.813 | E15: =C15-D15 -> -4058.187 | F15: =F14+E15 -> 1012911.7
A16: 13 | B16: 107/02 | C16: -70000 | D16: =-F15*$D$40 -> -45758.484 | E16: =C16-D16 -> -24241.516 | F16: =F15+E16 -> 988670.19
A17: 14 | B17: 107/03 | C17: -70000 | D17: =-F16*$D$40 -> -44663.368 | E17: =C17-D17 -> -25336.632 | F17: =F16+E17 -> 963333.56
A18: 15 | B18: 107/04 | C18: -70000 | D18: =-F17*$D$40 -> -43518.781 | E18: =C18-D18 -> -26481.219 | F18: =F17+E18 -> 936852.34
A19: 16 | B19: 107/05 | C19: -70000 | D19: =-F18*$D$40 -> -42322.487 | E19: =C19-D19 -> -27677.513 | F19: =F18+E19 -> 909174.82
A20: 17 | B20: 107/06 | C20: -70000 | D20: =-F19*$D$40 -> -41072.15 | E20: =C20-D20 -> -28927.85 | F20: =F19+E20 -> 880246.97
... A39: 36 | B39: 109/01 | C39: -70000 | D39: =-F38*$D$40 -> -3025.5824 | E39: =C39-D39 -> -66974.418 | F39: =F38+E39 -> 1.0010262e-07
A40: 實質期間利率（註4） | D40: =IRR(C3:C39) -> 0.045175195 | G40: 小計 | H40: =SUM(H3:H39) -> 311540.91 | I40: =SUM(I3:I39) -> -2200000
A41: 實質年利率（註5） | D41: =D40*12 -> 0.54210234
A42: 註1： | B42: 依投資契約，係每1個月為一期，投資期間為3年，故總期數為36期（=12*3）
A43: 註2： | B43: 按附表五「紅利計算起始月份」欄位所示，本投資方案最早計算紅利之起始月份係「106/02」，又依投資契約係每一個月發放一次，故計算紅利期間如上表該欄位所示。
A44: 註3： | B44: 依投資契約，每投資單位為100萬元，第1至第6個月，每單位每月領得4萬元；第7至12個月，每單位每月領得5萬元；第13至36個月，每單位每月領得7萬元。
A45: 註4： | B45: 係以EXCEL之IRR公式計算而得。IRR係指由投資方案產生之一序列現金流量中，反推出該投資案之內部報酬率。其計算方式為將每筆現金流量以利率rate折現，然後令所有現金流量的淨現值(NPV)等於零(0 = C0 + C1/(1+rate)^1 + C2/(1+rate)^2+ C3/(1+rate)^3....+ Cn/(1+rate)^n))下所得之rate，該rate就稱為內部報酬率。
A46: 註5： | B46: 係以實質期間利率（係每一個月為一期）*12而得。
A47: 註6： | B47: 按附表五「紅利計算起始月份」欄位所示，各投資人均係自「106/02」月份起開始計算紅利，故各月份計算紅利之投資單位均為11個（=1100萬元/100萬元）。
A48: 註7： | B48: 按投資人黃立維証述「我收到每個月4萬元的獲利是存在華南銀行跟遠東銀行，依照存摺明細，我在106.04. 11、05.08、08.08各存入4萬元
B49: 至遠東商銀帳戶，另外在106.07.06把6、7月份的獲利，共8萬元，存入華南銀行帳戶」等語（A5P6、P13-15、P17）」，與麥聖鑫証述「從4月份開始領取每個月4萬元的紅利，但到106年9月開始，詠語公司就無預警倒閉，而且也沒有繼續按約支付紅利」等語（A5P23反、P29-P33）一致；並與被告林威達供稱每月獲利係「從106年4月開始發放，直到同年8月，之後張文亮在9月7日消失後就沒拿到了」等語（
B50: A5P53）相符；再者按契約書第四條第1點內容所示「投資之決算及分配利益，除另有約定外，依標的每月結算後隔月2號次日發放紅利 (例：1 月份營業額紅利結算後於3 月 2 日開立支票發放...)」，足見106年4月係發放本投資方案之第一期紅利，本投資案之投資人計領取之紅利期數共5期，應可認定。

Sheet 附表六
A1: 附表六：台北城大飯店及享樂文旅餐廳投資案投資明細表（簽署「詠語創意國際有限公司暨106年度餐飲投資案契約書」）
A2: 編號 | B2: 投資人 | C2: 與被告間關係 | D2: 實際投資明細 | J2: 收款明細 | N2: 備註
D3: 投資標的 | E3: 投資日期 | F3: 投資 單位 | G3: 投資金額 | H3: 紅利計算 起始月份 （註） | I3: 投資卷證出處 | J3: 收款時間 | K3: 收款金額 | L3: 收款帳戶 | M3: 資金卷證出處
A4: 1 | B4: 宮祖華 | C4: 謝俊吉朋友 （本院卷P82） | D4: 臺北城飯店及享樂文旅餐廳 | E4: 106/03/02 | F4: 3 | G4: 1500000 | H4: 106/06 | I4: 106.03.02契約書（A1P38-41） | J4: 106/3/15 | K4: 510000 | L4: 張文亮合作金庫銀行復旦分行帳戶1250000000000 | M4: 銀行交易明細 （A6P16-18） 大額通貨交易明細 （A6P20） 匯款申請書 （A6P423-425）
J5: 106/4/13 | K5: 510000
J6: 106/5/15 | K6: 480000
A7: 2 | B7: 張國科 | C7: 謝俊吉朋友 （本院卷P82） | D7: 臺北城飯店及享樂文旅餐廳 | E7: 同上 | F7: 3 | G7: 1500000 | H7: 同上 | I7: 同上 | J7: 106/3/15 | K7: 510000 | L7: 張文亮合作金庫銀行復旦分行帳戶1250000000000 | M7: 銀行交易明細 （A6P16-18） 匯款申請書 （A6P420-422）
J8: 106/4/13 | K8: 510000
J9: 106/5/15 | K9: 480000
A10: 3 | B10: 翁靖雯 | C10: 謝俊吉朋友（A1P66、P101） | D10: 臺北城飯店及享樂文旅餐廳 | E10: 同上 | F10: 4 | G10: 2000000 | H10: 同上 | I10: 同上 | J10: 106/3/15 | K10: 1020000 | L10: 張文亮合作金庫銀行復旦分行帳戶1250000000000 | M10: 銀行交易明細 （A6P16-18） 匯出匯款憑證 （A6P417-419）
J11: 106/4/13 | K11: 1020000
A12: 4 | B12: 呂昀儒 | C12: 謝俊吉朋友（A1P86、P96） | D12: 臺北城飯店及享樂文旅餐廳 | E12: 同上 | F12: 2 | G12: 1000000 | H12: 同上 | I12: 同上 | J12: 106/5/15 | K12: 960000
A13: 5 | B13: 黃琮喜 | C13: 被告張文亮國中同學（A1P27、P180） | D13: 臺北城飯店及享樂文旅餐廳 | E13: 同上 | F13: 5 | G13: 2500000 | H13: 同上 | I13: 同上 | J13: 106/4/14 | K13: 500000 | L13: 張文亮合作金庫銀行復旦分行帳戶1250000000000 | M13: 銀行交易明細 （A6P17） 匯款委託書 （A6P429-430）
J14: 106/5/2 | K14: 2000000
A15: 6 | B15: 周子文 | C15: 被告張文亮國中學長（A1P49、P61） | D15: 臺北城飯店及享樂文旅餐廳 | E15: 同上 | F15: 4 | G15: 2000000 | H15: 同上 | I15: 同上 | J15: 106/3/13 | K15: 680000 | L15: 張文亮合作金庫銀行復旦分行帳戶1250000000000 | M15: 銀行交易明細 （A6P16-18） 匯款回條聯 （A6P426-428）
J16: 106/4/12 | K16: 680000
J17: 106/5/15 | K17: 640000
A18: 7 | B18: 黃妙娟 | C18: 謝俊吉公司員工（A1P101） | D18: 臺北城飯店及享樂文旅餐廳 | E18: 同上 | F18: 2 | G18: 1000000 | H18: 同上 | I18: 同上 | J18: 106/3/14 | K18: 1190000 | L18: 張文亮合作金庫銀行復旦分行帳戶1250000000000 | M18: 銀行交易明細 （A6P16-18） 匯款申請書 （A6P431-433） | N18: 係以「陳郁婷」名義匯入款項
A19: 8 | B19: 魏青玉 | C19: 透過謝俊吉介紹而投資（A2P354 ） | E19: 同上 | F19: 2 | G19: 1000000 | H19: 同上 | I19: 同上 | J19: 106/4/13 | K19: 1190000
A20: 9 | B20: 陳郁婷 | C20: 謝俊吉公司員工（A2P354） | E20: 同上 | F20: 1 | G20: 500000 | H20: 同上 | I20: 同上 | J20: 106/5/15 | K20: 1120000
A21: 10 | B21: 蘇雅卉 | C21: 透過謝俊吉介紹而投資（A2P354 ） | E21: 同上 | F21: 2 | G21: 1000000 | H21: 同上 | I21: 同上
A22: 11 | B22: 林冠佑 | C22: 謝俊吉朋友 （本院卷P82） | D22: 臺北城飯店及享樂文旅餐廳 | E22: 同上 | F22: 1 | G22: 500000 | H22: 同上 | I22: 同上 | J22: 106/3/14 | K22: 170000 | L22: 張文亮合作金庫銀行復旦分行帳戶1250000000000 | M22: 銀行交易明細 （A6P16-18） 匯款申請書 （A6P441-443） | N22: 係以「葉綾蓮」名議匯入款項
J23: 106/4/13 | K23: 170000
J24: 106/5/15 | K24: 160000
A25: 12 | B25: 李明霞 | C25: 謝俊吉公司員工（A2P354、P356 ） | D25: 臺北城飯店及享樂文旅餐廳 | E25: 同上 | F25: 1 | G25: 500000 | H25: 同上 | I25: 同上 | J25: 106/3/13 | K25: 170000 | L25: 張文亮合作金庫銀行復旦分行帳戶1250000000000 | M25: 銀行交易明細 （A6P16-17） 存款憑條 （A6P438-440）
J26: 106/4/12 | K26: 70000
J27: 106/4/12 | K27: 100000
J28: 106/5/11 | K28: 160000
B29: 小計 | F29: =SUM(F4:F28) -> 30 | G29: =SUM(G4:G28) -> 15000000
A30: 註： | B30: 依投資契約第四條第2項「每筆紅利回饋方式」所示，可知紅利計算之始月係「106年6月」。

Sheet 附表六之一
A1: 附表六之一、台北城大飯店及享樂文旅餐廳投資案每投資單位於各期償還本金及給付紅利計算表
A2: 期數 （註1） | B2: 月份 （註2） | C2: 單位現金流量 (A)（註3） | D2: 各期給付紅利金額 (B)=(前期D)*實質期間利率 | E2: 各期償還投資本金金額 (C)=(A)-(B) | F2: 每單位未償還之 投資本金餘額 (D)=(前期D)+(C) | G2: 投資單位數 (E)（註6） | H2: 各期實際償還之 投資本金 (F)=(C)*(E)（註7） | I2: 各期實際償還之 本利和 (G)=(A)*(E)（註7）
A3: 0 | B3: - | C3: 500000 | D3: - | E3: - | F3: =C3 -> 500000 | G3: - | H3: - | I3: -
A4: 1 | B4: 106/06 | C4: -30000 | D4: =-F3*$D$40 -> -24719.748 | E4: =C4-D4 -> -5280.2525 | F4: =F3+E4 -> 494719.75 | G4: 30 | H4: =E4*G4 -> -158407.57 | I4: =C4*G4 -> -900000
A5: 2 | B5: 106/07 | C5: -30000 | D5: =-F4*$D$40 -> -24458.694 | E5: =C5-D5 -> -5541.3055 | F5: =F4+E5 -> 489178.44 | G5: 30 | H5: =E5*G5 -> -166239.17 | I5: =C5*G5 -> -900000
A6: 3 | B6: 106/08 | C6: -30000 | D6: =-F5*$D$40 -> -24184.735 | E6: =C6-D6 -> -5815.2648 | F6: =F5+E6 -> 483363.18
A7: 4 | B7: 106/09 | C7: -30000 | D7: =-F6*$D$40 -> -23897.231 | E7: =C7-D7 -> -6102.7686 | F7: =F6+E7 -> 477260.41
A8: 5 | B8: 106/10 | C8: -30000 | D8: =-F7*$D$40 -> -23595.514 | E8: =C8-D8 -> -6404.4864 | F8: =F7+E8 -> 470855.92
A9: 6 | B9: 106/11 | C9: -30000 | D9: =-F8*$D$40 -> -23278.879 | E9: =C9-D9 -> -6721.121 | F9: =F8+E9 -> 464134.8
A10: 7 | B10: 106/12 | C10: -30000 | D10: =-F9*$D$40 -> -22946.59 | E10: =C10-D10 -> -7053.4098 | F10: =F9+E10 -> 457081.39
A11: 8 | B11: 107/01 | C11: -30000 | D11: =-F10*$D$40 -> -22597.873 | E11: =C11-D11 -> -7402.1268 | F11: =F10+E11 -> 449679.26
A12: 9 | B12: 107/02 | C12: -30000 | D12: =-F11*$D$40 -> -22231.916 | E12: =C12-D12 -> -7768.0842 | F12: =F11+E12 -> 441911.18
A13: 10 | B13: 107/03 | C13: -30000 | D13: =-F12*$D$40 -> -21847.866 | E13: =C13-D13 -> -8152.1344 | F13: =F12+E13 -> 433759.05
A14: 11 | B14: 107/04 | C14: -30000 | D14: =-F13*$D$40 -> -21444.828 | E14: =C14-D14 -> -8555.1718 | F14: =F13+E14 -> 425203.87
A15: 12 | B15: 107/05 | C15: -30000 | D15: =-F14*$D$40 -> -21021.865 | E15: =C15-D15 -> -8978.1352 | F15: =F14+E15 -> 416225.74
A16: 13 | B16: 107/06 | C16: -30000 | D16: =-F15*$D$40 -> -20577.99 | E16: =C16-D16 -> -9422.0097 | F16: =F15+E16 -> 406803.73
A17: 14 | B17: 107/07 | C17: -30000 | D17: =-F16*$D$40 -> -20112.171 | E17: =C17-D17 -> -9887.829 | F17: =F16+E17 -> 396915.9
... A39: 36 | B39: 109/05 | C39: -30000 | D39: =-F38*$D$40 -> -1413.3114 | E39: =C39-D39 -> -28586.689 | F39: =F38+E39 -> -6.5847416e-09
A40: 實質期間利率（註4） | D40: =IRR(C3:C39) -> 0.049439495 | G40: 小計 | H40: =SUM(H3:H39) -> -324646.74 | I40: =SUM(I3:I39) -> -1800000
A41: 實質年利率（註5） | D41: =D40*12 -> 0.59327394
A42: 註1： | B42: 依投資契約，係每1個月為一期，投資期間為3年，故總期數為36期（=12*3）
A43: 註2： | B43: 按附表六「紅利計算起始月份」欄位所示，本投資方案最早計算紅利之起始月份係「106/06」，又依投資契約係每一個月發放一次，故計算紅利期間如上表該欄位所示。
A44: 註3： | B44: 依投資契約，每投資單位為50萬元，每單位每月領得3萬元。
A45: 註4： | B45: 係以EXCEL之IRR公式計算而得。IRR係指由投資方案產生之一序列現金流量中，反推出該投資案之內部報酬率。其計算方式為將每筆現金流量以利率rate折現，然後令所有現金流量的淨現值(NPV)等於零(0 = C0 + C1/(1+rate)^1 + C2/(1+rate)^2+ C3/(1+rate)^3....+ Cn/(1+rate)^n))下所得之rate，該rate就稱為內部報酬率。
A46: 註5： | B46: 係以實質期間利率（係每一個月為一期）*12而得。
A47: 註6： | B47: 按附表六「紅利計算起始月份」欄位所示，各投資人均係自「106/06」月份起開始計算紅利，故各月份計算紅利之投資單位均為30個（=1500萬元/50萬元）。
A48: 註7： | B48: 按投資人謝俊吉（A1P137）、呂昀儒（A1P88、P97）、黃琮喜（A1P31、P45）、周子文（A1P51、P62）等人均証述共領過兩次紅利，証述一致，應可認定本投資案之投資人領取之紅利期數共2期。

Sheet 附表七
A1: 附表七：詠語公司中央廚房投資案投資明細表（簽署「詠語創意國際有限公司暨106年度餐飲投資案契約書」）
A2: 編號 | B2: 投資人 | C2: 與被告間關係 | D2: 實際投資明細 | J2: 收款明細 | N2: 備註
D3: 投資標的 | E3: 投資日期 | F3: 投資 單位 | G3: 投資金額 | H3: 紅利計算 起始月份 （註） | I3: 投資卷證出處 | J3: 收款時間 | K3: 收款金額 | L3: 收款帳戶 | M3: 資金卷證出處
A4: 1 | B4: 謝俊吉 | C4: 被告國中同學（A1P45、P101、P135） | D4: 詠語公司 | E4: 106/05/22 | F4: 10 | G4: 10000000 | H4: 106/07 | I4: 106.05.22契約書 （A1P42-43） | J4: 106/5/17 | K4: 10000000 | L4: 張文亮合作金庫銀行復旦分行帳戶1250000000000 | M4: 銀行交易明細 （A6P18）
D5: 中央廚房
A6: 2 | B6: 郭紹偉 | C6: 謝俊吉朋友（A1P65、P81、P101） | D6: 詠語公司 | E6: 同上 | F6: 3 | G6: 3000000 | H6: 同上 | I6: 同上 | J6: 106/5/2 | K6: 3000000 | L6: 張文亮合作金庫銀行復旦分行帳戶1250000000000 | M6: 銀行交易明細 （A6P17） 匯款申請書 （A6P437）
D7: 中央廚房
A8: 3 | B8: 賴煥升 | C8: 謝俊吉公司員工（A2P354） | D8: 詠語公司 | E8: 同上 | F8: 2 | G8: 2000000 | H8: 同上 | I8: 同上 | J8: 106/5/2 | K8: 2000000 | L8: 張文亮合作金庫銀行復旦分行帳戶1250000000000 | M8: 銀行交易明細 （A6P17） 匯款申請書 （A6P436）
D9: 中央廚房
B10: 小計 | F10: =SUM(F4:F9) -> 15 | G10: =SUM(G4:G9) -> 15000000
A11: 註： | B11: 依投資契約第四條第2項「每筆紅利回饋方式」所示，可知紅利計算之始月係「106年7月」。

Sheet 附表七之一
A1: 附表七之一、詠語公司中央廚房投資案每投資單位於各期償還本金及給付紅利計算表
A2: 期數 （註1） | B2: 月份 （註2） | C2: 單位現金流量 (A)（註3） | D2: 各期給付紅利金額 (B)=(前期D)*實質期間利率 | E2: 各期償還投資本金金額 (C)=(A)-(B) | F2: 每單位未償還之 投資本金餘額 (D)=(前期D)+(C) | G2: 投資單位數 (E)（註6） | H2: 各期實際償還之 投資本金 (F)=(C)*(E)（註6） | I2: 各期實際償還之 本利和 (F)=(C)*(E)（註6）
A3: 0 | B3: - | C3: 1000000 | D3: - | E3: - | F3: =C3 -> 1000000 | G3: - | H3: - | I3: -
A4: 1 | B4: 106/07 | C4: -80000 | D4: =-F3*$D$40 -> -73845.636 | E4: =C4-D4 -> -6154.3635 | F4: =F3+E4 -> 993845.64 | G4: 5 | H4: =E4*G4 -> -30771.818 | I4: =C4*G4 -> -400000
A5: 2 | B5: 106/08 | C5: -80000 | D5: =-F4*$D$40 -> -73391.164 | E5: =C5-D5 -> -6608.8364 | F5: =F4+E5 -> 987236.8
A6: 3 | B6: 106/09 | C6: -80000 | D6: =-F5*$D$40 -> -72903.13 | E6: =C6-D6 -> -7096.8701 | F6: =F5+E6 -> 980139.93
A7: 4 | B7: 106/10 | C7: -80000 | D7: =-F6*$D$40 -> -72379.057 | E7: =C7-D7 -> -7620.943 | F7: =F6+E7 -> 972518.99
A8: 5 | B8: 106/11 | C8: -80000 | D8: =-F7*$D$40 -> -71816.284 | E8: =C8-D8 -> -8183.7164 | F8: =F7+E8 -> 964335.27
A9: 6 | B9: 106/12 | C9: -80000 | D9: =-F8*$D$40 -> -71211.952 | E9: =C9-D9 -> -8788.0482 | F9: =F8+E9 -> 955547.22
A10: 7 | B10: 107/01 | C10: -80000 | D10: =-F9*$D$40 -> -70562.993 | E10: =C10-D10 -> -9437.0072 | F10: =F9+E10 -> 946110.22
A11: 8 | B11: 107/02 | C11: -80000 | D11: =-F10*$D$40 -> -69866.111 | E11: =C11-D11 -> -10133.889 | F11: =F10+E11 -> 935976.33
A12: 9 | B12: 107/03 | C12: -80000 | D12: =-F11*$D$40 -> -69117.768 | E12: =C12-D12 -> -10882.232 | F12: =F11+E12 -> 925094.09
A13: 10 | B13: 107/04 | C13: -80000 | D13: =-F12*$D$40 -> -68314.162 | E13: =C13-D13 -> -11685.838 | F13: =F12+E13 -> 913408.26
A14: 11 | B14: 107/05 | C14: -80000 | D14: =-F13*$D$40 -> -67451.214 | E14: =C14-D14 -> -12548.786 | F14: =F13+E14 -> 900859.47
A15: 12 | B15: 107/06 | C15: -80000 | D15: =-F14*$D$40 -> -66524.541 | E15: =C15-D15 -> -13475.459 | F15: =F14+E15 -> 887384.01
A16: 13 | B16: 107/07 | C16: -80000 | D16: =-F15*$D$40 -> -65529.437 | E16: =C16-D16 -> -14470.563 | F16: =F15+E16 -> 872913.45
... A39: 36 | B39: 109/06 | C39: -80000 | D39: =-F38*$D$40 -> -5501.3968 | E39: =C39-D39 -> -74498.603 | F39: =F38+E39 -> 1.1021621e-07
A40: 實質期間利率（註4） | D40: =IRR(C3:C39) -> 0.073845636 | G40: 小計 | H40: =SUM(H3:H39) -> -30771.818 | I40: =SUM(I3:I39) -> -400000
A41: 實質年利率（註5） | D41: =D40*12 -> 0.88614764
A42: 註1： | B42: 依投資契約，係每1個月為一期，投資期間為3年，故總期數為36期（=12*3）
A43: 註2： | B43: 按附表七「紅利計算起始月份」欄位所示，本投資方案最早計算紅利之起始月份係「106/07」，又依投資契約係每一個月發放一次，故計算紅利期間如上表該欄位所示。
A44: 註3： | B44: 依投資契約，每投資單位為100萬元，每單位每月領得8萬元。
A45: 註4： | B45: 係以EXCEL之IRR公式計算而得。IRR係指由投資方案產生之一序列現金流量中，反推出該投資案之內部報酬率。其計算方式為將每筆現金流量以利率rate折現，然後令所有現金流量的淨現值(NPV)等於零(0 = C0 + C1/(1+rate)^1 + C2/(1+rate)^2+ C3/(1+rate)^3....+ Cn/(1+rate)^n))下所得之rate，該rate就稱為內部報酬率。
A46: 註5： | B46: 係以實質期間利率（係每一個月為一期）*12而得。
A47: 註6： | B47: 按投資人謝俊吉証述「郭绍偉及賴煥昇都拿了一期，我沒有拿到，因為他八月時就跟我講他財務出現問題」等語（A1P137），與郭紹偉証述「張文亮有在106年7月間，支付1個月的紅利8萬元給我，之後就沒再繼續支付紅利給我（A1P71）」等人相符，按前開証述，僅有投資人郭紹偉、賴煥升，合計共5個投資單位領取「104/07」一期之紅利。

Sheet 附表八（總）
A1: 附表八、被告張文亮吸收投資款、借款及支付紅利、利息金額彙總表
A2: 投資方案 | B2: 投資金額(A) | D2: 已返還投資本金(B) | F2: 沒收金額 (C)=(A)-(B) | G2: 已返還投資本利和(D) | I2: (E)=(A)-(D) （註）
B3: 金額 | C3: 計算明細 | D3: 金額 | E3: 計算明細 | G3: 金額 | H3: 計算明細
A4: 一 | B4: =附表一!G27 -> 6600000 | C4: 附表一 | D4: =附表一之一!H64 -> -950096.2 | E4: 附表一之一 | F4: =B4+D4 -> 5649903.8 | G4: =附表一之一!I64 -> -7950000 | H4: 附表一之一 | I4: 0
A5: 二 | B5: =附表二!G14 -> 6000000 | C5: 附表二 | D5: =附表二之一!H28 -> -1055461.3 | E5: 附表二之一 | F5: =B5+D5 -> 4944538.7 | G5: =附表二之一!I28 -> -5400000 | H5: 附表二之一 | I5: =B5+G5 -> 600000
A6: 三 | B6: =附表三!F11 -> 10000000 | C6: 附表三 | D6: =附表三之一!G64 -> -3647064.4 | E6: 附表三之一 | F6: =B6+D6 -> 6352935.6 | G6: =附表三之一!H64 -> -10700000 | H6: 附表三之一 | I6: 0
A7: 四 | B7: =附表四!G55 -> 30000000 | C7: 附表四 | D7: =附表四之一!H64 -> -651378.52 | E7: 附表四之一 | F7: =B7+D7 -> 29348621 | G7: =附表四之一!I64 -> -9000000 | H7: 附表四之一 | I7: =B7+G7 -> 21000000
A8: 五 | B8: =附表五!G14 -> 11000000 | C8: 附表五 | D8: =附表五之一!H40 -> 311540.91 | E8: 附表五之一 | F8: =B8+D8 -> 11311541 | G8: =附表五之一!I40 -> -2200000 | H8: 附表五之一 | I8: =B8+G8 -> 8800000
A9: 六 | B9: =附表六!G29 -> 15000000 | C9: 附表六 | D9: =附表六之一!H40 -> -324646.74 | E9: 附表六之一 | F9: =B9+D9 -> 14675353 | G9: =附表六之一!I40 -> -1800000 | H9: 附表六之一 | I9: =B9+G9 -> 13200000
A10: 七 | B10: =附表七!G10 -> 15000000 | C10: 附表七 | D10: =附表七之一!H40 -> -30771.818 | E10: 附表七之一 | F10: =B10+D10 -> 14969228 | G10: =附表七之一!I40 -> -400000 | H10: 附表七之一 | I10: =B10+G10 -> 14600000
A11: 合計 | B11: =SUM(B4:B10) -> 93600000 | D11: =SUM(D4:D10) -> -6347878 | F11: =SUM(F4:F10) -> 87252122 | G11: =SUM(G4:G10) -> -37450000 | I11: =SUM(I4:I10) -> 58200000
A12: 註： | B12: 若返還投資本利和已大於投資金額，則載為0。

Sheet 附表九遠雄報表
A1: 附表九、被告張文亮變造遠雄公司電子對帳單對照彙總表
A2: 營業額 （未稅） | B2: 遠雄提供予被告之報表 | C2: 卷證出處 | D2: 被告提供予投資人之報表 | E2: 卷證出處
A3: 105年3月 | B3: 920462 | C3: A6P191 | D3: 1440380 | E3: A6P282
A4: 105年4月 | B4: 1155081 | C4: A6P196 | D4: 1855081 | E4: A6P283
A5: 105年5月 | B5: NA | C5: NA | D5: 2380390 | E5: A6P284
A6: 105年6月 | B6: 1237312 | C6: A6P204 | D6: 2126272 | E6: A6P285
A7: 105年7月 | B7: 1622459 | C7: A6P211 | D7: 2562459 | E7: A6P286
A8: 105年8月 | B8: 1300283 | C8: A6P224 | D8: 2450283 | E8: A6P287
A9: 105年9月 | B9: 999966 | C9: A1P114-115、 A6P230 | D9: 2129966 | E9: A1P116-117、 A6P288
A10: 105年10月 | B10: 1297883 | C10: A6P235 | D10: 2407986 | E10: A6P289
A11: 105年11月 | B11: 799770 | C11: A6P247 | D11: 2148185 | E11: A6P290
A12: 105年12月 | B12: 876639 | C12: A6P251 | D12: 2308478 | E12: A6P291
A13: 106年1月 | B13: 1039946 | C13: A6P254 | D13: 2479969 | E13: A6P292
A14: 106年2月 | B14: 1097813 | C14: A6P259 | D14: 2508758 | E14: A6P293
A15: 106年3月 | B15: 939009 | C15: A6P262 | D15: 2031814 | E15: A6P294
A16: 106年4月 | B16: 974458 | C16: A6P268 | D16: 2270819 | E16: A6P295
A17: 106年5月 | B17: 993664 | C17: A6P274 | D17: 2407529 | E17: A6P296
A18: 106年6月 | B18: 865629 | C18: A6P278 | D18: 2007933 | E18: A6P297
A19: 106年7月 | B19: NA | C19: NA | D19: 2353662 | E19: A6P298

Sheet 附表十全聯報表
A1: 附表十、被告張文亮變造全聯公司電子對帳單對照彙總表
A2: 營業額 | B2: 全聯提供予被告之報表 | C2: 卷證出處 | D2: 被告提供予投資人之報表 | E2: 卷證出處
A3: 106年1月 | B3: 319553 | C3: A6P300 | D3: 519553 | E3: A6P315
A4: 106年2月 | B4: 1393909 | C4: A6P302 | D4: 3893909 | E4: A6P316
A5: 106年3月 | B5: 619476 | C5: A6P304 | D5: 3319476 | E5: A6P317
A6: 106年4月 | B6: 613753 | C6: A1P124-125、 A6P306 | D6: 4013753 | E6: A6P318
A7: 106年5月 | B7: 488995 | C7: A6P308 | D7: 3888995 | E7: A6P319
A8: 106年6月 | B8: 312600 | C8: A6P310 | D8: 3412600 | E8: A6P320
A9: 106年7月 | B9: 505122 | C9: A6P313 | D9: 3505122 | E9: A6P321
