Workbook

Sheet 附表1
A1: 附表1
A2: 項次 | B2: 內容 | C2: 原告主張 | E2: 被告主張 | G2: 本院認定
C3: 金額 | D3: 簡要說明 | E3: 金額 | F3: 簡要說明 | G3: 金額 | H3: 備註
A4: 一 | B4: 原告本件請求款項
A5: (一) | B5: 工程尾款 | C5: 1250240 | E5: =C5 -> 1250240 | G5: =C5 -> 1250240 | H5: 兩造不爭執
A6: (二) | B6: 保留款 | C6: 531353 | E6: =C6 -> 531353 | G6: =C6 -> 531353 | H6: 兩造不爭執
A7: (三) | B7: 追加工程款
A8: 1 | B8: 避雷針工程 | C8: =附表2!F18 -> 233835 | D8: 原證3、原證10、卷二53之附表一、原證12、原證13、原證14 | E8: =附表2!H16 -> 35000 | F8: 卷二38之附表1 | G8: =附表2!J18 -> 135100 | H8: 詳判決後附之附表2
A9: 2 | B9: 配電盤工程 | C9: =附表3!F30 -> 32994 | D9: 原證4、原證5 | E9: =附表3!H30 -> 18894 | F9: 卷二39之附表2 | G9: =附表3!J30 -> 29135 | H9: 詳判決後附之附表3
A10: 3 | B10: 消防送審變更工程 | C10: =附表4!F75 -> 583010 | D10: 原證6、原證7、原證8 | E10: =附表4!I74 -> -5371 | F10: 1.卷二120至132之附表5 2.卷二172至175之附表6 | G10: =附表4!L75 -> 525799 | H10: 詳判決後附之附表4
A11: 4 | B11: 項次(三)-小計 | C11: =SUM(C8:C10) -> 849839 | E11: =SUM(E8:E10) -> 48523 | G11: =SUM(G8:G10) -> 690034
A12: (四) | B12: 項次一-合計(項次(一)+(二)+(三)) | C12: =C5+C6+C11 -> 2631432 | E12: =E5+E6+E11 -> 1830116 | G12: =G5+G6+G11 -> 2471627
A13: 二 | B13: 被告主張之扣款及抵銷抗辯
A14: (一) | B14: 被告主張除原證7外尚應追減金額部分 | E14: =附表5!J45*-1 -> 182411 | F14: 1.卷二291之附表9 2.卷三138至147之附表11 | G14: 0 | H14: 詳判決後附之附表5
A15: (二) | B15: 代雇工施作空調二次側工程 | F15: 1.請求權：民法493條第2項、第176條第1項、第495條第1項(卷二81至83)。 2.金額更正為1062064元
A16: 1 | B16: 向錦億實業股份有限公司採購電線及電纜 | E16: 529484 | F16: 被證1 | G16: 0
A17: 2 | B17: 向權能欣業有限公司採購五金另料 | E17: 4799 | F17: 被證2 | G17: 0
A18: 3 | B18: 向鈞鴻機電股份有限公司採購電源盤 | E18: 305781 | F18: 被證3 | G18: 0
A19: 4 | B19: 委由明鑫工程行施作箱體固定拉線及接線 | E19: 222000 | F19: 被證4 | G19: 0
A20: 5 | B20: 項次(二)-小計 | C20: =SUM(C16:C19) -> 0 | E20: =SUM(E16:E19) -> 1062064 | G20: =SUM(G16:G19) -> 0
A21: (三) | B21: 代雇工施作拆除及搬遷康華公司之電器設備及安裝 | F21: 請求權：民法493條第2項、第176條第1項、第495條第1項
A22: 1 | B22: 應扣除項次43「運雜費」之「配電箱定位安裝工資(併盤費用&另料)」 | C22: 113400 | D22: 同意不請領(卷二51反) | E22: 113400 | F22: 未施作不得請求本項費用 | G22: =E22 -> 113400 | H22: 兩造不爭執
A23: 2 | B23: 委由利陽水電工程有限公司向台電申請臨時廠之停電及復電 | E23: 55000 | F23: 被證33 | G23: 0
A24: 3 | B24: 委由茂璽水電工程有限公司施作拆除臨時廠電器設備 | E24: 90000 | F24: 被證34 | G24: =E24 -> 90000
A25: 4 | B25: 代施作「RC基座工料費」費用 | E25: 53598 | F25: 1.施作RC基座支出材料費為27253元(卷三241反) 2.施作RC基座工資26345元（卷三242反） 3.合計為53598元（被告附表8） | G25: 0 | H25: 已含於項次1扣款內
A26: 5 | B26: 代向建拓起重工程有限公司租用高空作業車 | E26: 15750 | F26: 被證35 | G26: 0
A27: 6 | B27: 項次(三)-小計 | C27: =SUM(C22:C26) -> 113400 | E27: =SUM(E22:E26) -> 327748 | G27: =SUM(G22:G26) -> 203400
A28: (四) | B28: 代雇工施作排水溝配管工程(委由宸銓企業社施作) | E28: 123228 | F28: 1.請求權：民法493條第2項、第176條第1項、第495條第1項 2.證據：被證36 | G28: 0
A29: (五) | B29: 清運垃圾雜物費用 | F29: 1.請求權：系爭契約第15條第4項 2.原告應按工程款金額比例10.24％分攤費用
A30: 1 | B30: 委由春泰清潔有限公司清運生活垃圾 | C30: 3927 | D30: 同意分攤3927元(卷二78、卷三215)。 | E30: 8282 | F30: 被證7 | G30: =C30 -> 3927
A31: 2 | B31: 委由育嵩企業清運工程廢棄物 | E31: 99010 | F31: 被證8、被證37 | G31: =E31 -> 99010
A32: 3 | B32: 委由昆宏國際清運營建廢棄物棄土 | E32: 116122 | F32: 被證9 | G32: 0
A33: 4 | B33: 委由鐽榮土木包工業清運垃圾及廢土等 | E33: =ROUND(101850*10.24/100,0) -> 10429 | F33: 被證38至44 | G33: 0
A34: 5 | B34: 項次(五)-小計 | C34: =SUM(C30:C33) -> 3927 | E34: =SUM(E30:E33) -> 233843 | G34: =SUM(G30:G33) -> 102937
A35: (六) | B35: 保全費 | C35: 4096 | D35: 同意按承攬總價比例10.24%負擔4,096元(卷二147) | E35: 40000 | F35: 1.請求權：系契約第18條第3項、民法第546條第1項、第176條第1項 2.證據：被證10 | G35: =C35 -> 4096
A36: (七) | B36: 代採購材料費用 | E36: 1363496 | F36: 1.請求權：民法第546條第1項 2.證據：被證20 | G36: 0
A37: (八) | B37: 承租發電機費用(測試及消防檢查) | C37: 10328 | D37: 同意負擔(卷二147反) | E37: 10328 | F37: 1.請求權：民法第176條第1項、第495條第1項 2.證據：被證16-1 | G37: =E37 -> 10328 | H37: 兩造不爭執
A38: (九) | B38: 項次二-合計(項次(一)+(二)+(三)+(四)+(五)+(六)+(七)+(八)) | C38: =C14+C20+C27+C28+C34+C35+C37+C36 -> 131751 | E38: =E14+E20+E27+E28+E34+E35+E37+E36 -> 3343118 | G38: =G14+G20+G27+G28+G34+G35+G37+G36 -> 320761
A39: 三 | B39: 原告尚得請求之金額(項次一-二) | C39: =C12-C38 -> 2499681 | E39: =E12-E38 -> -1513002 | G39: =G12-G38 -> 2150866

Sheet 附表2
A1: 附表2「避雷針工程」
A2: 項次 | B2: 工作項目 | C2: 原告主張 (原證10) | H2: 被告抗辯 (卷二38之附表1、卷二280至281) | J2: 本院認定
C3: 單位 | D3: 數量 | E3: 單價 | F3: 複價 | G3: 備註 | H3: 金額 | I3: 備註 | J3: 金額 | K3: 備註
A4: 一 | B4: 進口放電式避雷針 | C4: 組 | D4: 2 | E4: 37500 | F4: =D4*E4 -> 75000 | G4: 1.原證3：陳財源核給避雷針2組，94,600元。 2.實際購買金額為67,200元(卷二160)。 3.證據：原證3、10、11、12、13、14 | H4: 35000 | I4: 1.1組避雷針單價15,000元，1組角座單價2,500元，故1組避雷器單價應為17,500元，2組35,000元。(卷二280) 2.證據：被證27-1、30 | J4: 94600 | K4: 依原證12所核定金額13萬5100元(含稅)計價。
A5: 二 | B5: 避雷針座(不銹鋼) | C5: 組 | D5: 2 | E5: 9800 | F5: =D5*E5 -> 19600
A6: 三 | B6: 接地檢視盤 | C6: 組 | D6: 2 | E6: 4850 | F6: =D6*E6 -> 9700 | G6: 1.原證3：陳財源核給原證3第1、2項10,500元，第5、6、7項3,0000元。 2.證據：原證3、10、11、12、13、14。 | I6: 已含於表一.A.一.48「接地工程」費用中(卷二280反)。
A7: 四 | B7: 避雷針專用銅棒 | C7: 支 | D7: 18 | E7: 1400 | F7: =D7*E7 -> 25200 | J7: 40500
A8: 五 | B8: 火藥焊接 | C8: 處 | D8: 20 | E8: 480 | F8: =D8*E8 -> 9600
A9: 六 | B9: 避雷針專用裸銅線 | C9: 米 | D9: 160 | E9: 260 | F9: =D9*E9 -> 41600
A10: 七 | B10: 上述施工計：18支 | C10: 工 | D10: 14 | E10: 3000 | F10: =D10*E10 -> 42000
B11: 釘接地棒 2工
B12: 火藥焊接 2工
B13: 接地測試箱設置 2工
B14: 配管配線 4工
B15: 安裝基座及焊接 4工
B16: 小計 | F16: =SUM(F4:F15) -> 222700 | H16: =SUM(H4:H15) -> 35000
B17: 5%營業稅 | F17: =F16*0.05 -> 11135
B18: 含稅合計 | F18: =SUM(F16:F17) -> 233835 | J18: =SUM(J4:J15) -> 135100 | K18: 含稅

Sheet 附表3
A1: 附表3「配電盤工程」
A2: 項次 | B2: 工作項目 | C2: 原告主張 (原證4) | H2: 被告抗辯 (卷二39之附表2、卷二281反至282) | J2: 本院認定
C3: 單位 | D3: 數量 | E3: 單價 | F3: 複價 | G3: 備註 | H3: 金額 | I3: 備註 | J3: 金額 | K3: 備註
A4: 壹 | B4: 配電盤定位固定
A5: 一 | B5: 1PK盤 | I5: 配電盤定位固定屬價目表一.A.49「鋁製線架工程(陽極處理)」，非屬追加工程。
A6: 1 | B6: 鋁陽極開放式線槽300*100 3/M | C6: 支 | D6: 1 | E6: 860 | F6: =D6*E6 -> 860 | J6: =F6 -> 860
A7: 2 | B7: 線槽另料 | C7: 式 | D7: 1 | E7: 129 | F7: =D7*E7 -> 129 | J7: =F7 -> 129
A8: 二 | B8: ACMP-1F盤
A9: 1 | B9: 鋁陽極開放式線槽200*100 3/M | C9: 支 | D9: 1 | E9: 810 | F9: =D9*E9 -> 810 | J9: =F9 -> 810
A10: 2 | B10: 線槽另料 | C10: 式 | D10: 1 | E10: 145 | F10: =D10*E10 -> 145 | J10: =F10 -> 145
A11: 3 | B11: 高腳C型鋼 | C11: 支 | D11: 1 | E11: 260 | F11: =D11*E11 -> 260 | J11: =F11 -> 260
A12: 三 | B12: 盤體固定工資 | C12: 工 | D12: 2 | E12: 2500 | F12: =D12*E12 -> 5000 | J12: =F12 -> 5000
B13: 壹小計 | F13: =SUM(F6:F12) -> 7204 | H13: =SUM(H6:H12) -> 0 | J13: =SUM(J6:J12) -> 7204
A14: 貳 | B14: 守衛室雨水排水
A15: 1 | B15: PVC彎頭 45度 8" | C15: 只 | D15: 2 | E15: 345 | F15: =D15*E15 -> 690 | I15: 守衛室雨水排水屬壹層排水平面圖圖號S6-1約定應施作之項目，非屬追加工程。 | J15: 0
A16: 2 | B16: PVC彎頭 90度 8" | C16: 只 | D16: 1 | E16: 380 | F16: =D16*E16 -> 380
A17: 3 | B17: PVC管帽 8" | C17: 只 | D17: 1 | E17: 105 | F17: =D17*E17 -> 105
A18: 4 | B18: 配管工資 | C18: 工 | D18: 1 | E18: 2500 | F18: =D18*E18 -> 2500
B19: 貳小計 | F19: =SUM(F15:F18) -> 3675 | H19: =SUM(H15:H18) -> 0 | J19: 0
A20: 參 | B20: 臨時水電拆除
A21: 1 | B21: 工資 | C21: 工 | D21: 1 | E21: 2500 | F21: 2500 | H21: =F21 -> 2500 | I21: 同意以原證4單價計價(卷二282反) | J21: =H21 -> 2500 | K21: 兩造不爭執
B22: 參小計 | F22: 2500 | H22: 2500 | J22: =SUM(J21) -> 2500
A23: 肆 | B23: 臨時電重新配置
A24: 1 | B24: PVC 600V 5.5mm2*3C | C24: M | D24: 180 | E24: 55 | F24: =E24*D24 -> 9900 | H24: =F24 -> 9900 | I24: 同意以原證4單價計價(卷二282反) | J24: =H24 -> 9900 | K24: 兩造不爭執
A25: 2 | B25: 配線另料 | C25: 式 | D25: 1 | E25: 594 | F25: =E25*D25 -> 594 | H25: =F25 -> 594 | J25: =H25 -> 594
A26: 3 | B26: 工資 | C26: 工 | D26: 2 | E26: 2500 | F26: =E26*D26 -> 5000 | H26: =F26 -> 5000 | J26: =H26 -> 5000
B27: 肆小計 | F27: =SUM(F24:F26) -> 15494 | H27: =SUM(H24:H26) -> 15494 | J27: =SUM(J24:J26) -> 15494
A28: 伍 | B28: 運雜費 | C28: 式 | D28: 1 | E28: 2550 | F28: 2550 | I28: 本項屬原合約範圍之作，報酬已包含於系爭合約中，依系爭契約第3條第2項約定，原告不得另行請求。 | J28: =F28 -> 2550
B29: 壹至伍總計(未稅) | F29: =F13+F19+F22+F27+F28 -> 31423 | H29: =H13+H19+H22+H27+H28 -> 17994 | J29: =J13+J19+J22+J27+J28 -> 27748
B30: 壹至伍總計(含稅) | F30: =ROUND(F29*1.05,) -> 32994 | H30: =ROUND(H29*1.05,) -> 18894 | J30: =ROUND(J29*1.05,) -> 29135

Sheet 附表4
A1: 附表4「消防送審變更」
A2: 項次 | B2: 工作項目 | C2: 原告主張 (原證7) | I2: 被告抗辯 (卷二120至132之附表5、卷二172至175之附表6) | L2: 本院認定
C3: 單 位 | D3: 數量 | E3: 單價 | F3: 複價 | G3: 金額更動 | H3: 備註 | I3: 追加 | J3: 追減 | K3: 備註 | L3: 金額 | M3: 備註
A4: 壹 | B4: 消防警報及廣播設備
A5: 1 | B5: 偵煙式探測器(局限型二種，非蓄積型) | C5: 只 | D5: 32 | E5: 276 | F5: =D5*E5 -> 8832 | G5: 8352 | H5: 原告同意追加8,352元(卷二146、卷三223)。 | I5: 8352 | K5: 經被告前機電主任清點後，確認現場僅施作177只，扣除合約數量141只，追加36只，依合約金額計算追加金額應為8,352元。 | L5: =I5 -> 8352 | M5: 兩造不爭執
A6: 2 | B6: PVC軟管16mm∮×2.0mm(1/2") | C6: M | D6: 200 | E6: 12 | F6: =D6*E6 -> 2400 | G6: 1800 | H6: 1.此項業經被告人員翁震坤確認，應無違誤。 2.同意參照契約單價9元計價，應追加1,800元(卷三223) | K6: 經被告公司前任機電主任陳財源至施工現場逐一核對及清點後，此工項並未有追加數量之情形。 | L6: =G6 -> 1800
A7: 3 | B7: 600V75°1.2mm耐熱線(HIV) | C7: M | D7: 500 | E7: 7 | F7: 3600 | G7: 3500 | H7: 1.此項業經被告人員翁震坤確認，應無違誤。 2.同意參照契約單價7元計價，應追加3,500元 | L7: =G7 -> 3500
A8: 4 | B8: 鐵軟管16mm∮×2.0mm(1/2") | C8: M | D8: 100 | E8: 14 | F8: 1440 | H8: 此項係應消防局要求而追加。 | K8: 此為原告依系爭合約第3條第1項約定應提供之所需材料，依同條第2項之約定，原告不得請求追加款。 | L8: =F8 -> 1440
A9: 5 | B9: 零星材料 | C9: 式 | D9: 1 | E9: 1800 | F9: =D9*E9 -> 1800 | H9: 此項係應消防局要求而追加。 | L9: =F9 -> 1800
A10: 6 | B10: 高空作業車及運什費 | C10: 式 | D10: 1 | E10: 21600 | F10: =D10*E10 -> 21600 | H10: 此項係應消防局要求而追加。 | L10: =F10 -> 21600
A11: 7 | B11: 工資 | C11: 式 | D11: 1 | E11: 114000 | F11: =D11*E11 -> 114000 | H11: 此項係應消防局要求而追加。 | I11: 12000 | J11: 48000 | K11: 1.因追加「偵煙式探測器」項目36只，施作此追加部分需「2人2工」，以每工3,000元計，追加金額為12,000元(計算式：4工×3,000元)。 2.於契約「三、消防設備工程」之「A、消防設備工程」之「第17項，EMT電管 19mm∮(1/2”)」部分(卷一第46頁)少做822.5M，而施作822.5M之「EMT電管 19mm∮(1/2”)」需「2人8工」，共計16工，以每工3,000元計算，應追減工資48,000元。 | L11: =F11 -> 114000
B12: 壹小計 | F12: =SUM(F5:F11) -> 153672 | I12: =SUM(I5:I11) -> 20352 | J12: =SUM(J5:J11) -> 48000 | L12: =SUM(L5:L11) -> 152492
A13: 貳 | B13: 自然排煙窗追減工程
A14: 1 | B14: 自然排煙窗控制盤 | C14: 只 | D14: -2 | E14: 2160 | F14: =D14*E14 -> -4320 | G14: -94264 | H14: 原告同意被告所述，自然排煙窗追減工程追減94,264元(卷二146反、卷三224反)。 | J14: 6615 | K14: 因一樓排煙窗高度太低不符相關消防法規規定，且3樓夾層天花板有隔間牆，故無法施作自然排煙窗，遂追減「自然排煙窗工程」，追加「機械排煙工程」 | L14: =J26*-1 -> -94264 | M14: 兩造不爭執
A15: 2 | B15: 手動啟動開關 | C15: 只 | D15: -2 | E15: 336 | F15: =D15*E15 -> -672 | J15: 945
A16: 3 | B16: 電動伸縮桿 | C16: 隻 | D16: -15 | E16: 2760 | F16: =D16*E16 -> -41400 | J16: 45360
A17: 4 | B17: PVC管16mm∮×2.0mm(1/2") | C17: M | D17: -40 | E17: 12 | F17: =D17*E17 -> -480 | J17: 378
A18: 5 | B18: PVC管28mm∮×3.0mm(1") | C18: M | D18: -50 | E18: 26 | F18: -1320 | J18: 1313
A19: 6 | B19: PVC管接頭 | C19: 式 | D19: -1 | E19: 360 | F19: =D19*E19 -> -360 | J19: 567
A20: 7 | B20: 840度C 2.0mms耐燃線1/C(FR-CV) | C20: M | D20: -135 | E20: 26 | F20: -3564 | J20: 3260
A21: 8 | B21: 380度C 1.6mms耐熱線1/C(FR-CV) | C21: M | D21: -90 | E21: 12 | F21: =D21*E21 -> -1080 | J21: 1040
A22: 9 | B22: 600V級HIV耐熱銅導線1.2mm | C22: M | D22: -490 | E22: 7 | F22: -3528 | J22: 3602
A23: 10 | B23: 零星工料 | C23: 式 | D23: -1 | E23: 2400 | F23: =D23*E23 -> -2400 | J23: 4725
A24: 11 | B24: 運什費 | C24: 式 | D24: -1 | E24: 2400 | F24: =D24*E24 -> -2400 | J24: 2835
A25: 12 | B25: 工資 | C25: 式 | D25: -1 | E25: 25200 | F25: =D25*E25 -> -25200 | J25: 23625
B26: 貳小計 | F26: =SUM(F14:F25) -> -86724 | G26: =SUM(G14:G25) -> -94264 | I26: =SUM(I14:I25) -> 0 | J26: =SUM(J14:J25)-1 -> 94264
A27: 參 | B27: 機械排煙設備追加工程
A28: 1 | B28: 軸流式風機、150cm、20mmaq、2.26KW採用高溫排煙馬達 | C28: 台 | D28: 2 | E28: 27000 | F28: =D28*E28 -> 54000 | H28: － | I28: 54000 | K28: 被告不爭執。 | L28: =I28 -> 54000 | M28: 兩造不爭執
A29: 2 | B29: 排煙風機安裝工資 | C29: 式 | D29: 1 | E29: 12000 | F29: =D29*E29 -> 12000 | H29: 原告不同意合併計價。 | I29: 15000 | K29: 1.「排煙風機安裝工資」、「排煙閘門安裝工資」及「發電機排煙風管及安裝工資」應一併計算為「安裝工資」，共計5工。 2.此工項為追加之新增工項，依系爭合約第17條約定，應由雙方協議合理單價，而被告認每工3,000元係屬合理。故應追加15,000元(計算式：5工×3,000元)。 | L29: =F29 -> 12000
A30: 3 | B30: 2.26KW控制盤 | C30: 只 | D30: 2 | E30: 6000 | F30: =D30*E30 -> 12000 | H30: － | I30: 12000 | K30: 被告不爭執。 | L30: =I30 -> 12000 | M30: 兩造不爭執
A31: 4 | B31: 50CM*50CM排煙閘門 | C31: 只 | D31: 2 | E31: 4320 | F31: =D31*E31 -> 8640 | H31: － | I31: 8640 | K31: 被告不爭執。 | L31: =I31 -> 8640 | M31: 兩造不爭執
A32: 5 | B32: 排煙閘門安裝工資 | C32: 只 | D32: 2 | E32: 1800 | F32: =D32*E32 -> 3600 | H32: 原告不同意合併計價。 | K32: 本項已包含於項次2「排煙風機安裝工資」一併計算。 | L32: =F32 -> 3600
A33: 6 | B33: 手動開關(排煙機用) | C33: 只 | D33: 2 | E33: 480 | F33: =D33*E33 -> 960 | G33: -3070 | H33: 此項業經被告人員翁震坤確認，應無違誤。 同意扣3070元，但無負擔被告另行交由陳財源施工所支付工資9000元。(卷二146反) 同意追減3070元(卷三225) | J33: 3070 | K33: 經被告公司前任機電主任陳財源至施工現場逐一核對及清點後，確認1樓排煙手動開關2個未連工帶料施作、3樓排煙手動開關3個未連工帶料施作。故應追減3,070元(計算式：5只×614元)。 | L33: =-1*J33 -> -3070 | M33: 兩造不爭執
A34: 7 | B34: 指示燈 | C34: 組 | D34: 8 | E34: 150 | F34: =D34*E34 -> 1200 | H34: 此項業經被告人員翁震坤確認，應無違誤。 | K34: 指示燈含在控制盤體內，無須拆開，被告並未與原告追加此工項。此為原告依系爭合約第3條第1項約定應提供之所需材料，依同條第2項之約定，原告不得向被告請求追加款。 | L34: =F34 -> 1200
A35: 8 | B35: 排煙風管60cm*60cm #20 | C35: M | D35: 12 | E35: 3840 | F35: =D35*E35 -> 46080 | G35: 16440 | H35: 原告同意本項追加16,440元(卷二146反、卷三225)。 | I35: 16440 | K35: 本項追加金額應為16,440元。 | L35: =I35 -> 16440 | M35: 兩造不爭執
A36: 9 | B36: 防火風門 | C36: 只 | D36: 6 | E36: 4200 | F36: =D36*E36 -> 25200 | H36: 此項業經被告人員翁震坤確認，應無違誤。 | K36: 被告並未與原告追加此工項。此為原告依系爭合約第3條第1項約定應提供之所需材料，依同條第2項之約定，原告不得向被告請求追加款。 | L36: =F36 -> 25200
A37: 10 | B37: 發電機排煙風管及安裝工資 | C37: 式 | D37: 1 | E37: 6000 | F37: =D37*E37 -> 6000 | H37: 原告不同意合併計價。 | K37: 本項已包含於項次2「排煙風機安裝工資」一併計算。 | L37: =F37 -> 6000
A38: 11 | B38: 總機更改線路 | C38: 式 | D38: 1 | E38: 7200 | F38: =D38*E38 -> 7200 | H38: 此項業經被告人員翁震坤確認，應無違誤。 | K38: 被告並未要求更改總機線路，原告不得向被告主張追加並請款。 | L38: =F38 -> 7200
A39: 12 | B39: PVC PIPE 19mm∮(1/2") | C39: M | D39: 50 | E39: 13 | F39: 660 | H39: 此項業經被告人員翁震坤確認，應無違誤。 | K39: 被告並未與原告追加此工項。此為原告依系爭合約第3條第1項約定應提供之所需材料，依同條第2項之約定，原告不得向被告請求追加款。 | L39: =F39 -> 660
A40: 13 | B40: PVC PIPE 31mm∮(1") | C40: M | D40: 40 | E40: 30 | F40: =D40*E40 -> 1200 | H40: 此項業經被告人員翁震坤確認，應無違誤。 | L40: =F40 -> 1200
...

Sheet 附表5
A1: 附表5「被告主張除原證7外尚應追加減金額部分」
A2: 項次 | B2: 工作項目 | C2: 被告主張 (卷二291至298之附表9、對應契約單價說明如卷三138至147之附表11）
C3: 單位 | D3: 合約數量 | E3: 合約單價 | F3: 追加數量 | G3: 追加單價 | H3: 追減數量 | I3: 追減單價 | J3: 追加金額 | K3: 追減金額 | L3: 備註
A4: 一 | B4: 消防設備工程
A5: 1 | B5: EMT電管 19mm∮(1/2”) | C5: M | D5: 830 | E5: 33 | H5: 822.5 | I5: =E5 -> 33 | J5: =ROUND(F5*G5,0) -> 0 | K5: =ROUND(H5*I5,0) -> 27143
A6: 2 | B6: 380˚1.2mm耐熱線1/C(HR-CV) | C6: M | D6: 200 | E6: 9 | F6: 360 | G6: =E6 -> 9 | J6: =ROUND(F6*G6,0) -> 3240 | K6: =ROUND(H6*I6,0) -> 0
B7: 項次一-小計 | J7: =SUM(J5:J6) -> 3240 | K7: =SUM(K5:K6) -> 27143
A8: 二 | B8: 電信、弱電設備工程
A9: (一) | B9: 電信、弱電系統
A10: 3 | B10: PVC管 20mm∮×2.0mm(3/4”) | C10: M | D10: 490 | E10: 12 | H10: 245 | I10: =E10 -> 12 | J10: =ROUND(F10*G10,0) -> 0 | K10: =ROUND(H10*I10,0) -> 2940
A11: 4 | B11: PVC管 20mm∮×2.0mm(3/4”) | C11: M | D11: 1265 | E11: 12 | H11: 632.5 | I11: =E11 -> 12 | J11: =ROUND(F11*G11,0) -> 0 | K11: =ROUND(H11*I11,0) -> 7590
A12: 5 | B12: 全棟工資 | C12: 工 | H12: 12 | I12: 3000 | J12: =ROUND(F12*G12,0) -> 0 | K12: =ROUND(H12*I12,0) -> 36000
A13: (二) | B13: 3樓夾層少裝燈具12盞
A14: 6 | B14: 吸頂日光燈T5 FL14W/4 1∮220V | C14: 盞 | D14: 11 | E14: 1134 | H14: 12 | I14: =E14 -> 1134 | J14: =ROUND(F14*G14,0) -> 0 | K14: =ROUND(H14*I14,0) -> 13608
A15: 7 | B15: 當層樓工資 | C15: 工 | H15: 6 | I15: 3000 | J15: =ROUND(F15*G15,0) -> 0 | K15: =ROUND(H15*I15,0) -> 18000
A16: (三) | B16: 3樓辦公室天花板內電信線槽40M未施作
A17: 8 | B17: 直式鋁製線架200W×100H(弱電共用) | C17: M | D17: 50 | E17: 260 | H17: 40 | I17: =E17 -> 260 | J17: =ROUND(F17*G17,0) -> 0 | K17: =ROUND(H17*I17,0) -> 10400
A18: 9 | B18: 90度內彎上升線架接頭200W×100H(弱電共用) | C18: 只 | D18: 2 | E18: 576 | H18: 1 | I18: =E18 -> 576 | J18: =ROUND(F18*G18,0) -> 0 | K18: =ROUND(H18*I18,0) -> 576
A19: 10 | B19: 水平T型線架接頭(弱電共用) | C19: 只 | D19: 2 | E19: 523 | H19: 2 | I19: =E19 -> 523 | J19: =ROUND(F19*G19,0) -> 0 | K19: =ROUND(H19*I19,0) -> 1046
A20: 11 | B20: 附屬零件(連接片、固定片，馬車螺絲等） | C20: 式 | D20: 1 | E20: 7560 | H20: 1 | I20: 6048 | J20: =ROUND(F20*G20,0) -> 0 | K20: =ROUND(H20*I20,0) -> 6048
A21: 12 | B21: 零星材料 | C21: 式 | D21: 1 | E21: 14175 | H21: 1 | I21: 11340 | J21: =ROUND(F21*G21,0) -> 0 | K21: =ROUND(H21*I21,0) -> 11340
A22: 13 | B22: 當層樓工資 | C22: 工 | H22: 6 | I22: 3000 | J22: =ROUND(F22*G22,0) -> 0 | K22: =ROUND(H22*I22,0) -> 18000
A23: (四) | B23: 1樓中間線架後半部，約8米未按圖施工
A24: 14 | B24: CABLE TRAY 30W*10Hcm | C24: 米 | D24: 374 | E24: 308 | H24: 8 | I24: =E24 -> 308 | J24: =ROUND(F24*G24,0) -> 0 | K24: =ROUND(H24*I24,0) -> 2464
A25: 15 | B25: CABLE TRAY 30W*10Hcm 90˚平彎接頭 | C25: 只 | D25: 3 | E25: 614 | H25: 2 | I25: =E25 -> 614 | J25: =ROUND(F25*G25,0) -> 0 | K25: =ROUND(H25*I25,0) -> 1228
A26: 16 | B26: 管路吊架 | C26: 式 | D26: 1 | E26: 35910 | H26: 1 | I26: 768 | J26: =ROUND(F26*G26,0) -> 0 | K26: =ROUND(H26*I26,0) -> 768
A27: 17 | B27: 五金另料 | C27: 式 | D27: 1 | E27: 42525 | H27: 1 | I27: 910 | J27: =ROUND(F27*G27,0) -> 0 | K27: =ROUND(H27*I27,0) -> 910
A28: 18 | B28: 線架另料 | C28: 式 | D28: 1 | E28: 11340 | H28: 1 | I28: 243 | J28: =ROUND(F28*G28,0) -> 0 | K28: =ROUND(H28*I28,0) -> 243
A29: 19 | B29: 鋁製線架安裝工資 | C29: 式 | D29: 1 | E29: 56700 | H29: 1 | I29: 1213 | J29: =ROUND(F29*G29,0) -> 0 | K29: =ROUND(H29*I29,0) -> 1213
A30: (五) | B30: 3樓作業廠房燈具少裝1盞
A31: 20 | B31: 吸頂日光燈T5 FL14W/4 1∮220V | C31: 盞 | D31: 110 | E31: 1134 | H31: 1 | I31: =E31 -> 1134 | J31: =ROUND(F31*G31,0) -> 0 | K31: =ROUND(H31*I31,0) -> 1134
A32: 21 | B32: 當層樓工資 | C32: 工 | H32: 1 | I32: 3000 | J32: =ROUND(F32*G32,0) -> 0 | K32: =ROUND(H32*I32,0) -> 3000
A33: (六) | B33: 其他
A34: 22 | B34: 3樓辦公室茶水間圖面所示之3個插座，現場只做2個。 | C34: 工 | H34: 1 | I34: 1000 | J34: =ROUND(F34*G34,0) -> 0 | K34: =ROUND(H34*I34,0) -> 1000
A35: 23 | B35: 台電受電室外水龍頭下方未施作(圖有排水)連工帶料。 | C35: 工 | H35: 2 | I35: 3000 | J35: =ROUND(F35*G35,0) -> 0 | K35: =ROUND(H35*I35,0) -> 6000
A36: 24 | B36: 貨梯外側水龍頭下方未施作(圖有排水)連工帶料。 | C36: 工 | H36: 1 | I36: 3000 | J36: =ROUND(F36*G36,0) -> 0 | K36: =ROUND(H36*I36,0) -> 3000
B37: 項次二-小計 | J37: =SUM(J9:J36) -> 0 | K37: =SUM(K9:K36) -> 146508
A38: 三 | B38: 未施作MOF盤開孔穿線並接線
A39: 25 | B39: 一.A.一.43運雜費 一.A.一.43.1臨時廠原有設備拆遷及整併工料 | C39: 工 | H39: 2 | I39: 3000 | J39: =ROUND(F39*G39,0) -> 0 | K39: =ROUND(H39*I39,0) -> 6000
B40: 項次三-小計 | J40: =SUM(J39) -> 0 | K40: =SUM(K39) -> 6000
...
