Workbook

Sheet 附表1
A1: 附表1
A2: 項次 | B2: 內容 | C2: 原告主張 | D2: 被告抗辯 | E2: 判斷
A3: 壹 | B3: 原告請求被告給付
A4: 一 | B4: 系爭工程款及追加工程款
A5: 1 | B5: 原告完成系爭工程款 | C5: =附表2!G46 -> 3583367 | D5: =附表2!H46 -> 3467867 | E5: =附表2!I46 -> 3541367
A6: 2 | B6: 追加工程款 | C6: 760358 | D6: 0 | E6: =附表3!J30 -> 527982
A7: 3 | B7: 被告已付 | C7: -3771490 | D7: -3958950 | E7: =D7 -> -3958950
B8: 小計(項次一) | C8: =SUM(C5:C7) -> 572235 | D8: =SUM(D5:D7) -> -491083 | E8: =SUM(E5:E7) -> 110399
A9: 二 | B9: 系爭坑道工程款
A10: 1 | B10: 系爭坑道工程款 | C10: 315000 | D10: 300000 | E10: 300000
A11: 2 | B11: 被告委請他人施作費用 | C11: 0 | D11: -31500 | E11: 0
A12: 3 | B12: 被告已付 | C12: -300000 | D12: -300000 | E12: -300000
B13: 小計(項次二) | C13: =SUM(C10:C12) -> 15000 | D13: =SUM(D10:D12) -> -31500 | E13: =SUM(E10:E12) -> 0
A14: 三 | B14: 系爭排水溝工程款
A15: 1 | B15: 系爭排水溝工程款 | C15: 128048 | D15: 0 | E15: =附表4!M15 -> 87984
A16: 2 | B16: 被告已付 | C16: 0 | D16: 0 | E16: 0
B17: 小計(項次三) | C17: =SUM(C15:C16) -> 128048 | D17: =SUM(D15:D16) -> 0 | E17: =SUM(E15:E16) -> 87984
A18: 四 | B18: 代叫工料款
A19: 1 | B19: 代叫工料款 | C19: 521449 | D19: 0 | E19: =附表5!E24 -> 349847
A20: 2 | B20: 被告已付 | C20: -140000 | D20: 0 | E20: 0
B21: 小計(項次四) | C21: =SUM(C19:C20) -> 381449 | D21: =SUM(D19:D20) -> 0 | E21: =SUM(E19:E20) -> 349847
B22: 合計(項次壹)(項次一至四)（見卷四第60頁） | C22: =C8+C13+C17+C21 -> 1096732 | D22: =D8+D13+D17+D21 -> -522583 | E22: =E8+E13+E17+E21 -> 548230
A23: 貳 | B23: 被告抵銷抗辯
A24: 1 | B24: 被告施作詳細價目表項次25費用 | C24: 0 | D24: 116380 | E24: 37260
A25: 2 | B25: 被告施作詳細價目表項次28費用 | C25: 0 | D25: 233334 | E25: 0
A26: 3 | B26: 被告施作詳細價目表項次30費用 | C26: 0 | D26: 8000 | E26: 0
A27: 4 | B27: 被告施作詳細價目表項次31費用 | C27: 0 | D27: 6000 | E27: 0
A28: 5 | B28: 被告施作詳細價目表項次32費用 | C28: 0 | D28: 80000 | E28: 22040
A29: 6 | B29: 被告施作詳細價目表項次33費用 | C29: 0 | D29: 20000 | E29: 0
A30: 7 | B30: 被告施作詳細價目表項次34(及項次36費用) | C30: 0 | D30: 107100 | E30: 0
A31: 8 | B31: 被告施作詳細價目表項次35費用 | C31: 0 | D31: 17000 | E31: 0
A32: 9 | B32: 被告施作詳細價目表項次36費用 | D32: 併項次7 | E32: 併項次7
A33: 10 | B33: 被告施作詳細價目表項次39費用 | C33: 0 | D33: 58105 | E33: 0
B34: 小計（項次1至10） | D34: =SUM(D24:D33) -> 645919 | E34: =SUM(E24:E33) -> 59300
A35: 11 | B35: 漆面起泡瑕疵修補費用 | C35: 0 | D35: 574111 | E35: 0
A36: 12 | B36: 防水及漆面、內牆裂痕、防爆門等瑕疵修復費用 | C36: 0 | D36: 638400 | E36: 0
B37: 小計（項次11至12） | D37: =SUM(D35:D36) -> 1212511 | E37: =SUM(E35:E36) -> 0
A38: 13 | B38: 系爭導坑工程費用 | C38: 0 | D38: 31500 | E38: 0
A39: 14 | B39: 系爭排水溝工程費用 | C39: 0 | D39: 233334 | E39: 0
B40: 小計（項次13至14） | D40: =SUM(D38:D39) -> 264834 | E40: =SUM(E38:E39) -> 0
...

Sheet 附表2
A1: 附表2「系爭工程款計算表」
A2: 項次 | B2: 項目 | C2: 詳細價目表 | G2: 原告主張 複價 | H2: 被告抗辯 複價 | I2: 判斷 複價
C3: 單位 | D3: 數量 | E3: 單價 | F3: 複價
A4: 1 | B4: 放樣 | C4: m² | D4: 105 | E4: 80 | F4: =ROUND(D4*E4,) -> 8400 | G4: =ROUND(D4*E4,) -> 8400 | H4: =ROUND(D4*E4,) -> 8400 | I4: =ROUND(D4*E4,) -> 8400
A5: 2 | B5: 挖土石方 | C5: m³ | D5: 92 | E5: 300 | F5: =ROUND(D5*E5,) -> 27600 | G5: =ROUND(D5*E5,) -> 27600 | H5: =ROUND(D5*E5,) -> 27600 | I5: =ROUND(D5*E5,) -> 27600
A6: 3 | B6: 棄土（含棄土證明） | C6: m³ | D6: 83 | E6: 550 | F6: =ROUND(D6*E6,) -> 45650 | G6: =ROUND(D6*E6,) -> 45650 | H6: =ROUND(D6*E6,) -> 45650 | I6: =ROUND(D6*E6,) -> 45650
A7: 4 | B7: 回填土及夯實 | C7: m³ | D7: 9 | E7: 400 | F7: =ROUND(D7*E7,) -> 3600 | G7: =ROUND(D7*E7,) -> 3600 | H7: =ROUND(D7*E7,) -> 3600 | I7: =ROUND(D7*E7,) -> 3600
A8: 5 | B8: 現有爬梯及樹木拆除，屋頂樹枝、雜草砍除 | C8: 式 | D8: 1 | E8: 10000 | F8: =ROUND(D8*E8,) -> 10000 | G8: =ROUND(D8*E8,) -> 10000 | H8: =ROUND(D8*E8,) -> 10000 | I8: =ROUND(D8*E8,) -> 10000
A9: 6 | B9: 填碎石級配料夯實 | C9: m³ | D9: 23 | E9: 900 | F9: =ROUND(D9*E9,) -> 20700 | G9: =ROUND(D9*E9,) -> 20700 | H9: =ROUND(D9*E9,) -> 20700 | I9: =ROUND(D9*E9,) -> 20700
A10: 7 | B10: 0.2mmTH PE防潮布 | C10: m² | D10: 76 | E10: 120 | F10: =ROUND(D10*E10,) -> 9120 | G10: =ROUND(D10*E10,) -> 9120 | H10: =ROUND(D10*E10,) -> 9120 | I10: =ROUND(D10*E10,) -> 9120
A11: 8 | B11: 140kgf/c㎡ PC（預拌） | C11: m³ | D11: 11 | E11: 2000 | F11: =ROUND(D11*E11,) -> 22000 | G11: =ROUND(D11*E11,) -> 22000 | H11: =ROUND(D11*E11,) -> 22000 | I11: =ROUND(D11*E11,) -> 22000
A12: 9 | B12: 175kgf/c㎡ PC（預拌） | C12: m³ | D12: 15 | E12: 2100 | F12: =ROUND(D12*E12,) -> 31500 | G12: 未施作 | H12: 未施作 | I12: 未施作
A13: 10 | B13: 280kgf/c㎡ PC（預拌） | C13: m³ | D13: 254 | E13: 2300 | F13: =ROUND(D13*E13,) -> 584200 | G13: =ROUND(D13*E13,) -> 584200 | H13: =ROUND(D13*E13,) -> 584200 | I13: =ROUND(D13*E13,) -> 584200
A14: 11 | B14: 清水模板費 | C14: m² | D14: 97 | E14: 700 | F14: =ROUND(D14*E14,) -> 67900 | G14: =ROUND(D14*E14,) -> 67900 | H14: =ROUND(D14*E14,) -> 67900 | I14: =ROUND(D14*E14,) -> 67900
A15: 12 | B15: 普通模板費 | C15: m² | D15: 669 | E15: 700 | F15: =ROUND(D15*E15,) -> 468300 | G15: =ROUND(D15*E15,) -> 468300 | H15: =ROUND(D15*E15,) -> 468300 | I15: =ROUND(D15*E15,) -> 468300
A16: 13 | B16: 2800kgf/c㎡熱軋鋼筋（含運費，加工及組立） | C16: 噸 | D16: 4.5 | E16: 21500 | F16: =ROUND(D16*E16,) -> 96750 | G16: =ROUND(D16*E16,) -> 96750 | H16: =ROUND(D16*E16,) -> 96750 | I16: =ROUND(D16*E16,) -> 96750
A17: 14 | B17: 4200kgf/c㎡熱軋鋼筋（含運費，加工及組立） | C17: 噸 | D17: 38 | E17: 22500 | F17: =ROUND(D17*E17,) -> 855000 | G17: =ROUND(D17*E17,) -> 855000 | H17: =ROUND(D17*E17,) -> 855000 | I17: =ROUND(D17*E17,) -> 855000
A18: 15 | B18: 1：3水泥粉光 | C18: m² | D18: 61 | E18: 550 | F18: =ROUND(D18*E18,) -> 33550 | G18: =ROUND(D18*E18,) -> 33550 | H18: =ROUND(D18*E18,) -> 33550 | I18: =ROUND(D18*E18,) -> 33550
A19: 16 | B19: 1：3水泥粉光漆水性水泥漆（一底二度） | C19: m² | D19: 258 | E19: 850 | F19: =ROUND(D19*E19,) -> 219300 | G19: =ROUND(D19*E19,) -> 219300 | H19: =ROUND(D19*E19,) -> 219300 | I19: =ROUND(D19*E19,) -> 219300
A20: 17 | B20: 1：3水泥粉光漆彈性水泥漆（一底二度） | C20: m² | D20: 20 | E20: 950 | F20: =ROUND(D20*E20,) -> 19000 | G20: =ROUND(D20*E20,) -> 19000 | H20: =ROUND(D20*E20,) -> 19000 | I20: =ROUND(D20*E20,) -> 19000
A21: 18 | B21: 1：3水泥粉光（添加活性矽礦物防水劑） | C21: m² | D21: 298 | E21: 980 | F21: =ROUND(D21*E21,) -> 292040 | G21: =ROUND(D21*E21,) -> 292040 | H21: =ROUND(D21*E21,) -> 292040 | I21: =ROUND(D21*E21,) -> 292040
A22: 19 | B22: 機械整體粉光 | C22: m² | D22: 174 | E22: 80 | F22: =ROUND(D22*E22,) -> 13920 | G22: =ROUND(D22*E22,) -> 13920 | H22: =ROUND(D22*E22,) -> 13920 | I22: =ROUND(D22*E22,) -> 13920
A23: 20 | B23: 鋼管排架（含內牆粉刷施工架） | C23: m² | D23: 197 | E23: 600 | F23: =ROUND(D23*E23,) -> 118200 | G23: =ROUND(D23*E23,) -> 118200 | H23: =ROUND(D23*E23,) -> 118200 | I23: =ROUND(D23*E23,) -> 118200
A24: 21 | B24: 現有PC地坪、基座及部份RC擋牆拆除 | C24: 式 | D24: 1 | E24: 22600 | F24: =ROUND(D24*E24,) -> 22600 | G24: =ROUND(D24*E24,) -> 22600 | H24: =ROUND(D24*E24,) -> 22600 | I24: =ROUND(D24*E24,) -> 22600
A25: 22 | B25: 3"φ9cm高高帽落水銅罩 | C25: 座 | D25: 6 | F25: 0 | G25: 未施作 | H25: 未施作 | I25: 未施作
A26: 23 | B26: 3"φPVC排水管（5.5mm厚）含油漆及固定器 | C26: m | D26: 45 | F26: 0 | G26: 未施作 | H26: 未施作 | I26: 未施作
A27: 24 | B27: 4mmTH熱熔式防水氈 | C27: m² | D27: 107 | E27: 700 | F27: =ROUND(D27*E27,) -> 74900 | G27: =ROUND(D27*E27,) -> 74900 | H27: =ROUND(D27*E27,) -> 74900 | I27: =ROUND(D27*E27,) -> 74900
A28: 25 | B28: 屋面漿砌舖保麗龍隔熱磚 | C28: m² | D28: 86 | E28: 920 | F28: =ROUND(D28*E28,) -> 79120 | G28: 未施作 | H28: 未施作 | I28: 未施作
A29: 26 | B29: 1mmTH不鏽鋼及收邊材料 | C29: m | D29: 45 | E29: 3000 | F29: =ROUND(D29*E29,) -> 135000 | G29: =ROUND(D29*E29,) -> 135000 | H29: =ROUND(D29*E29,) -> 135000 | I29: =ROUND(D29*E29,) -> 135000
A30: 27 | B30: 1：3砂漿加＃20x3/4"網目龜甲網粉光 | C30: m² | D30: 7 | E30: 800 | F30: =ROUND(D30*E30,) -> 5600 | G30: 未施作 | H30: 未施作 | I30: 未施作
A31: 28 | B31: 排水溝（含蓋） | C31: m | D31: 10 | E31: 4500 | F31: =ROUND(D31*E31,) -> 45000 | G31: =ROUND(D31*E31,) -> 45000 | H31: 未施作 | I31: =G31 -> 45000
A32: 29 | B32: 10x15cm高PC門檻（含本體及外部地坪1：3水泥粉光） | C32: 式 | D32: 1 | E32: 5000 | F32: =ROUND(D32*E32,) -> 5000 | G32: =ROUND(D32*E32,) -> 5000 | H32: =ROUND(D32*E32,) -> 5000 | I32: =ROUND(D32*E32,) -> 5000
A33: 30 | B33: 戶外不銹鋼爬梯（含護圈） | C33: 座 | D33: 1 | F33: =ROUND(D33*E33,) -> 0 | G33: 未施作 | H33: 未施作 | I33: 未施作
A34: 31 | B34: 戶外不銹鋼爬梯（免護圈） | C34: 座 | D34: 1 | F34: =ROUND(D34*E34,) -> 0 | G34: 未施作 | H34: 未施作 | I34: 未施作
A35: 32 | B35: 舖耐磨EPOXY樹脂地坪 | C35: m² | D35: 69 | E35: 800 | F35: =ROUND(D35*E35,) -> 55200 | G35: 未施作 | H35: 未施作 | I35: 未施作
A36: 33 | B36: 既有變電箱施工中防護措施 | C36: 式 | D36: 1 | E36: 20000 | F36: =ROUND(D36*E36,) -> 20000 | G36: =ROUND(D36*E36,) -> 20000 | H36: 未施作 | I36: 0
A37: 34 | B37: 伸縮縫 | C37: m | D37: 11 | E37: 350 | F37: =ROUND(D37*E37,) -> 3850 | G37: 未施作 | H37: 未施作 | I37: 未施作
A38: 35 | B38: 不鏽鋼百葉窗120x120，活動式 | C38: 樘 | D38: 1 | E38: 12000 | F38: =ROUND(D38*E38,) -> 12000 | G38: 未施作 | H38: 未施作 | I38: 未施作
A39: 36 | B39: 現有屋頂防水收頭部份拆除及開孔 | C39: 式 | D39: 1 | E39: 25000 | F39: =ROUND(D39*E39,) -> 25000 | G39: =ROUND(D39*E39,) -> 25000 | H39: 未施作 | I39: 25000
A40: 37 | B40: 現有屋頂增設不銹鋼欄杆 | C40: m | D40: 12 | F40: =ROUND(D40*E40,) -> 0 | G40: 未施作 | H40: 未施作 | I40: 未施作
...

Sheet 附表3
A1: 附表3.「追加工程款計算表」
A2: 項次 | B2: 項目 | C2: 原告主張 | G2: 結算明細表 數量 | H2: 判斷
C3: 單位 | D3: 數量 | E3: 單價 | F3: 複價 | H3: 數量 | I3: 單價 | J3: 複價
A4: 1 | B4: 放樣 | C4: m² | D4: 36 | E4: 80 | F4: =D4*E4 -> 2880 | G4: 36 | H4: 36 | I4: 80 | J4: =H4*I4 -> 2880
A5: 2 | B5: 挖土石方 | C5:  | D5: 51 | E5: 300 | F5: =D5*E5 -> 15300 | G5: 36 | H5: 36 | I5: 300 | J5: =H5*I5 -> 10800
A6: 3 | B6: 棄土（含棄土證明） | C6:  | D6: 51 | E6: 550 | F6: =D6*E6 -> 28050 | G6: 63 | H6: 51 | I6: 550 | J6: =H6*I6 -> 28050
A7: 4 | B7: 回填土及夯實 | C7:  | D7: 6 | E7: 400 | F7: =D7*E7 -> 2400 | G7: 6 | H7: 6 | I7: 400 | J7: =H7*I7 -> 2400
A8: 6 | B8: 填碎石級配料夯實 | C8:  | D8: 7 | E8: 900 | F8: =D8*E8 -> 6300 | G8: 3 | H8: 3 | I8: 900 | J8: =H8*I8 -> 2700
A9: 7 | B9: 0.2mmTH PE防潮布 | C9:  | D9: 20.5 | E9: 120 | F9: =D9*E9 -> 2460 | G9: 16.5 | H9: 16.5 | I9: 120 | J9: =H9*I9 -> 1980
A10: 8 | B10: 140kgf/c㎡ PC（預拌） | C10:  | D10: 3.6 | E10: 2000 | F10: =D10*E10 -> 7200 | G10: 3.6 | H10: 3.6 | I10: 2000 | J10: =H10*I10 -> 7200
A11: 9 | B11: 175kgf/c㎡ PC（預拌） | C11:  | F11: =D11*E11 -> 0 | G11: - | H11: - | I11: - | J11: -
A12: 10 | B12: 280kgf/c㎡ PC（預拌） | C12:  | D12: 47 | E12: 2300 | F12: =D12*E12 -> 108100 | G12: 54 | H12: 47 | I12: 2300 | J12: =H12*I12 -> 108100
A13: 11 | B13: 清水模板費 | C13: m² | D13: 28 | E13: 700 | F13: =D13*E13 -> 19600 | G13: 28 | H13: 28 | I13: 700 | J13: =H13*I13 -> 19600
A14: 12 | B14: 普通模板費 | C14: m² | D14: 98 | E14: 700 | F14: =D14*E14 -> 68600 | G14: 88 | H14: 88 | I14: 700 | J14: =H14*I14 -> 61600
A15: 13 | B15: 2800kgf/c㎡熱軋鋼筋（含運費，加工及組立） | C15: 噸 | F15: =D15*E15 -> 0 | G15: - | H15: - | I15: - | J15: -
A16: 14 | B16: 4200kgf/c㎡熱軋鋼筋（含運費，加工及組立） | C16: 噸 | D16: 3 | E16: 22500 | F16: =D16*E16 -> 67500 | G16: 1.9 | H16: 1.9 | I16: 22500 | J16: =H16*I16 -> 42750
A17: 15 | B17: 1：3水泥粉光 | C17: m² | D17: 90 | E17: 550 | F17: =D17*E17 -> 49500 | G17: 55 | H17: 55 | I17: 550 | J17: =H17*I17 -> 30250
A18: 16 | B18: 1：3水泥粉光漆水性水泥漆（一底二度） | C18: m² | D18: 90 | E18: 850 | F18: =D18*E18 -> 76500 | G18: 55 | H18: 55 | I18: 850 | J18: =H18*I18 -> 46750
A19: 18 | B19: 1：3水泥粉光（添加活性矽礦物防水劑） | C19: m² | D19: 90 | E19: 980 | F19: =D19*E19 -> 88200 | G19: 55 | H19: 55 | I19: 980 | J19: =H19*I19 -> 53900
A20: 19 | B20: 機械整體粉光 | C20: m² | D20: 72 | E20: 80 | F20: =D20*E20 -> 5760 | G20: 36 | H20: 36 | I20: 80 | J20: =H20*I20 -> 2880
A21: 20 | B21: 鋼管排架（含內牆粉刷施工架） | C21: m² | D21: 21 | E21: 600 | F21: =D21*E21 -> 12600 | G21: 無此項追加 | H21: 0 | I21: 600 | J21: =H21*I21 -> 0
A22: 24 | B22: 4mmTH熱熔式防水氈 | C22: m² | D22: 21 | E22: 700 | F22: =D22*E22 -> 14700 | G22: 26 | H22: 21 | I22: 700 | J22: =H22*I22 -> 14700
A23: 25 | B23: 屋面漿砌舖保麗龍隔熱磚 | C23: m² | D23: 21 | E23: 920 | F23: - | G23: - | H23: - | I23: - | J23: -
A24: 26 | B24: 1mmTH不鏽鋼及收邊材料 | C24: m | D24: 21 | E24: 3000 | F24: =D24*E24 -> 63000 | G24: 5 | H24: 5 | I24: 3000 | J24: =H24*I24 -> 15000
A25: 32 | B25: 舖耐磨EPOXY樹脂地坪 | C25: m² | D25: 21 | E25: 800 | F25: - | G25: - | H25: - | I25: - | J25: -
A26: 21 | B26: 既有高壓變電箱上預留掛勾（維修保養吊掛） | C26: 式 | F26: - | G26: - | H26: - | I26: - | J26: -
A27: 17 | B27: 1：3水泥粉光漆彈水泥漆（一底二度） | C27: m² | D27: 90 | E27: 950 | F27: =D27*E27 -> 85500 | G27: 54 | H27: 54 | I27: 950 | J27: =H27*I27 -> 51300
B28: 合計 | F28: =SUM(F4:F27) -> 724150 | J28: =SUM(J4:J27) -> 502840
B29: 稅金5％（上列x5%） | F29: =ROUND(F28*0.05,) -> 36208 | J29: =ROUND(J28*0.05,) -> 25142
B30: 總計（合計+稅金5％） | F30: =F28+F29 -> 760358 | J30: =J28+J29 -> 527982

Sheet 附表4
A1: 附表4「系爭排水溝工程款計算表」
A2: 項次 | B2: 項目 | C2: 原告主張 | G2: 結算明細表 | J2: 判斷
C3: 單位 | D3: 數量 | E3: 單價 | F3: 複價 | G3: 單位 | H3: 單價 | I3: 數量 | J3: 單位 | K3: 數量 | L3: 單價 | M3: 複價 | N3: 理由
A4: 1 | B4: 普通模板費 | C4: ㎡ | D4: 34.5 | E4: 700 | F4: =ROUND(D4*E4,) -> 24150 | G4: ㎡ | H4: 569 | I4: 34.5 | J4: ㎡ | K4: 34.5 | L4: 700 | M4: =K4*L4 -> 24150 | N4: 1.原告主張之數量與結算明細表數量相符，應屬可採。 2.原告主張之本項單價，與詳細價目表項目12「普通清水模板費」相同（見卷一第12頁），應屬可採。
A5: 2 | B5: 280kgf/c㎡ RC（預拌） | C5: m³ | D5: 8 | E5: 2100 | F5: =ROUND(D5*E5,) -> 16800 | G5: m³ | H5: 2277 | I5: 8 | J5: m³ | K5: 8 | L5: 2100 | M5: =K5*L5 -> 16800 | N5: 1.原告主張之數量與結算明細表數量相符，應屬可採。 2.原告主張之本項單價，低於詳細價目表項目10「280kgf/c㎡ RC（預拌）」2300元/m³，應屬可採。
A6: 3 | B6: 陰井（W80xL80xH100cm)含安裝 | C6: 式 | D6: 1 | E6: 12000 | F6: =ROUND(D6*E6,) -> 12000 | G6: 式 | H6: 12000 | I6: 1 | J6: 式 | K6: 1 | L6: 12000 | M6: =K6*L6 -> 12000 | N6: 1.原告主張之數量與結算明細表數量相符，應屬可採。 2.原告主張之本項單價，為原詳細價目表所無，故採用結算明細表之單價。
A7: 4 | B7: 2800kgf/c㎡熱軋鋼筋（含運費，加工及組立）（結算明細表記載本工項為：4200kgf/c㎡熱軋鋼筋（含運費，加工及組立）） | C7: 噸 | D7: 0.5 | E7: 21000 | F7: =ROUND(D7*E7,) -> 10500 | G7: 噸 | H7: 18975 | I7: 0.5 | J7: 噸 | K7: 0.5 | L7: 21000 | M7: =K7*L7 -> 10500 | N7: 1.原告主張之數量與結算明細表數量相符，應屬可採。 2.原告主張之本項單價，低於詳細價目表項目13「2800kgf/c㎡熱軋鋼筋（含運費，加工及組立）」21500元/m³，應屬可採。
A8: 5 | B8: 排水溝蓋本（含加工及安裝） | C8: m | D8: 11 | E8: 3000 | F8: =ROUND(D8*E8,) -> 33000 | G8: m | H8: 3000 | I8: 11 | J8: m | K8: 11 | L8: 3000 | M8: =K8*L8 -> 33000 | N8: 1.原告主張之數量與結算明細表數量相符，應屬可採。 2.原告主張之本項單價，與詳細價目表項目28「排水溝（含蓋）」相同，應屬可採。
A9: 6 | B9: 挖土石方 | C9: 式 | D9: 1 | E9: 6500 | F9: =ROUND(D9*E9,) -> 6500 | G9: m³ | H9: 47 | I9: 1 | J9: m³ | K9: 1 | L9: 300 | M9: =K9*L9 -> 300 | N9: 1.原告主張之數量與結算明細表數量之單位不符，應採用結算明細所列之數量及單位。 2.本項單價應採用詳細價目表項目2「挖土石方」單價300元/m³。
A10: 7 | B10: 棄土（含棄土證明） | C10: 式 | D10: 1 | E10: 6500 | F10: =ROUND(D10*E10,) -> 6500 | G10: m³ | H10: 380 | I10: 1 | J10: m³ | K10: 1 | L10: 550 | M10: =K10*L10 -> 550 | N10: 1.原告主張之數量與結算明細表數量之單位不符，應採用結算明細所列之數量及單位。 2.本項單價應採用詳細價目表項目3「棄土（含棄土證明）」單價550元/m³。
A11: 8 | B11: 回填土及夯實 | C11: 式 | D11: 1 | E11: 3500 | F11: =ROUND(D11*E11,) -> 3500 | G11: m³ | H11: 66 | I11: 1 | J11: m³ | K11: 1 | L11: 400 | M11: =K11*L11 -> 400 | N11: 1.原告主張之數量與結算明細表數量之單位不符，應採用結算明細所列之數量及單位。 2.本項單價應採用詳細價目表項目4「回填土及夯實」單價550元/m³。
A12: 9 | B12: 排水溝與牆面連結修整 | C12: 式 | D12: 1 | E12: 9000 | F12: =ROUND(D12*E12,) -> 9000 | G12: 式 | H12: 9000 | I12: 1 | J12: 式 | K12: 1 | L12: 9000 | M12: =K12*L12 -> 9000 | N12: 1.原告主張之數量與結算明細表數量相符，應屬可採。 2.原告主張之本項單價，為原詳細價目表所無，故採用結算明細表之單價。
B13: 合計（未稅） | F13: =SUM(F4:F12) -> 121950 | M13: =SUM(M4:M12) -> 106700
B14: 合計（含稅）（上列x1.05） | F14: =ROUND(F13*1.05,) -> 128048 | M14: =ROUND(M13*1.05,) -> 112035
B15: 原告完成價值 | M15: =M14-24051 -> 87984 | N15: 上列金額應扣除「水溝蓋含涵蓋」24,051元

Sheet 附表5
A1: 附表5「代叫工料款計算表」
A2: 項次 | B2: 內容 | C2: 原告主張 | E2: 判斷
C3: 金額 | D3: 證據 | E3: 金額 | F3: 理由
A4: 一 | B4: 代叫工料款
A5: 1 | B5: 105年5月點工及代叫吊車 | C5: 153405 | D5: 原證14 | E5: =ROUND(C5*0.8,) -> 122724 | F5: 按原證14金額之8成計算
A6: 2 | B6: 105年6月點工及代叫吊水冷水機 | C6: 66413 | D6: 原證15 | E6: =ROUND(C6*0.8,) -> 53130 | F6: 按原證15金額之8成計算
A7: 3 | B7: 105年7月點工及代清除木材、代叫瓦楞板、水泥材料 | C7: 38798 | D7: 原證16 | E7: =ROUND(C7*0.8,) -> 31038 | F7: 按原證16金額之8成計算
A8: 4 | B8: 105年8月點工 | C8: 6300 | D8: 原證17 | E8: =ROUND(C8*0.8,) -> 5040 | F8: 按原證17金額之8成計算
A9: 5 | B9: 105年9月點工 | C9: 9450 | D9: 原證18 | E9: =ROUND(C9*0.8,) -> 7560 | F9: 按原證18金額之8成計算
A10: 6 | B10: 105年9月洗消間地面灌漿連工帶料 | C10: 10290 | D10: 原證19 | E10: =ROUND(C10*0.8,) -> 8232 | F10: 按原證19金額之8成計算
A11: 7 | B11: 105年10月點工 | C11: 25200 | D11: 原證20 | E11: =ROUND(C11*0.8,) -> 20160 | F11: 按原證20金額之8成計算
A12: 8 | B12: 濾毒室前擋土牆紐澤西護欄清除修補連工帶料 | C12: 27300 | D12: 原證21 | E12: =ROUND(C12*0.8,) -> 21840 | F12: 按原證21金額之8成計算
A13: 9 | B13: 戰情室前屋頂灌漿連工帶料 | C13: 37800 | D13: 原證22 | E13: =ROUND(C13*0.8,) -> 30240 | F13: 按原證22金額之8成計算
A14: 10 | B14: 發電機室屋頂灌漿連工帶料 | C14: 27300 | D14: 原證23 | E14: =ROUND(C14*0.8,) -> 21840 | F14: 按原證23金額之8成計算
A15: 11 | B15: 105年7月建材 | C15: 7859 | D15: 原證24 | E15: =ROUND(C15*0.8,) -> 6287 | F15: 按原證24金額之8成計算
A16: 12 | B16: 105年8月建材 | C16: 7350 | D16: 原證25 | E16: =ROUND(C16*0.8,) -> 5880 | F16: 按原證25金額之8成計算
A17: 13 | B17: 105年9月建材 | C17: 14595 | D17: 原證26 | E17: =ROUND(C17*0.8,) -> 11676 | F17: 按原證26金額之8成計算
A18: 14 | B18: 導坑戰情室隔間牆 | C18: 26250 | D18: 原證27 | E18: 0 | F18: 未施作。
A19: 15 | B19: 代叫吊車冷水機及機具 | C19: 5250 | D19: 原證28 | E19: =ROUND(C19*0.8,) -> 4200 | F19: 按原證28金額之8成計算
A20: 16 | B20: 前導坑代叫水溝蓋板（不請求） | C20: - | D20: 原證29 | E20: -
A21: 17 | B21: 導坑內用材料 | C21: 21244 | D21: 原證30 | E21: 0 | F21: 與項次11、12重複
A22: 18 | B22: 導坑內使用之混凝土材料 | C22: 36645 | D22: 原證31 | E22: 0 | F22: 與項次9、10重複
A23: 19 | B23: 導坑內及原告承攬工程連工帶料所使用之材料（原告嗣後改稱不請求，見卷三第60頁） | C23: - | D23: 原證32 | E23: -
B24: 小計（項次一） | C24: =SUM(C5:C23) -> 521449 | E24: =SUM(E5:E23) -> 349847
A25: 二 | B25: 被告已付項次1部分款項 | C25: 140000 | E25: 0
B26: 合計（項次一-項次二） | C26: =C24-C25 -> 381449 | E26: =E24-E25 -> 349847
