Workbook

Sheet 殘值表
A1: 附表甲 | C1: 火災時間
C2: 41341
A3: 編號 | B3: 品名 | C3: 日期 | D3: 金額 | E3: 耐用號碼 | F3: 耐用年數 | G3: 使用月數 | H3: 現值 | I3: 證據名稱 | J3: 卷證頁碼 | K3: 欄1
A4: 1 | B4: 布繩3T2M、吊索5T、2.8T天車含吊架 | C4: 39191 | D4: 80000 | E4: 3193 | F4: 5 | G4: 71 | H4: 13333 | I4: 附件1：發票、支票 | J4: 本院卷第63頁 | K4: =DATEDIF(表格2[[#This Row],[日期]],$C$2,"m") -> 70
A5: 2 | B5: 電腦主機與螢幕 | C5: 41025 | D5: 14900 | E5: 3192 | F5: 3 | G5: 11 | H5: 11485 | I5: 附件2：發票 | J5: 本院卷第65頁 | K5: =DATEDIF(表格2[[#This Row],[日期]],$C$2,"m") -> 10
A6: 3 | B6: 12KW烘烤箱 | C6: 41276 | D6: 62857 | E6: 3193 | F6: 5 | G6: 3 | H6: 60238 | I6: 附件3：發票、送貨單 | J6: 本院卷第67頁 | K6: =DATEDIF(表格2[[#This Row],[日期]],$C$2,"m") -> 2
A7: 4 | B7: 33111 1/4 Air Drive 氣動扳手 | C7: 41338 | D7: 4800 | E7: 3193 | F7: 5 | G7: 1 | H7: 4733 | I7: 附件4：發票/附件4-1：報價單 | J7: 本院卷第69、71頁 | K7: =DATEDIF(表格2[[#This Row],[日期]],$C$2,"m") -> 0
A8: 5 | B8: 34462-1 1/2 DG 扭力扳手 40-200NM | C8: 41338 | D8: 3800 | E8: 3193 | F8: 5 | G8: 1 | H8: 3747 | I8: 附件4：發票/附件4-1：報價單 | J8: 本院卷第69、71頁 | K8: =DATEDIF(表格2[[#This Row],[日期]],$C$2,"m") -> 0
A9: 6 | B9: 高阻計（HIOKI） | C9: 41312 | D9: 8571 | E9: 3192 | F9: 3 | G9: 2 | H9: 8214 | I9: 附件5：發票 | J9: 本院卷第73頁 | K9: =DATEDIF(表格2[[#This Row],[日期]],$C$2,"m") -> 1
A10: 7 | B10: 電頭組裝吊具ENGGA | C10: 41232 | D10: 85552 | E10: 3193 | F10: 5 | G10: 4 | H10: 80799 | I10: 附件6至附件6-9：進口貨物成本表、發票、提貨單、通知書、進口報單、海關進口貨物稅費繳納證兼匯款申請書 | J10: 本院卷第75、77至93頁 | K10: =DATEDIF(表格2[[#This Row],[日期]],$C$2,"m") -> 3
A11: 合計 | H11: =SUBTOTAL(109,表格2[現值]) -> 182549
A12: * | B12: 使用月數：未滿月者以月計 | G12: 自負額損害 | H12: 1311545
G13: 總計 | H13: =表格2[[#Totals],[現值]]+H12 -> 1494094

Sheet 計算(1)
B1: 附表 | C1: 平均法累積折舊自動試算表
B2: 使用年數〔請在下列色框填入大於或等於0的整數〕 | D2: 使用月數〔請在下列色框填入0至11的整數〕 | I2: 已填使用年數或月數 | J2: 使用年數大於0 | K2: 使用月數大於0
B3: 5 | D3: 0 | I3: =IF(J3+K3=0,0,1) -> 1 | J3: =IF(B3>0,1,0) -> 1 | K3: =IF(D3>0,1,0) -> 0
B4: 購入成本〔請在下列色框填入固定資產購入時的價格〕 | D4: =IF(C1=C20,I25,IF(C1=C21,I27,"")) -> 殘價〔參酌營所稅查核準則§95第7款規定：計算公式=固定資產之實際成本/(耐用年數表規定之耐用年數+1)〕 | E4: 耐用年數〔參照行政院頒布之固定資產折舊率表填入〕 | I4: 此處為共用部分
B5: =殘值表!D4 -> 80000 | D5: =B5/6 -> 13333.333 | E5: 5 | G5: 定率遞減累積折舊 | I5: 購入金額>0 | J5: 殘價>0 | K5: 耐用年數>0
B6: 累積折舊費用= | D6: =IF(C1=C20,G6,IF(C1=C21,G13,"")) -> 66666.667 | G6: =IF($I$8=1,$J$8+$K$8," ") -> 47849.794 | I6: =IF(B5>0,1,0) -> 1 | J6: =IF(D5>0,1,0) -> 1 | K6: =IF(E5>0,1,0) -> 1
B7: 現值= | D7: =IF($I$8=1,$B$5-$D$6," ") -> 13333.333 | G7: 定率遞減折舊率 | I7: 已算出折舊率 | J7: 以上各欄均等於1 | K7: 算出月折舊
B8: 折舊率= | D8: =IF(C1=C20,G8,IF(C1=C21,G15,"")) -> 0.16666667 | G8: =IF($I$6*$J$6*$K$6=1,1-($D$5/$B$5)^(1/$E$5)," ") -> 0.30117288 | I8: =IF($D$8=" ",0,1) -> 1 | J8: =IF(I6*J6*K6=1,J9,0) -> 47849.794 | K8: =IF(K3*I6*J6*K6=1,(J10-J9)*D3/12,0) -> 0
B9: 累積折舊費用與購入成本之比例= | D9: =IF(I8=1,D6/B5," ") -> 0.83333333 | I9: 算出年累積折舊 | J9: =B5*(1-(1-D8)^B3) -> 47849.794
B10: 現值與購入成本之比例= | D10: =IF(I8=1,D7/B5," ") -> 0.16666667 | I10: 算出翌年年累積折舊 | J10: =B5*(1-(1-D8)^(B3+1)) -> 53208.162
B11: 備註一、 | C11: 營利事業所得查核準則第95條第6款規定：「固定資產提列折舊採用平均法或定率遞減法者，以一年為計算單位；其使用期間未滿一年者，按實際使用之月數相當於全年之比例計算之；不滿一月者，以月計。」 | I11: 以上為定率遞減累積折舊計算式
G12: 平均法累積折舊
G13: =IF($I$8=1,$B$5*$G$15*($B$3+$D$3/12)," ") -> 66666.667
G14: 平均法折舊率
B15: 備註二、 | C15: 按「附表」欄右側的方框，可選擇定率遞減法或平均法，並請記得在輸入各項數值完畢後按下「Enter」鍵。 | G15: =IF($I$6*$K$6=1,($B$5-$D$5)/$E$5/$B$5," ") -> 0.16666667
B17: 備註三、 | C17: 基於經濟分析理念策劃製作，無償提供非商業或非營利目的使用，對於本試算表如有任何建議， 歡迎來信指教Kelson@mail.judicial.gov.tw
C20: 定率遞減法累積折舊自動試算表
C21: 平均法累積折舊自動試算表
I25: 殘價〔依據所得稅法§54Ⅲ規定:採用定率遞減法者，其最後一年度之未折減餘額以等於成本十分之一為合度。〕
I27: 殘價〔參酌營所稅查核準則§95第7款規定：計算公式=固定資產之實際成本/(耐用年數表規定之耐用年數+1)〕

Sheet 計算(2)
B1: 附表 | C1: 平均法累積折舊自動試算表
B2: 使用年數〔請在下列色框填入大於或等於0的整數〕 | D2: 使用月數〔請在下列色框填入0至11的整數〕 | I2: 已填使用年數或月數 | J2: 使用年數大於0 | K2: 使用月數大於0
D3: =殘值表!G5 -> 11 | I3: =IF(J3+K3=0,0,1) -> 1 | J3: =IF(B3>0,1,0) -> 0 | K3: =IF(D3>0,1,0) -> 1
B4: 購入成本〔請在下列色框填入固定資產購入時的價格〕 | D4: =IF(C1=C20,I25,IF(C1=C21,I27,"")) -> 殘價〔參酌營所稅查核準則§95第7款規定：計算公式=固定資產之實際成本/(耐用年數表規定之耐用年數+1)〕 | E4: 耐用年數〔參照行政院頒布之固定資產折舊率表填入〕 | I4: 此處為共用部分
B5: =殘值表!D5 -> 14900 | D5: =B5/4 -> 3725 | E5: =表格2[[#This Row],[耐用年數]] -> 3 | G5: 定率遞減累積折舊 | I5: 購入金額>0 | J5: 殘價>0 | K5: 耐用年數>0
B6: 累積折舊費用= | D6: =IF(C1=C20,G6,IF(C1=C21,G13,"")) -> 3414.5833 | G6: =IF($I$8=1,$J$8+$K$8," ") -> 3414.5833 | I6: =IF(B5>0,1,0) -> 1 | J6: =IF(D5>0,1,0) -> 1 | K6: =IF(E5>0,1,0) -> 1
B7: 現值= | D7: =IF($I$8=1,$B$5-$D$6," ") -> 11485.417 | G7: 定率遞減折舊率 | I7: 已算出折舊率 | J7: 以上各欄均等於1 | K7: 算出月折舊
B8: 折舊率= | D8: =IF(C1=C20,G8,IF(C1=C21,G15,"")) -> 0.25 | G8: =IF($I$6*$J$6*$K$6=1,1-($D$5/$B$5)^(1/$E$5)," ") -> 0.37003948 | I8: =IF($D$8=" ",0,1) -> 1 | J8: =IF(I6*J6*K6=1,J9,0) -> 0 | K8: =IF(K3*I6*J6*K6=1,(J10-J9)*D3/12,0) -> 3414.5833
B9: 累積折舊費用與購入成本之比例= | D9: =IF(I8=1,D6/B5," ") -> 0.22916667 | I9: 算出年累積折舊 | J9: =B5*(1-(1-D8)^B3) -> 0
B10: 現值與購入成本之比例= | D10: =IF(I8=1,D7/B5," ") -> 0.77083333 | I10: 算出翌年年累積折舊 | J10: =B5*(1-(1-D8)^(B3+1)) -> 3725
B11: 備註一、 | C11: 營利事業所得查核準則第95條第6款規定：「固定資產提列折舊採用平均法或定率遞減法者，以一年為計算單位；其使用期間未滿一年者，按實際使用之月數相當於全年之比例計算之；不滿一月者，以月計。」 | I11: 以上為定率遞減累積折舊計算式
G12: 平均法累積折舊
G13: =IF($I$8=1,$B$5*$G$15*($B$3+$D$3/12)," ") -> 3414.5833
G14: 平均法折舊率
B15: 備註二、 | C15: 按「附表」欄右側的方框，可選擇定率遞減法或平均法，並請記得在輸入各項數值完畢後按下「Enter」鍵。 | G15: =IF($I$6*$K$6=1,($B$5-$D$5)/$E$5/$B$5," ") -> 0.25
B17: 備註三、 | C17: 基於經濟分析理念策劃製作，無償提供非商業或非營利目的使用，對於本試算表如有任何建議， 歡迎來信指教Kelson@mail.judicial.gov.tw
C20: 定率遞減法累積折舊自動試算表
C21: 平均法累積折舊自動試算表
I25: 殘價〔依據所得稅法§54Ⅲ規定:採用定率遞減法者，其最後一年度之未折減餘額以等於成本十分之一為合度。〕
I27: 殘價〔參酌營所稅查核準則§95第7款規定：計算公式=固定資產之實際成本/(耐用年數表規定之耐用年數+1)〕

Sheet 計算 (3)
B1: 附表 | C1: 平均法累積折舊自動試算表
B2: 使用年數〔請在下列色框填入大於或等於0的整數〕 | D2: 使用月數〔請在下列色框填入0至11的整數〕 | I2: 已填使用年數或月數 | J2: 使用年數大於0 | K2: 使用月數大於0
D3: =殘值表!G6 -> 3 | I3: =IF(J3+K3=0,0,1) -> 1 | J3: =IF(B3>0,1,0) -> 0 | K3: =IF(D3>0,1,0) -> 1
B4: 購入成本〔請在下列色框填入固定資產購入時的價格〕 | D4: =IF(C1=C20,I25,IF(C1=C21,I27,"")) -> 殘價〔參酌營所稅查核準則§95第7款規定：計算公式=固定資產之實際成本/(耐用年數表規定之耐用年數+1)〕 | E4: 耐用年數〔參照行政院頒布之固定資產折舊率表填入〕 | I4: 此處為共用部分
B5: =殘值表!D6 -> 62857 | D5: =B5/6 -> 10476.167 | E5: =殘值表!F6 -> 5 | G5: 定率遞減累積折舊 | I5: 購入金額>0 | J5: 殘價>0 | K5: 耐用年數>0
B6: 累積折舊費用= | D6: =IF(C1=C20,G6,IF(C1=C21,G13,"")) -> 2619.0417 | G6: =IF($I$8=1,$J$8+$K$8," ") -> 2619.0417 | I6: =IF(B5>0,1,0) -> 1 | J6: =IF(D5>0,1,0) -> 1 | K6: =IF(E5>0,1,0) -> 1
B7: 現值= | D7: =IF($I$8=1,$B$5-$D$6," ") -> 60237.958 | G7: 定率遞減折舊率 | I7: 已算出折舊率 | J7: 以上各欄均等於1 | K7: 算出月折舊
B8: 折舊率= | D8: =IF(C1=C20,G8,IF(C1=C21,G15,"")) -> 0.16666667 | G8: =IF($I$6*$J$6*$K$6=1,1-($D$5/$B$5)^(1/$E$5)," ") -> 0.30117288 | I8: =IF($D$8=" ",0,1) -> 1 | J8: =IF(I6*J6*K6=1,J9,0) -> 0 | K8: =IF(K3*I6*J6*K6=1,(J10-J9)*D3/12,0) -> 2619.0417
B9: 累積折舊費用與購入成本之比例= | D9: =IF(I8=1,D6/B5," ") -> 0.041666667 | I9: 算出年累積折舊 | J9: =B5*(1-(1-D8)^B3) -> 0
B10: 現值與購入成本之比例= | D10: =IF(I8=1,D7/B5," ") -> 0.95833333 | I10: 算出翌年年累積折舊 | J10: =B5*(1-(1-D8)^(B3+1)) -> 10476.167
B11: 備註一、 | C11: 營利事業所得查核準則第95條第6款規定：「固定資產提列折舊採用平均法或定率遞減法者，以一年為計算單位；其使用期間未滿一年者，按實際使用之月數相當於全年之比例計算之；不滿一月者，以月計。」 | I11: 以上為定率遞減累積折舊計算式
G12: 平均法累積折舊
G13: =IF($I$8=1,$B$5*$G$15*($B$3+$D$3/12)," ") -> 2619.0417
G14: 平均法折舊率
B15: 備註二、 | C15: 按「附表」欄右側的方框，可選擇定率遞減法或平均法，並請記得在輸入各項數值完畢後按下「Enter」鍵。 | G15: =IF($I$6*$K$6=1,($B$5-$D$5)/$E$5/$B$5," ") -> 0.16666667
B17: 備註三、 | C17: 基於經濟分析理念策劃製作，無償提供非商業或非營利目的使用，對於本試算表如有任何建議， 歡迎來信指教Kelson@mail.judicial.gov.tw
C20: 定率遞減法累積折舊自動試算表
C21: 平均法累積折舊自動試算表
I25: 殘價〔依據所得稅法§54Ⅲ規定:採用定率遞減法者，其最後一年度之未折減餘額以等於成本十分之一為合度。〕
I27: 殘價〔參酌營所稅查核準則§95第7款規定：計算公式=固定資產之實際成本/(耐用年數表規定之耐用年數+1)〕

Sheet 計算 (4)
B1: 附表 | C1: 平均法累積折舊自動試算表
B2: 使用年數〔請在下列色框填入大於或等於0的整數〕 | D2: 使用月數〔請在下列色框填入0至11的整數〕 | I2: 已填使用年數或月數 | J2: 使用年數大於0 | K2: 使用月數大於0
D3: =殘值表!G7 -> 1 | I3: =IF(J3+K3=0,0,1) -> 1 | J3: =IF(B3>0,1,0) -> 0 | K3: =IF(D3>0,1,0) -> 1
B4: 購入成本〔請在下列色框填入固定資產購入時的價格〕 | D4: =IF(C1=C20,I25,IF(C1=C21,I27,"")) -> 殘價〔參酌營所稅查核準則§95第7款規定：計算公式=固定資產之實際成本/(耐用年數表規定之耐用年數+1)〕 | E4: 耐用年數〔參照行政院頒布之固定資產折舊率表填入〕 | I4: 此處為共用部分
B5: =殘值表!D7 -> 4800 | D5: =B5/6 -> 800 | E5: =殘值表!F7 -> 5 | G5: 定率遞減累積折舊 | I5: 購入金額>0 | J5: 殘價>0 | K5: 耐用年數>0
B6: 累積折舊費用= | D6: =IF(C1=C20,G6,IF(C1=C21,G13,"")) -> 66.666667 | G6: =IF($I$8=1,$J$8+$K$8," ") -> 66.666667 | I6: =IF(B5>0,1,0) -> 1 | J6: =IF(D5>0,1,0) -> 1 | K6: =IF(E5>0,1,0) -> 1
B7: 現值= | D7: =IF($I$8=1,$B$5-$D$6," ") -> 4733.3333 | G7: 定率遞減折舊率 | I7: 已算出折舊率 | J7: 以上各欄均等於1 | K7: 算出月折舊
B8: 折舊率= | D8: =IF(C1=C20,G8,IF(C1=C21,G15,"")) -> 0.16666667 | G8: =IF($I$6*$J$6*$K$6=1,1-($D$5/$B$5)^(1/$E$5)," ") -> 0.30117288 | I8: =IF($D$8=" ",0,1) -> 1 | J8: =IF(I6*J6*K6=1,J9,0) -> 0 | K8: =IF(K3*I6*J6*K6=1,(J10-J9)*D3/12,0) -> 66.666667
B9: 累積折舊費用與購入成本之比例= | D9: =IF(I8=1,D6/B5," ") -> 0.013888889 | I9: 算出年累積折舊 | J9: =B5*(1-(1-D8)^B3) -> 0
B10: 現值與購入成本之比例= | D10: =IF(I8=1,D7/B5," ") -> 0.98611111 | I10: 算出翌年年累積折舊 | J10: =B5*(1-(1-D8)^(B3+1)) -> 800
B11: 備註一、 | C11: 營利事業所得查核準則第95條第6款規定：「固定資產提列折舊採用平均法或定率遞減法者，以一年為計算單位；其使用期間未滿一年者，按實際使用之月數相當於全年之比例計算之；不滿一月者，以月計。」 | I11: 以上為定率遞減累積折舊計算式
G12: 平均法累積折舊
G13: =IF($I$8=1,$B$5*$G$15*($B$3+$D$3/12)," ") -> 66.666667
G14: 平均法折舊率
B15: 備註二、 | C15: 按「附表」欄右側的方框，可選擇定率遞減法或平均法，並請記得在輸入各項數值完畢後按下「Enter」鍵。 | G15: =IF($I$6*$K$6=1,($B$5-$D$5)/$E$5/$B$5," ") -> 0.16666667
B17: 備註三、 | C17: 基於經濟分析理念策劃製作，無償提供非商業或非營利目的使用，對於本試算表如有任何建議， 歡迎來信指教Kelson@mail.judicial.gov.tw
C20: 定率遞減法累積折舊自動試算表
C21: 平均法累積折舊自動試算表
I25: 殘價〔依據所得稅法§54Ⅲ規定:採用定率遞減法者，其最後一年度之未折減餘額以等於成本十分之一為合度。〕
I27: 殘價〔參酌營所稅查核準則§95第7款規定：計算公式=固定資產之實際成本/(耐用年數表規定之耐用年數+1)〕

Sheet 計算 (5)
B1: 附表 | C1: 平均法累積折舊自動試算表
B2: 使用年數〔請在下列色框填入大於或等於0的整數〕 | D2: 使用月數〔請在下列色框填入0至11的整數〕 | I2: 已填使用年數或月數 | J2: 使用年數大於0 | K2: 使用月數大於0
D3: =殘值表!G8 -> 1 | I3: =IF(J3+K3=0,0,1) -> 1 | J3: =IF(B3>0,1,0) -> 0 | K3: =IF(D3>0,1,0) -> 1
B4: 購入成本〔請在下列色框填入固定資產購入時的價格〕 | D4: =IF(C1=C20,I25,IF(C1=C21,I27,"")) -> 殘價〔參酌營所稅查核準則§95第7款規定：計算公式=固定資產之實際成本/(耐用年數表規定之耐用年數+1)〕 | E4: 耐用年數〔參照行政院頒布之固定資產折舊率表填入〕 | I4: 此處為共用部分
B5: =殘值表!D8 -> 3800 | D5: =B5/6 -> 633.33333 | E5: =殘值表!F8 -> 5 | G5: 定率遞減累積折舊 | I5: 購入金額>0 | J5: 殘價>0 | K5: 耐用年數>0
B6: 累積折舊費用= | D6: =IF(C1=C20,G6,IF(C1=C21,G13,"")) -> 52.777778 | G6: =IF($I$8=1,$J$8+$K$8," ") -> 52.777778 | I6: =IF(B5>0,1,0) -> 1 | J6: =IF(D5>0,1,0) -> 1 | K6: =IF(E5>0,1,0) -> 1
B7: 現值= | D7: =IF($I$8=1,$B$5-$D$6," ") -> 3747.2222 | G7: 定率遞減折舊率 | I7: 已算出折舊率 | J7: 以上各欄均等於1 | K7: 算出月折舊
B8: 折舊率= | D8: =IF(C1=C20,G8,IF(C1=C21,G15,"")) -> 0.16666667 | G8: =IF($I$6*$J$6*$K$6=1,1-($D$5/$B$5)^(1/$E$5)," ") -> 0.30117288 | I8: =IF($D$8=" ",0,1) -> 1 | J8: =IF(I6*J6*K6=1,J9,0) -> 0 | K8: =IF(K3*I6*J6*K6=1,(J10-J9)*D3/12,0) -> 52.777778
B9: 累積折舊費用與購入成本之比例= | D9: =IF(I8=1,D6/B5," ") -> 0.013888889 | I9: 算出年累積折舊 | J9: =B5*(1-(1-D8)^B3) -> 0
B10: 現值與購入成本之比例= | D10: =IF(I8=1,D7/B5," ") -> 0.98611111 | I10: 算出翌年年累積折舊 | J10: =B5*(1-(1-D8)^(B3+1)) -> 633.33333
B11: 備註一、 | C11: 營利事業所得查核準則第95條第6款規定：「固定資產提列折舊採用平均法或定率遞減法者，以一年為計算單位；其使用期間未滿一年者，按實際使用之月數相當於全年之比例計算之；不滿一月者，以月計。」 | I11: 以上為定率遞減累積折舊計算式
G12: 平均法累積折舊
G13: =IF($I$8=1,$B$5*$G$15*($B$3+$D$3/12)," ") -> 52.777778
G14: 平均法折舊率
B15: 備註二、 | C15: 按「附表」欄右側的方框，可選擇定率遞減法或平均法，並請記得在輸入各項數值完畢後按下「Enter」鍵。 | G15: =IF($I$6*$K$6=1,($B$5-$D$5)/$E$5/$B$5," ") -> 0.16666667
B17: 備註三、 | C17: 基於經濟分析理念策劃製作，無償提供非商業或非營利目的使用，對於本試算表如有任何建議， 歡迎來信指教Kelson@mail.judicial.gov.tw
C20: 定率遞減法累積折舊自動試算表
C21: 平均法累積折舊自動試算表
I25: 殘價〔依據所得稅法§54Ⅲ規定:採用定率遞減法者，其最後一年度之未折減餘額以等於成本十分之一為合度。〕
I27: 殘價〔參酌營所稅查核準則§95第7款規定：計算公式=固定資產之實際成本/(耐用年數表規定之耐用年數+1)〕

Sheet 計算 (6)
B1: 附表 | C1: 平均法累積折舊自動試算表
B2: 使用年數〔請在下列色框填入大於或等於0的整數〕 | D2: 使用月數〔請在下列色框填入0至11的整數〕 | I2: 已填使用年數或月數 | J2: 使用年數大於0 | K2: 使用月數大於0
D3: 2 | I3: =IF(J3+K3=0,0,1) -> 1 | J3: =IF(B3>0,1,0) -> 0 | K3: =IF(D3>0,1,0) -> 1
B4: 購入成本〔請在下列色框填入固定資產購入時的價格〕 | D4: =IF(C1=C20,I25,IF(C1=C21,I27,"")) -> 殘價〔參酌營所稅查核準則§95第7款規定：計算公式=固定資產之實際成本/(耐用年數表規定之耐用年數+1)〕 | E4: 耐用年數〔參照行政院頒布之固定資產折舊率表填入〕 | I4: 此處為共用部分
B5: =殘值表!D9 -> 8571 | D5: =B5/4 -> 2142.75 | E5: =殘值表!F9 -> 3 | G5: 定率遞減累積折舊 | I5: 購入金額>0 | J5: 殘價>0 | K5: 耐用年數>0
B6: 累積折舊費用= | D6: =IF(C1=C20,G6,IF(C1=C21,G13,"")) -> 357.125 | G6: =IF($I$8=1,$J$8+$K$8," ") -> 357.125 | I6: =IF(B5>0,1,0) -> 1 | J6: =IF(D5>0,1,0) -> 1 | K6: =IF(E5>0,1,0) -> 1
B7: 現值= | D7: =IF($I$8=1,$B$5-$D$6," ") -> 8213.875 | G7: 定率遞減折舊率 | I7: 已算出折舊率 | J7: 以上各欄均等於1 | K7: 算出月折舊
B8: 折舊率= | D8: =IF(C1=C20,G8,IF(C1=C21,G15,"")) -> 0.25 | G8: =IF($I$6*$J$6*$K$6=1,1-($D$5/$B$5)^(1/$E$5)," ") -> 0.37003948 | I8: =IF($D$8=" ",0,1) -> 1 | J8: =IF(I6*J6*K6=1,J9,0) -> 0 | K8: =IF(K3*I6*J6*K6=1,(J10-J9)*D3/12,0) -> 357.125
B9: 累積折舊費用與購入成本之比例= | D9: =IF(I8=1,D6/B5," ") -> 0.041666667 | I9: 算出年累積折舊 | J9: =B5*(1-(1-D8)^B3) -> 0
B10: 現值與購入成本之比例= | D10: =IF(I8=1,D7/B5," ") -> 0.95833333 | I10: 算出翌年年累積折舊 | J10: =B5*(1-(1-D8)^(B3+1)) -> 2142.75
B11: 備註一、 | C11: 營利事業所得查核準則第95條第6款規定：「固定資產提列折舊採用平均法或定率遞減法者，以一年為計算單位；其使用期間未滿一年者，按實際使用之月數相當於全年之比例計算之；不滿一月者，以月計。」 | I11: 以上為定率遞減累積折舊計算式
G12: 平均法累積折舊
G13: =IF($I$8=1,$B$5*$G$15*($B$3+$D$3/12)," ") -> 357.125
G14: 平均法折舊率
B15: 備註二、 | C15: 按「附表」欄右側的方框，可選擇定率遞減法或平均法，並請記得在輸入各項數值完畢後按下「Enter」鍵。 | G15: =IF($I$6*$K$6=1,($B$5-$D$5)/$E$5/$B$5," ") -> 0.25
B17: 備註三、 | C17: 基於經濟分析理念策劃製作，無償提供非商業或非營利目的使用，對於本試算表如有任何建議， 歡迎來信指教Kelson@mail.judicial.gov.tw
C20: 定率遞減法累積折舊自動試算表
C21: 平均法累積折舊自動試算表
I25: 殘價〔依據所得稅法§54Ⅲ規定:採用定率遞減法者，其最後一年度之未折減餘額以等於成本十分之一為合度。〕
I27: 殘價〔參酌營所稅查核準則§95第7款規定：計算公式=固定資產之實際成本/(耐用年數表規定之耐用年數+1)〕

Sheet 計算 (7)
B1: 附表 | C1: 平均法累積折舊自動試算表
B2: 使用年數〔請在下列色框填入大於或等於0的整數〕 | D2: 使用月數〔請在下列色框填入0至11的整數〕 | I2: 已填使用年數或月數 | J2: 使用年數大於0 | K2: 使用月數大於0
D3: =殘值表!G10 -> 4 | I3: =IF(J3+K3=0,0,1) -> 1 | J3: =IF(B3>0,1,0) -> 0 | K3: =IF(D3>0,1,0) -> 1
B4: 購入成本〔請在下列色框填入固定資產購入時的價格〕 | D4: =IF(C1=C20,I25,IF(C1=C21,I27,"")) -> 殘價〔參酌營所稅查核準則§95第7款規定：計算公式=固定資產之實際成本/(耐用年數表規定之耐用年數+1)〕 | E4: 耐用年數〔參照行政院頒布之固定資產折舊率表填入〕 | I4: 此處為共用部分
B5: =殘值表!D10 -> 85552 | D5: =B5/6 -> 14258.667 | E5: =殘值表!F10 -> 5 | G5: 定率遞減累積折舊 | I5: 購入金額>0 | J5: 殘價>0 | K5: 耐用年數>0
B6: 累積折舊費用= | D6: =IF(C1=C20,G6,IF(C1=C21,G13,"")) -> 4752.8889 | G6: =IF($I$8=1,$J$8+$K$8," ") -> 4752.8889 | I6: =IF(B5>0,1,0) -> 1 | J6: =IF(D5>0,1,0) -> 1 | K6: =IF(E5>0,1,0) -> 1
B7: 現值= | D7: =IF($I$8=1,$B$5-$D$6," ") -> 80799.111 | G7: 定率遞減折舊率 | I7: 已算出折舊率 | J7: 以上各欄均等於1 | K7: 算出月折舊
B8: 折舊率= | D8: =IF(C1=C20,G8,IF(C1=C21,G15,"")) -> 0.16666667 | G8: =IF($I$6*$J$6*$K$6=1,1-($D$5/$B$5)^(1/$E$5)," ") -> 0.30117288 | I8: =IF($D$8=" ",0,1) -> 1 | J8: =IF(I6*J6*K6=1,J9,0) -> 0 | K8: =IF(K3*I6*J6*K6=1,(J10-J9)*D3/12,0) -> 4752.8889
B9: 累積折舊費用與購入成本之比例= | D9: =IF(I8=1,D6/B5," ") -> 0.055555556 | I9: 算出年累積折舊 | J9: =B5*(1-(1-D8)^B3) -> 0
B10: 現值與購入成本之比例= | D10: =IF(I8=1,D7/B5," ") -> 0.94444444 | I10: 算出翌年年累積折舊 | J10: =B5*(1-(1-D8)^(B3+1)) -> 14258.667
B11: 備註一、 | C11: 營利事業所得查核準則第95條第6款規定：「固定資產提列折舊採用平均法或定率遞減法者，以一年為計算單位；其使用期間未滿一年者，按實際使用之月數相當於全年之比例計算之；不滿一月者，以月計。」 | I11: 以上為定率遞減累積折舊計算式
G12: 平均法累積折舊
G13: =IF($I$8=1,$B$5*$G$15*($B$3+$D$3/12)," ") -> 4752.8889
G14: 平均法折舊率
B15: 備註二、 | C15: 按「附表」欄右側的方框，可選擇定率遞減法或平均法，並請記得在輸入各項數值完畢後按下「Enter」鍵。 | G15: =IF($I$6*$K$6=1,($B$5-$D$5)/$E$5/$B$5," ") -> 0.16666667
B17: 備註三、 | C17: 基於經濟分析理念策劃製作，無償提供非商業或非營利目的使用，對於本試算表如有任何建議， 歡迎來信指教Kelson@mail.judicial.gov.tw
C20: 定率遞減法累積折舊自動試算表
C21: 平均法累積折舊自動試算表
I25: 殘價〔依據所得稅法§54Ⅲ規定:採用定率遞減法者，其最後一年度之未折減餘額以等於成本十分之一為合度。〕
I27: 殘價〔參酌營所稅查核準則§95第7款規定：計算公式=固定資產之實際成本/(耐用年數表規定之耐用年數+1)〕
