Workbook
Name 吉2_SRB321: 'SRB321'!$B$1:$G$45

Sheet SRB321
A1: 群組 | B1: 投資人姓名 | C1: 身分證字號 | D1: 買進股數 | E1: 買進金額 | F1: 賣出股數 | G1: 賣出金額
A2: 翁秋南 | B2: 楊美鈴 | C2: E222070487 | D2: 6000 | E2: 698000 | F2: 6000 | G2: 743000
A3: 翁秋南 | B3: 翁秋南 | C3: Q102084286 | D3: 6636000 | E3: 673880000 | F3: 6713000 | G3: 749445100
A4: 翁秋南 | B4: 姚朝順 | C4: Q102102529 | D4: 22000 | E4: 2420700 | F4: 22000 | G4: 2868000
A5: 翁秋南 | B5: 翁國富 | C5: Q122591871 | D5: 176000 | E5: 18670700 | F5: 176000 | G5: 21916800
A6: 翁秋南 | B6: 翁姚靜花 | C6: Q202148527 | D6: 50000 | E6: 6090000 | F6: 50000 | G6: 7400500
A7: 翁秋南 | B7: 翁莉芳 | C7: Q221624177 | D7: 1000 | E7: 134000 | F7: 1000 | G7: 150000
A8: 翁秋南 | B8: 翁意茹 | C8: Q223472233 | D8: 154000 | E8: 15794200 | F8: 154000 | G8: 18562900
A9: 小計 | D9: =SUM(D2:D8) -> 7045000 | E9: =SUM(E2:E8) -> 717687600 | F9: =SUM(F2:F8) -> 7122000 | G9: =SUM(G2:G8) -> 801086300
A11: 減 | B11: 翁秋南 | D11: 80000 | E11: 10360000 | F11: 77000 | G11: 9981500
B12: 姚朝順 | D12: 5000 | E12: 645000 | F12: 0 | G12: 0
B13: 翁國富 | D13: 30000 | E13: 3745500 | F13: 0 | G13: 0
B14: 翁姚靜花 | D14: 50000 | E14: 6090000 | F14: 0 | G14: 0
A15: 翁秋南總計 | D15: =D9-D11-D12-D13-D14 -> 6880000 | E15: =E9-E11-E12-E13-E14 -> 696847100 | F15: =F9-F11-F12-F13-F14 -> 7045000 | G15: =G9-G11-G12-G13-G14 -> 791104800
A17: 鄭光育 | B17: 王志仁 | C17: A121775110 | D17: 2480000 | E17: 315332600 | F17: 2480000 | G17: 335743500
A18: 鄭光育 | B18: 王家修 | C18: A121891780 | D18: 2215000 | E18: 231534300 | F18: 2215000 | G18: 248675700
A19: 鄭光育 | B19: 曾林春桂 | C19: A203166722 | D19: 1993000 | E19: 245620200 | F19: 1993000 | G19: 250346700
A20: 鄭光育 | B20: 曾秀美 | C20: A221053095 | D20: 668000 | E20: 96456500 | F20: 648000 | G20: 104442500
A21: 鄭光育 | B21: 曾潔慧 | C21: A221053102 | D21: 2060000 | E21: 255440300 | F21: 2060000 | G21: 262935300
A22: 鄭光育 | B22: 詹淑惠 | C22: A222560115 | D22: 18000 | E22: 2331000 | F22: 18000 | G22: 2313000
A23: 鄭光育 | B23: 郭慧敏 | C23: A223015173 | D23: 1162000 | E23: 170053700 | F23: 1162000 | G23: 178043000
A24: 鄭光育 | B24: 柯月華 | C24: E201556240 | D24: 427000 | E24: 57990000 | F24: 310000 | G24: 44012500
A25: 鄭光育 | B25: 張鄭幸枝 | C25: H201952101 | D25: 385000 | E25: 58113000 | F25: 268100 | G25: 42624450
A26: 鄭光育 | B26: 張宣宸 | C26: J120737436 | D26: 1598000 | E26: 266074700 | F26: 1447400 | G26: 243349300
A27: 鄭光育 | B27: 翁瑞隆 | C27: N120758787 | D27: 1532000 | E27: 200837800 | F27: 1532000 | G27: 203902900
A28: 鄭光育 | B28: 翁淑麗 | C28: N220754058 | D28: 2317000 | E28: 290463500 | F28: 2317000 | G28: 309073900
... A30: 鄭光育 | B30: 曾重凱 | C30: P122497831 | D30: 40000 | E30: 6025000 | F30: 20000 | G30: 2945000
A31: 小計 | D31: =SUM(D17:D30) -> 16935000 | E31: =SUM(E17:E30) -> 2202307600 | F31: =SUM(F17:F30) -> 16490500 | G31: =SUM(G17:G30) -> 2231352750
A33: 減 | B33: 姓名 | C33: 帳號
B34: 王家修 | C34: 64692 | D34: 14000 | E34: 2308000 | F34: 14000 | G34: 2307500 | H34: 該帳號非鄭光育借用
B35: 王家修 | C35: 69911 | D35: 165000 | E35: 23840000 | F35: 165000 | G35: 25509000 | H35: 該帳號非鄭光育借用
B36: 翁淑麗 | C36: 11377 | D36: 10000 | E36: 1480000 | F36: 10000 | G36: 1507500 | H36: 該帳號非鄭光育借用
B37: 郭慧敏 | C37: 501181 | D37: 84000 | E37: 10618000 | F37: 84000 | G37: 13199500 | H37: 該帳號非鄭光育借用
B38: 郭慧敏 | C38: 8097693 | D38: 1000 | E38: 132000 | F38: 1000 | G38: 135000 | H38: 該帳號非鄭光育借用
A41: 鄭光育總計 | D41: =D31-SUM(D34:D38) -> 16661000 | E41: =E31-SUM(E34:E38) -> 2163929600 | F41: =F31-SUM(F34:F38) -> 16216500 | G41: =G31-SUM(G34:G38) -> 2188694250
A43: 不列入
B44: 黃思云 | C44: I200216923 | D44: 8000 | E44: 972000 | F44: 8000 | G44: 1000000
B45: 黃錦章 | C45: Q120545988 | D45: 513000 | E45: 59060300 | F45: 513000 | G45: 65398500
B46: 李昇樺 | C46: Q220080340 | D46: 37000 | E46: 4791500 | F46: 37000 | G46: 5528500
B47: 曾秋鳳 | C47: A221053111 | D47: 60000 | E47: 8619000 | F47: 60000 | G47: 8723500
...

Sheet 本審附表十七
A1: 姓名 | B1: 犯罪起訖日 | C1: 買進股數 （股） | D1: 買進金額 （元） | E1: 每股買進均價 （元） | F1: 賣出股數 （股） | G1: 賣出金額 （元） | H1: 每股賣出均價 （元）
A2: 翁秋南 | B2: 95/11/17－96/10/30 | C2: ='SRB321'!D15 -> 6880000 | D2: ='SRB321'!E15 -> 696847100 | E2: =ROUND(D2/C2,4) -> 101.2859 | F2: ='SRB321'!F15 -> 7045000 | G2: ='SRB321'!G15 -> 791104800 | H2: =ROUND(G2/F2,4) -> 112.2931
A3: 鄭光育 | B3: 95/11/17－96/10/30 | C3: ='SRB321'!D41 -> 16661000 | D3: ='SRB321'!E41 -> 2163929600 | E3: =ROUND(D3/C3,4) -> 129.8799 | F3: ='SRB321'!F41 -> 16216500 | G3: ='SRB321'!G41 -> 2188694250 | H3: =ROUND(G3/F3,4) -> 134.9671
G7: 翁秋南 | J7: 鄭光育
A8: 已實現獲利（虧損）（元）: | H8: 已實現獲利（虧損）（元）:
A9: 實際獲利（損失）金額 = | G9: =ROUND(C2*(H2-E2),0) -> 75729536 | H9: 實際獲利（損失）金額 = | J9: =ROUND(F3*(H3-E3),0) -> 82496579
A10: 買進股數 x （每股賣出均價－每股買進均價） | H10: （每股賣出均價－每股買進均價）x 賣出股數
A12: 調整：交易成本 | H12: 調整：交易成本
A13: 手續費（買進股數 x（每股買進均價+每股賣出均價） x 0.1425%） | G13: =ROUND(-ABS(C2*(E2+H2)*0.1425%),0) -> -2093929 | H13: 手續費（賣出股數 x（每股買進均價+每股賣出均價） x 0.1425%） | J13: =ROUND(-F3*(E3+H3)*0.1425%,0) -> -6120220
A14: 交易稅（買進股數 x 每股賣出均價 x 0.3%） | G14: =ROUND(-C2*H2*0.3%,0) -> -2317730 | H14: 交易稅（賣出股數 x 每股賣出均價 x 0.3%） | J14: =ROUND(-F3*H3*0.3%,0) -> -6566082
A15: 小計（元）： | G15: =SUM(G9,G13:G14) -> 71317877 | H15: 小計（元）： | J15: =SUM(J9,J13:J14) -> 69810277
A17: 擬制獲利（虧損）（元）： | H17: 擬制獲利（虧損）（元）：
A18: 95/11/16期初收盤價格 | G18: 48.55 | H18: 96/10/30期末收盤價格 | J18: 129.5
A19: 賣超股數（賣出股數 - 買進股數） | G19: =F2-C2 -> 165000 | H19: 買超股數（買進股數 - 賣出股數） | J19: =C3-F3 -> 444500
A20: 擬制性獲利（虧損）金額 = | G20: =ROUND(G19*(H2-G18),0) -> 10517612 | H20: 擬制性獲利（虧損）金額 = | J20: =ROUND(J19*(J18-E3),0) -> -168866
A21: 賣超股數 x （每股賣出均價-期初收盤價格作為買價） | H21: 買超股數 x （期末收盤價格作為賣價 -每股買進均價）
A22: 調整：交易成本 | H22: 調整：交易成本
A23: 手續費（賣超股數 x（期初收盤價格 + 每股賣出均價） x 0.1425%） | G23: =ROUND(-G19*(G18+H2)*0.1425%,0) -> -37818 | H23: 手續費（買超股數 x（每股買進均價+期末收盤價格） x 0.1425%） | J23: =ROUND(-J19*(E3+J18)*0.1425%,0) -> -164294
A24: 交易稅（賣超股數 x 每股賣出均價 x 0.3%） | G24: =ROUND(-G19*H2*0.3%,0) -> -55585 | H24: 交易稅（買超股數 x 期末收盤價格 x 0.3%） | J24: =ROUND(-J19*J18*0.3%,0) -> -172688
A25: 小計（元）： | G25: =SUM(G20,G23:G24) -> 10424209 | H25: 小計（元）： | J25: =SUM(J20,J23:J24) -> -505848
A26: 合計（元）： | G26: =SUM(G15,G25) -> 81742086 | H26: 合計（元）： | J26: =SUM(J15,J25) -> 69304429
A28: 小結：鄭光育、翁秋南在佳必琪第一段期間所獲取之財物及財產上利益，合計併為151,046,515元。
A29: 資料出處：證交所110.1.22臺證密字第1100001312號函吉祥全 （代號:2491））檔名: SRB321_202101211105540061_rpt.doc，該表所列帳戶非本案被告所使用部分已減除（計有：黃錦章身分證字號0000000000、李昇樺身分證字號0000000000、黃思云身分證字號0000000000、曾秋鳳身分證字號0000000000）。

Sheet 前審附表17-2
A1: 姓名 | B1: 買進股數 (仟股) | C1: 買進金額 （仟元） | D1: 每股買進均價 （元） | E1: 賣出股數 (仟股) | F1: 賣出金額 （仟元） | G1: 每股賣出均價 （元）
A2: 翁秋南 | B2: 7265.6999 | C2: 658101.1 | D2: 90.576422 | E2: 7265.6999 | F2: 726506.8 | G2: 99.991303
A3: 鄭光育 | B3: 16488 | C3: 1978907.1 | D3: 120.02105 | E3: 15758.5 | F3: 1958688 | G3: 124.29407
F6: 翁秋南 | G6: 鄭光育
A7: 已實現獲利(虧損)(仟元):
A8: 實際獲利(損失)金額 = | F8: 68405.7 | G8: 67336.258
A9: (每股賣出均價－每股買進均價）x 賣出股數
A10: 調整：現金股利（註） | F10: 0 | G10: 225
A11: 調整：交易成本
A12: 手續費（賣出股數 x（每股買進均價+每股賣出均價） x 0.1425%） | F12: -1973.0663 | G12: -5486.3066
A13: 交易稅（賣出金額 x 0.3%） | F13: -2179.5204 | G13: -5876.064
A14: 小計（仟元）： | F14: 64253.113 | G14: 56198.887
A16: 擬制獲利（虧損）（仟元）：
A17: 96/10/01期末收盤價格 | F17: - | G17: 166
A18: 買超股數（買進股數 - 賣出股數） | F18: - | G18: 729.5
A19: 擬制性獲利（虧損）金額 = | F19: - | G19: 33541.642
A20: （期末收盤價格作為賣價 - 每股買進均價）x 買超股數
A21: 調整：交易成本
A22: 手續費（買超股數 x（每股買進均價+期末收盤價） x 0.1425%） | F22: - | G22: -297.32961
A23: 交易稅（期末收盤價 x 買超股數 x 0.3%） | F23: - | G23: -363.291
A24: 小計（仟元）： | F24: - | G24: 32881.021
A25: 合計（仟元）： | F25: 64253.113 | G25: 89079.909
A27: 註：前開計算已依據除權、除息等情形調整（查核期間96年8月9日現金股利每股3元）故所發放股利金額分別為0千元、225千元（即95/11/17至96/08/08累計買超股數0千股、75千股 x 每股股利3元）
B36: 買進股數 | C36: 賣出股數 | D36: 除權息前股數
A37: 除權息前 | B37: 6417 | C37: 6417 | D37: =B37-C37 -> 0
A38: 除權息後 | B38: 207 | C38: 207
A39: 小計 | B39: =SUM(B37:B38) -> 6624 | C39: =SUM(C37:C38) -> 6624
A41: 股票股利 | B41: 1.1
A42: 現金股利 | B42: 3
