Workbook
Name 吉2_SRB321: 'SRB321'!$B$1:$G$74

Sheet SRB321
A1: 群組 | B1: 投資人姓名 | C1: 身分證字號 | D1: 買進股數 | E1: 買進金額 | F1: 賣出股數 | G1: 賣出金額
A2: 翁秋南 | B2: 楊美鈴 | C2: E222070487 | D2: 13000 | E2: 814700 | F2: 13000 | G2: 965500
A3: 翁秋南 | B3: 莊富漳 | C3: H122288873 | D3: 5000 | E3: 514500 | F3: 5000 | G3: 571000
A4: 翁秋南 | B4: 翁秋南 | C4: Q102084286 | D4: 110000 | E4: 11046000 | F4: 110000 | G4: 13240000
A5: 翁秋南 | B5: 姚朝順 | C5: Q102102529 | D5: 10000 | E5: 692000 | F5: 10000 | G5: 700000
A6: 翁秋南 | B6: 翁國富 | C6: Q122591871 | D6: 620000 | E6: 42527000 | F6: 620000 | G6: 44479100
A7: 翁秋南 | B7: 翁姚靜花 | C7: Q202148527 | D7: 690000 | E7: 55091700 | F7: 690000 | G7: 59585500
A8: 翁秋南 | B8: 翁莉芳 | C8: Q221624177
A9: 翁秋南 | B9: 翁意茹 | C9: Q223472233
A10: 小計 | D10: =SUM(D2:D9) -> 1448000 | E10: =SUM(E2:E9) -> 110685900 | F10: =SUM(F2:F9) -> 1448000 | G10: =SUM(G2:G9) -> 119541100
A12: 減 | B12: 莊富璋
A13: 翁秋南總計 | D13: =D10-D12 -> 1448000 | E13: =E10-E12 -> 110685900 | F13: =F10-F12 -> 1448000 | G13: =G10-G12 -> 119541100
A18: 鄭光育 | B18: 王家修 | C18: A121891780 | D18: 226000 | E18: 24385000 | F18: 226000 | G18: 31765000
A19: 鄭光育 | B19: 曾秀美 | C19: A221053095 | D19: 115000 | E19: 11488500 | F19: 115000 | G19: 12802000
A20: 鄭光育 | B20: 曾潔慧 | C20: A221053102 | D20: 1355000 | E20: 115108800 | F20: 1630000 | G20: 200000300
A21: 鄭光育 | B21: 郭慧敏 | C21: A223015173 | D21: 410000 | E21: 34135100 | F21: 410000 | G21: 50376000
A22: 鄭光育 | B22: 柯月華 | C22: E201556240 | D22: 80000 | E22: 6071000 | F22: 80000 | G22: 7907600
A23: 鄭光育 | B23: 張鄭幸枝 | C23: H201952101 | D23: 396000 | E23: 28377800 | F23: 420000 | G23: 60146700
A24: 鄭光育 | B24: 張宣宸 | C24: J120737436 | D24: 1180000 | E24: 106684000 | F24: 1270000 | G24: 157900200
A25: 鄭光育 | B25: 翁瑞隆 | C25: N120758787 | D25: 581000 | E25: 41296000 | F25: 581000 | G25: 58602100
A26: 鄭光育 | B26: 翁淑麗 | C26: N220754058 | D26: 1269000 | E26: 76887850 | F26: 1299000 | G26: 118461500
A27: 小計 | D27: =SUM(D18:D26) -> 5612000 | E27: =SUM(E18:E26) -> 444434050 | F27: =SUM(F18:F26) -> 6031000 | G27: =SUM(G18:G26) -> 697961400
C29: 帳號
A30: 減 | B30: 王家修 | C30: 5658093 | D30: 16000 | E30: 1808000 | F30: 16000 | G30: 1865000 | H30: 該帳號非鄭光育借用
B31: 曾秀美
B32: 曾潔慧 | D32: 166000 | E32: 7860200 | F32: 0 | G32: 0
B33: 張鄭幸枝 | D33: 40000 | E33: 1920000 | F33: 0 | G33: 0
B34: 張宣宸 | D34: 53000 | E34: 2528400 | F34: 0 | G34: 0
B35: 翁淑麗 | D35: 269000 | E35: 12728650 | F35: 50000 | G35: 2328700
A36: 鄭光育總計 | D36: =D27-D30-D31-D32-D33-D34-D35 -> 5068000 | E36: =E27-E30-E31-E32-E33-E34-E35 -> 417588800 | F36: =F27-F30-F31-F32-F33-F34-F35 -> 5965000 | G36: =G27-G30-G31-G32-G33-G34-G35 -> 693767700
A39: 方翔立 | B39: 楊美鈴 | C39: E222070487 | D39: 13000 | E39: 814700 | F39: 13000 | G39: 965500
A40: 方翔立 | B40: 莊富漳 | C40: H122288873 | D40: 5000 | E40: 514500 | F40: 5000 | G40: 571000
A41: 方翔立 | B41: 翁秋南 | C41: Q102084286 | D41: 110000 | E41: 11046000 | F41: 110000 | G41: 13240000
A42: 方翔立 | B42: 姚朝順 | C42: Q102102529 | D42: 10000 | E42: 692000 | F42: 10000 | G42: 700000
A43: 方翔立 | B43: 翁國富 | C43: Q122591871 | D43: 620000 | E43: 42527000 | F43: 620000 | G43: 44479100
A44: 方翔立 | B44: 翁姚靜花 | C44: Q202148527 | D44: 690000 | E44: 55091700 | F44: 690000 | G44: 59585500
A45: 方翔立 | B45: 翁莉芳 | C45: Q221624177
A46: 方翔立 | B46: 翁意茹 | C46: Q223472233
A47: 方翔立 | B47: 王家修 | C47: A121891780 | D47: 226000 | E47: 24385000 | F47: 226000 | G47: 31765000
A48: 方翔立 | B48: 曾秀美 | C48: A221053095 | D48: 115000 | E48: 11488500 | F48: 115000 | G48: 12802000
...

Sheet 本審附表十七之二
A1: 姓名 | B1: 犯罪起訖日 | C1: 買進股數 （股） | D1: 買進金額 （元） | E1: 每股買進均價 （元） | F1: 賣出股數 （股） | G1: 賣出金額 （元） | H1: 每股賣出均價 （元）
A2: 翁秋南 | B2: 98/10/07－99/09/01 | C2: ='SRB321'!D13 -> 1448000 | D2: ='SRB321'!E13 -> 110685900 | E2: =ROUND(D2/C2,4) -> 76.4405 | F2: ='SRB321'!F13 -> 1448000 | G2: ='SRB321'!G13 -> 119541100 | H2: =ROUND(G2/F2,4) -> 82.556
A3: 鄭光育 | B3: 98/10/07－99/09/01 | C3: ='SRB321'!D36 -> 5068000 | D3: ='SRB321'!E36 -> 417588800 | E3: =ROUND(D3/C3,4) -> 82.3972 | F3: ='SRB321'!F36 -> 5965000 | G3: ='SRB321'!G36 -> 693767700 | H3: =ROUND(G3/F3,4) -> 116.3064
A4: 方翔立* | B4: 98/10/07－99/09/01 | C4: ='SRB321'!D66 -> 6516000 | D4: ='SRB321'!E66 -> 528274700 | E4: =ROUND(D4/C4,4) -> 81.0735 | F4: ='SRB321'!F66 -> 7413000 | G4: ='SRB321'!G66 -> 813308800 | H4: =ROUND(G4/F4,4) -> 109.7139
A5: *註：方翔立此段期間因犯罪所獲取之財物及財產上利益，應以鄭光育、翁秋南合併計算之犯罪規模為基準。
G7: 翁秋南 | J7: 鄭光育
A8: 已實現獲利（虧損）（元）: | H8: 已實現獲利（虧損）（元）:
A9: 實際獲利（損失）金額 = | G9: =ROUND(C2*(H2-E2),0) -> 8855244 | H9: 實際獲利（損失）金額 = | J9: =ROUND(C3*(H3-E3),0) -> 171851826
A10: 買進股數 x （每股賣出均價－每股買進均價） | H10: 買進股數 x （每股賣出均價－每股買進均價）
A12: 調整：交易成本 | H12: 調整：交易成本
A13: 手續費（買進股數 x（每股買進均價+每股賣出均價） x 0.1425%） | G13: =ROUND(-ABS(C2*(E2+H2)*0.1425%),0) -> -328073 | H13: 手續費（買進股數 x（每股買進均價+每股賣出均價） x 0.1425%） | J13: =ROUND(-C3*(E3+H3)*0.1425%,0) -> -1435018
A14: 交易稅（買進股數 x 每股賣出均價 x 0.3%） | G14: =ROUND(-C2*H2*0.3%,0) -> -358623 | H14: 交易稅（買進股數 x 每股賣出均價 x 0.3%） | J14: =ROUND(-C3*H3*0.3%,0) -> -1768323
A15: 小計（元）： | G15: =SUM(G9,G13:G14) -> 8168548 | H15: 小計（元）： | J15: =SUM(J9,J13:J14) -> 168648485
A17: 擬制獲利（虧損）（元）： | H17: 擬制獲利（虧損）（元）：
A18: 98/10/06期初收盤價格 | H18: 98/10/06期初收盤價格 | J18: 47.5
A19: 賣超股數（賣出股數 - 買進股數） | H19: 賣超股數（賣出股數 -買進股數） | J19: =F3-C3 -> 897000
A20: 擬制性獲利（虧損）金額 = | H20: 擬制性獲利（虧損）金額 = | J20: =ROUND(J19*(H3-J18),0) -> 61719341
A21: （每股賣出均價-期初收盤價格作為買價）x 賣超股數 | H21: 賣超股數 x （每股賣出均價 - 期初收盤價格作為買價）
A22: 調整：交易成本 | H22: 調整：交易成本
A23: 手續費（賣超股數 x（期初收盤價格 + 每股賣出均價） x 0.1425%） | H23: 手續費（賣超股數 x（期初收盤價格 + 每股賣出均價） x 0.1425%） | J23: =ROUND(-J19*(J18+H3)*0.1425%,0) -> -209381
A24: 交易稅（每股賣出均價 x 賣超股數 x 0.3%） | H24: 交易稅（賣超股數 x 每股賣出均價 x 0.3%） | J24: =ROUND(-J19*H3*0.3%,0) -> -312981
A25: 小計（元）： | H25: 小計（元）： | J25: =SUM(J20,J23:J24) -> 61196979
A26: 合計（元）： | G26: =SUM(G15,G25) -> 8168548 | H26: 合計（元）： | J26: =SUM(J15,J25) -> 229845464
A28: 小結：鄭光育、翁秋南在佳必琪第三段期間所獲取之財物及財產上利益，合併計為238,014,011元。方翔立此段期間因犯罪所獲取之財物及財產上利益，應以鄭光育、翁秋南合併計算之犯罪規模為準。
A30: 資料出處：證交所110.1.22臺證密字第1100001312號函佳必琪 （代號:6197））檔名: SRB321_202101211105550062_rpt.doc，該表所列帳戶非本案被告所使用部分已減除（計有：楊美鈴身分證字號0000000000、曾秋鳳身分證字號0000000000）。

Sheet 前審附表18
A1: 姓名 | B1: 買進股數 (仟股) | C1: 買進金額 （仟元） | D1: 每股買進均價 （元） | E1: 賣出股數 (仟股) | F1: 賣出金額 （仟元） | G1: 每股賣出均價 （元）
A2: 翁秋南 | B2: 1706 | C2: 144206.8 | D2: 84.529191 | E2: 1706 | F2: 159655.9 | G2: 93.584936
A3: 鄭光育 | B3: 6132 | C3: 467831.6 | D3: 76.293477 | E3: 6470 | F3: 762439.4 | G3: 117.84226
F6: 翁秋南 | G6: 鄭光育
A7: 已實現獲利(虧損)(仟元):
A8: 實際獲利(損失)金額 = | F8: 15449.1 | G8: 268820.6
A9: (每股賣出均價－每股買進均價）x 賣出股數
A11: 調整：交易成本
A12: 手續費（賣出股數 x（每股買進均價+每股賣出均價） x 0.1425%） | F12: -433.00435 | G12: -1789.8829
A13: 交易稅（賣出金額 x 0.3%） | F13: -478.9677 | G13: -2287.3182
A14: 小計（仟元）： | F14: 14537.128 | G14: 264743.4
A16: 擬制獲利（虧損）（仟元）：
A17: 98/09/29期初收盤價格 | F17: - | G17: 45.5
A18: 賣超張數（賣出數量 - 買進數量） | F18: - | G18: 338
A19: 擬制性獲利（虧損）金額 = | F19: - | G19: 24451.683
A20: （每股賣出均價-期初收盤價格作為買價）x 買超張數
A21: 調整：交易成本
A22: 手續費（賣超張數 x（期初收盤價 + 每股賣出均價） x 0.1425%） | F22: - | G22: -78.673798
A23: 交易稅（每股賣出均價 x 賣超張數 x 0.3%） | F23: - | G23: -119.49205
A24: 小計 | F24: - | G24: 24253.517
A25: 合計 | F25: 14537.128 | G25: 288996.92
