Workbook
Name 吉2_SRB321: 'SRB321'!$B$1:$G$40

Sheet 前審附表17-1
A1: 姓名 | B1: 買進股數 (仟股) | C1: 買進金額 （仟元） | D1: 每股買進均價 （元） | E1: 賣出股數 (仟股) | F1: 賣出金額 （仟元） | G1: 每股賣出均價 （元）
A2: 翁秋南 | B2: 80471 | C2: 1588197.8 | D2: 19.736275 | E2: 76895 | F2: 1716466 | G2: 22.322205
A3: 鄭光育 | B3: 26362 | C3: 481968.6 | D3: 18.282702 | E3: 24837 | F3: 511939.43 | G3: 20.611967
A4: 黃錦章 | B4: 14742 | C4: 261806.38 | D4: 17.759217 | E4: 13717 | F4: 303795.55 | G4: 22.147376
F8: 翁秋南 | G8: 鄭光育 | H8: 黃錦章
A9: 已實現獲利(虧損)(仟元):
A10: 實際獲利(損失)金額 = | F10: 198845.13 | G10: 57851.951 | H10: 60192.368
A11: (每股賣出均價－每股買進均價）x 賣出股數
A13: 調整：交易成本
A14: 手續費（賣出股數 x（每股買進均價+每股賣出均價） x 0.1425%） | F14: -4608.5737 | G14: -1376.5883 | H14: -780.04319
A15: 交易稅（賣出金額 x 0.3%） | F15: -5149.3979 | G15: -1535.8183 | H15: -911.38665
A16: 小計（仟元）： | F16: 189087.16 | G16: 54939.544 | H16: 58500.938
A18: 擬制獲利（虧損）（仟元）：
A19: 96/11/08期末收盤價格 | F19: 18.5 | G19: 18.5 | H19: 18.5
A20: 買超股數（買進股數 - 賣出股數） | F20: 3576 | G20: 1525 | H20: 1025
A21: 擬制性獲利（虧損）金額 = | F21: -4420.9187 | G21: 331.37888 | H21: 759.30237
A22: （期末收盤價格作為賣價 - 每股買進均價）x 買超股數
A23: 調整：交易成本
A24: 手續費（買超股數 x（每股買進均價+期末收盤價） x 0.1425%） | F24: -194.84441 | G24: -79.93341 | H24: -52.961119
A25: 交易稅（期末收盤價 x 買超股數 x 0.3%） | F25: -198.468 | G25: -84.6375 | H25: -56.8875
A26: 小計（仟元）： | F26: -4814.2311 | G26: 166.80797 | H26: 649.45375
A27: 合計（仟元）： | F27: 184272.93 | G27: 55106.352 | H27: 59150.392

Sheet SRB321
A1: 群組 | B1: 投資人姓名 | C1: 身分證字號 | D1: 買進股數 | E1: 買進金額 | F1: 賣出股數 | G1: 賣出金額
A2: 鄭光育 | B2: 王志仁 | C2: A121775110 | D2: 766000 | E2: 13458400 | F2: 766000 | G2: 15330250
A3: 鄭光育 | B3: 王家修 | C3: A121891780 | D3: 2083000 | E3: 35878100 | F3: 2083000 | G3: 46893900
A4: 鄭光育 | B4: 曾潔慧 | C4: A221053102 | D4: 240000 | E4: 4288000 | F4: 240000 | G4: 5604000
A5: 鄭光育 | B5: 詹淑惠 | C5: A222560115 | D5: 1679000 | E5: 28142900 | F5: 1679000 | G5: 29737750
A6: 鄭光育 | B6: 郭慧敏 | C6: A223015173 | D6: 7755000 | E6: 135008300 | F6: 7515000 | G6: 146879880
A7: 鄭光育 | B7: 柯月華 | C7: E201556240 | D7: 4964000 | E7: 92412300 | F7: 3464000 | G7: 75156200
A8: 鄭光育 | B8: 張鄭幸枝 | C8: H201952101 | D8: 2766000 | E8: 59103500 | F8: 2726000 | G8: 62777600
A9: 鄭光育 | B9: 張宣宸 | C9: J120737436 | D9: 4233000 | E9: 93562750 | F9: 2980000 | G9: 70104900
A10: 鄭光育 | B10: 翁瑞隆 | C10: N120758787 | D10: 1785000 | E10: 30512150 | F10: 1785000 | G10: 38246800
A11: 鄭光育 | B11: 翁淑麗 | C11: N220754058 | D11: 4645000 | E11: 76557500 | F11: 4645000 | G11: 89015050
A12: 鄭光育 | B12: 曾一峰 | C12: P120468270 | D12: 100000 | E12: 1785000 | F12: 100000 | G12: 2550000
A13: 鄭光育 | B13: 曾重凱 | C13: P122497831 | D13: 100000 | E13: 1785000 | F13: 100000 | G13: 2550000
A14: 小計 | D14: =SUM(D2:D13) -> 31116000 | E14: =SUM(E2:E13) -> 572493900 | F14: =SUM(F2:F13) -> 28083000 | G14: =SUM(G2:G13) -> 584846330
A16: 減 | B16: 王家修 | C16: 64692 | D16: 158000 | E16: 2539400 | F16: 158000 | G16: 2733200 | H16: 該帳號非鄭光育借用
B17: 王家修 | C17: 69911 | D17: 291000 | E17: 4822550 | F17: 291000 | G17: 4812900 | H17: 該帳號非鄭光育借用
B18: 郭慧敏 | C18: 501181 | D18: 204000 | E18: 2832000 | F18: 204000 | G18: 3036100 | H18: 該帳號非鄭光育借用
B19: 郭慧敏 | C19: 8097693 | D19: 20000 | E19: 356000 | F19: 20000 | G19: 350000 | H19: 該帳號非鄭光育借用
B20: 郭慧敏 | C20: 74265 | D20: 130000 | E20: 1473300 | F20: 130000 | G20: 1498300 | H20: 該帳號非鄭光育借用
A21: 鄭光育小計 | D21: =D14-D16-D17-D18-D19-D20 -> 30313000 | E21: =E14-E16-E17-E18-E19-E20 -> 560470650 | F21: =F14-F16-F17-F18-F19-F20 -> 27280000 | G21: =G14-G16-G17-G18-G19-G20 -> 572415830
A25: 翁秋南 | B25: 翁秋南 | C25: Q102084286 | D25: 73916000 | E25: 1463596080 | F25: 70887000 | G25: 1578750530
A26: 翁秋南 | B26: 姚朝順 | C26: Q102102529 | D26: 864000 | E26: 15970730 | F26: 814000 | G26: 17379500
A27: 翁秋南 | B27: 翁國富 | C27: Q122591871 | D27: 2585000 | E27: 48124610 | F27: 2370000 | G27: 53665000
A28: 翁秋南 | B28: 翁姚靜花 | C28: Q202148527 | D28: 1037000 | E28: 21348900 | F28: 1037000 | G28: 27994050
A29: 翁秋南 | B29: 翁莉芳 | C29: Q221624177 | D29: 310000 | E29: 5971250 | F29: 250000 | G29: 6557850
A30: 翁秋南 | B30: 翁意茹 | C30: Q223472233 | D30: 1348000 | E30: 25378750 | F30: 1148000 | G30: 23243000
A31: 翁秋南 | B31: 楊美鈴 | C31: E222070487 | D31: 396000 | E31: 7549150 | F31: 386000 | G31: 8845600
A32: 翁秋南小計 | D32: =SUM(D24:D31) -> 80456000 | E32: =SUM(E24:E31) -> 1587939470 | F32: =SUM(F24:F31) -> 76892000 | G32: =SUM(G24:G31) -> 1716435530
A38: 不列入 | B38: 楊美鈴 | C38: V220261742 | D38: 0 | E38: 0 | F38: 3000 | G38: 30450 | H38: ID非本案之楊美鈴
A39: 不列入 | B39: 黃思云 | C39: I200216923 | D39: 1043000 | E39: 18303740 | F39: 1043000 | G39: 25195500 | H39: 非人頭帳戶
A40: 不列入 | B40: 黃錦章 | C40: Q120545988 | D40: 12456000 | E40: 216974540 | F40: 11431000 | G40: 249227650 | H40: 非人頭帳戶
A41: 不列入 | B41: 李昇樺 | C41: Q220080340 | D41: 1243000 | E41: 26528100 | F41: 1243000 | G41: 29372400 | H41: 非人頭帳戶
A42: 不列入 | B42: 曾秀美 | C42: C200788611 | D42: 14000 | E42: 176040 | F42: 9000 | G42: 67820 | H42: ID非本案之曾秀美
A43: 不列入 | B43: 詹淑惠 | C43: N222623949 | D43: 3000 | E43: 54000 | F43: 3000 | G43: 51150 | H43: ID非本案之詹淑惠
A44: 不列入 | B44: 曾秋鳳 | C44: A221053111 | D44: 410000 | E44: 5457000 | F44: 410000 | G44: 7211400 | H44: 非人頭帳戶
A45: 不列入小計 | D45: =SUM(D38:D44) -> 15169000 | E45: =SUM(E38:E44) -> 267493420 | F45: =SUM(F38:F44) -> 14142000 | G45: =SUM(G38:G44) -> 311156370
A47: 合計 | D47: =D14+D32+D45 -> 126741000 | E47: =E14+E32+E45 -> 2427926790 | F47: =F14+F32+F45 -> 119117000 | G47: =G14+G32+G45 -> 2612438230

Sheet 本審附表十六
A1: 姓名 | B1: 犯罪起訖日 | C1: 買進股數 （股） | D1: 買進金額 （元） | E1: 每股買進均價 （元） | F1: 賣出股數 （股） | G1: 賣出金額 （元） | H1: 每股賣出均價 （元）
A2: 翁秋南 | B2: 96/05/10－96/11/08 | C2: ='SRB321'!D32 -> 80456000 | D2: ='SRB321'!E32 -> 1587939470 | E2: =ROUND(D2/C2,4) -> 19.7367 | F2: ='SRB321'!F32 -> 76892000 | G2: ='SRB321'!G32 -> 1716435530 | H2: =ROUND(G2/F2,4) -> 22.3227
A3: 鄭光育 | B3: 96/05/10－96/11/08 | C3: ='SRB321'!D21 -> 30313000 | D3: ='SRB321'!E21 -> 560470650 | E3: =ROUND(D3/C3,4) -> 18.4894 | F3: ='SRB321'!F21 -> 27280000 | G3: ='SRB321'!G21 -> 572415830 | H3: =ROUND(G3/F3,4) -> 20.983
G7: 翁秋南 | J7: 鄭光育
A8: 已實現獲利（虧損）（元）: | H8: 已實現獲利（虧損）（元）:
A9: 實際獲利（損失）金額 = | G9: =ROUND(F2*(H2-E2),0) -> 198842712 | H9: 實際獲利（損失）金額 = | J9: =ROUND(F3*(H3-E3),0) -> 68025408
A10: 賣出股數 x （每股賣出均價－每股買進均價） | H10: （每股賣出均價－每股買進均價）x 賣出股數
A12: 調整：交易成本 | H12: 調整：交易成本
A13: 手續費（賣出股數 x（每股買進均價+每股賣出均價） x 0.1425%） | G13: =ROUND(-ABS(F2*(E2+H2)*0.1425%),0) -> -4608495 | H13: 手續費（賣出股數 x（每股買進均價+每股賣出均價） x 0.1425%） | J13: =ROUND(-F3*(E3+H3)*0.1425%,0) -> -1534450
A14: 交易稅（賣出股數 x 每股賣出均價 x 0.3%） | G14: =ROUND(-F2*H2*0.3%,0) -> -5149311 | H14: 交易稅（賣出股數 x 每股賣出均價 x 0.3%） | J14: =ROUND(-F3*H3*0.3%,0) -> -1717249
A15: 小計（元）： | G15: =SUM(G9,G13:G14) -> 189084906 | H15: 小計（元）： | J15: =SUM(J9,J13:J14) -> 64773709
A17: 擬制獲利（虧損）（元）： | H17: 擬制獲利（虧損）（元）：
A18: 96/11/08期末收盤價格 | G18: 18.5 | H18: 96/11/08期末收盤價格 | J18: 18.5
A19: 買超股數（買進股數 - 賣出股數） | G19: =C2-F2 -> 3564000 | H19: 買超股數（買進股數 - 賣出股數） | J19: =C3-F3 -> 3033000
A20: 擬制性獲利（虧損）金額 = | G20: =ROUND(G19*(G18-E2),0) -> -4407599 | H20: 擬制性獲利（虧損）金額 = | J20: =ROUND(J19*(J18-E3),0) -> 32150
A21: 買超股數 x （期末收盤價格作為賣價 -每股買進均價） | H21: 買超股數 x （期末收盤價格作為賣價 -每股買進均價）
A22: 調整：交易成本 | H22: 調整：交易成本
A23: 手續費（買超股數 x（每股買進均價+期末收盤價格） x 0.1425%） | G23: =ROUND(-G19*(E2+G18)*0.1425%,0) -> -194193 | H23: 手續費（買超股數 x（每股買進均價+期末收盤價格） x 0.1425%） | J23: =ROUND(-J19*(E3+J18)*0.1425%,0) -> -159869
A24: 交易稅（買超股數 x 期末收盤價格 x 0.3%） | G24: =ROUND(-G19*G18*0.3%,0) -> -197802 | H24: 交易稅（買超股數 x 期末收盤價格 x 0.3%） | J24: =ROUND(-J19*J18*0.3%,0) -> -168332
A25: 小計（元）： | G25: =SUM(G20,G23:G24) -> -4799594 | H25: 小計（元）： | J25: =SUM(J20,J23:J24) -> -296051
A26: 合計（元）： | G26: =SUM(G15,G25) -> 184285312 | H26: 合計（元）： | J26: =SUM(J15,J25) -> 64477658
A28: 小結：鄭光育、翁秋南在吉祥全球第一段期間所獲取之財物及財產上利益，合併計為248,762,970元。
A29: 資料出處：證交所110.1.22臺證密字第1100001312號函吉祥全球 （代號:2491））檔名: SRB545_202101211105340052_rpt.doc， 該表所列帳戶非本案被告所使用部分已減除（計有：曾秀美身分證字號0000000000、詹淑惠身分證字號0000000000、黃錦章身分證字號0000000000、李昇樺身分證字號0000000000、黃思云身分證字號0000000000、楊美鈴身分證字號0000000000、曾秋鳳身分證字號0000000000）。
