Workbook

Sheet 附民
B1: 本案附民一覽表
A2: 編號 | B2: 案號 | C2: 原告 | D2: 起訴金額 | E2: 本院審核 | F2: 出處
A3: 1 | B3: 105年度附民字第218號 | C3: 王秀珠 | D3: 138000 | E3: 同附表五編號634 | F3: 103年度證券交易稅一般代徵稅額繳款書，E13卷第121頁
A4: 2 | B4: 105年度附民字第151號 | C4: 李瓊雲 | D4: 184000 | E4: 同附表一編號197、附表五編號277，交易金額分別為50,000、134,000元 | F4: 永豐銀行103年6月17日匯款申請單、第一商業銀行103年8月11日存款存根聯，第13、15頁
A5: 3 | B5: 105年度附民字第150號 | C5: 呂繆文 | D5: 69000 | E5: 同附表五編號640 | F5: 國泰世華商業銀行103年10月3日存款憑證，第74-75頁
A6: 4 | B6: 105年度附民字第179號 | C6: 連捷 | D6: 510000 | E6: 同附表五編號153、507，交易金額分別為50,000、268,000元 | F6: 103年度證券交易稅一般代徵稅額繳款書，第4頁
A7: 5 | B7: 105年度附民字第237號 | C7: 游玫芳 | D7: 670000 | E7: 同附表六編號115、129，交易金額分別各為335,000元，然兩造已於106年1月3日和解 | F7: 103年度證券交易稅一般代徵稅額繳款書，105年度附民字第183號第2、8頁
A8: 6 | B8: 105年度附民字第210號 | C8: 王素如 | D8: 460000 | E8: 同附表一編號47、附表五編號251，交易金額分別為125,000、335,000元 | F8: 第一銀行103年7月30日匯款通知單、103年度證券交易稅一般代徵稅額繳款書，第6-8頁
A9: 7 | B9: 105年度附民字第196號 | C9: 洪康倪 | D9: 460000 | E9: 同附表一編號241、附表五編號271，交易金額為125,000、335,000元 | F9: 第一銀行103年8月12日匯款通知單、103年度證券交易稅一般代徵稅額繳款書，E14卷第172-173頁
A10: 8 | B10: 105年度附民字第195號 | C10: 王秀珠 | D10: 138000 | E10: 同附表五編號634 | F10: 103年度證券交易稅一般代徵稅額繳款書，E13卷第121頁
A11: 9 | B11: 105年度附民字第193號 | C11: 王俊霖 | D11: 134000 | E11: 附民原告僅附起訴狀一紙，並無其他交易憑證證實所述損害金額。爰以附表五編號520作為本院審核結果 | F11: 未提供相關交易憑證
A12: 10 | B12: 105年度附民字第190號 | C12: 周玉全 | D12: 134000 | E12: 同附表五編號573 | F12: 富邦銀行104年1月26日匯款委託書、103年度證券交易稅一般代徵稅額繳款書，E14卷第67-68頁
A13: 11 | B13: 105年度附民字第189號 | C13: 彭淑萍 | D13: 468000 | E13: 同附表五編號191、570，交易金額分別為50,000、268,000元作為本院審核結果，其餘增列在附表一編號274，金額150,000元 | F13: 第一商業銀行104年6月22日全行代理收款存根聯、103年度證券交易稅一般代徵稅額繳款書，E15卷第65-1、65-2頁
A14: 12 | B14: 105年度附民字第302號 | C14: 陳仰山 | D14: 134000 | E14: 同附表五編號541 | F14: 103年度證券交易稅一般代徵稅額繳款書，E16卷第223頁
... A40: 38 | B40: 105年度附民字第349號 | C40: 黃順良 | D40: 758000 | E40: 同附表一編號132、附表六編號10、23、46，交易金額分別為100,000、38,000、130,000、65,000元，另增列交易附表一編號277，金額為275,000元。其餘以邱麗華名義於104年2月9日出售3,000股至附民原告部分，金額150,000元（第115頁），非屬本案被告所掌握之人頭所販售者，擬不予採認。 | F40: 103年2月17日、3月5日證券交易稅一般代徵稅額繳款書、臺灣銀行103年8月8日、104年6月22日匯款申請書回條聯，第5-10頁
C41: 黃士峰 | D41: 207000 | E41: 同附表六編號194 | F41: 103年度證券交易稅一般代徵稅額繳款書，第5、11頁
C42: 廖芳藝 | D42: 134000 | E42: 同附表六編號99 | F42: 103年度證券交易稅一般代徵稅額繳款書，第5、12頁
C43: 駱詠潔 | D43: 470000 | E43: 同附表一編號172、附表五編號608、附表六編號207，交易金額分別為125,000、276,000、69,000元 | F43: 103年7月8日、4月7日證券交易稅一般代徵稅額繳款書、103年現金增資繳款書，第15-17頁
C44: 劉建良 | D44: 470000 | E44: 同附表一編號220、附表六編號206，交易金額分別為125,000、345,000元 | F44: 103年度證券交易稅一般代徵稅額繳款書、第一商業銀行103年8月12日存款存根聯，第18頁
A45: 39 | B45: 105年度附民字第265號 | C45: 康惠循 | D45: 2444000 | E45: 除原審附表五編號588，交易金額為670,000元為重疊外，另增列附表五編號590-2，金額335,000元。其餘交易因證券出賣人為林明洲、非屬本案被告所掌握之人頭，擬不予採認 | F45: 103年6月3日、103年12月30日證券交易稅一般代徵稅額繳款書第7-8頁
A46: 40 | B46: 105年度附民字第206號 | C46: 陳玉燕 | D46: 470000 | E46: 同附表一編號135、附表十二編號49，交易金額分別為125,000、345,000元 | F46: 103年度證券交易稅一般代徵稅額繳款書、第一商業銀行103年8月8日存款存根聯，第3頁
A47: 41 | B47: 105年度附民字第227號 | C47: 黃士峰 | D47: 207000 | E47: 同附表六編號194 | F47: 103年度證券交易稅一般代徵稅額繳款書，第3頁
A48: 42 | B48: 105年度附民字第270號 | C48: 徐正民 | D48: 94000 | E48: 同附表一編號42、附表六編號214，金額分別為25,000、69,000元 | F48: 103年度證券交易稅一般代徵稅額繳款書、第一商業銀行103年7月30日存款存根聯，第5-6頁
A49: 43 | B49: 105年度附民字第226號 | C49: 黃順良 | D49: 758000 | E49: 同附表一編號132、附表六編號10、23、46，交易金額分別為100,000、38,000、130,000、65,000元，另增列交易附表一編號277，金額為275,000元。其餘以邱麗華名義於104年2月9日出售3,000股至附民原告部分，金額150,000元（第115頁），非屬本案被告所掌握之人頭所販售者，擬不予採認。 | F49: 103年2月17日、3月5日證券交易稅一般代徵稅額繳款書、臺灣銀行103年8月8日、104年6月22日匯款申請書回條聯，第103、106、108、110、119頁
A50: 44 | B50: 105年度附民字第201號 | C50: 王定忠 | D50: 4784000 | E50: 同附表一編號110、附表五編號263、272、308，交易金額分別為1,050,000、804,000、670,000、1,340,000元，其餘金額增列在附表五編號210-2、590-1。 | F50: 103年6月5日、6月10日、6月24日、104年1月16日證券交易稅一般代徵稅額繳款書、103年現金增資繳款書，第21頁反面至25頁反面、E18卷第106-109頁
C51: 王端美 | D51: 1100400 | E51: 同附表一編號104、附表五編號278，交易金額分別為300,000、804,000元 | F51: 103年度證券交易稅一般代徵稅額繳款書、第一商業銀行103年8月6日存款存根聯，第27頁反面、第28頁反面
C52: 王麗綾 | D52: 134000 | E52: 同附表五編號280 | F52: 103年度證券交易稅一般代徵稅額繳款書，第30頁
A53: 45 | B53: 105年度附民字第224號 | C53: 章寶貴 | D53: 94000 | E53: 同附表五編號196、576，交易金額分別為25,000、67,000元 | F53: 103年2月28日、12月22日證券交易稅一般代徵稅額繳款書，第3頁
A54: 46 | B54: 105年度附民字第160號 | C54: 王美智 | D54: 736000 | E54: 同附表五編號50、390、416，交易金額分別為200,000、402,000、201,000元 | F54: 第一商業銀行103年8月26日、8月28日、9月4日匯款申請書回條，E17卷第82頁
C55: 呂月美 | D55: 276000 | E55: 1.其主張係以30,000元現金支付，其餘由他人代匯，無其他交易憑證可驗證。 2.爰以附表五編號49、415，交易金額分別為75,000、201,000元作為本院審核結果 | F55: E17卷第91頁
C56: 李珍妮 | D56: 460000 | E56: 1.卷附103年9月15日證券交易稅一般代徵稅額繳款書，買受人為李珍妮，金額為50,000元，其出賣人為林成蘭，並非本案被告所支配。其餘核對無誤。 2.爰以附表五編號43、116、455，交易金額為50,000、75,000、201,000元作為本院審核結果。 | F56: 103年度證券交易稅一般代徵稅額繳款書，E17卷第21、24、27、28頁
C57: 黃慧娥 | D57: 1932000 | E57: 經加總被告主張之金流與原審判決核對後相符，爰以附表五編號51、124、391、417、463，交易金額分別為400,000、125,000、938,000、134,000、335,000元作為本院審核結果 | F57: 中國信託信義分行2525400424729對帳單，E17第65、89頁、本院卷六第113-117頁
C58: 黃羿堯 | D58: 276000 | E58: 1.其主張係以30000元現金支付，其餘由他人代匯，無其他交易憑證可驗證。 2.爰以附表五編號48、414，交易金額分別為75,000、201,000元作為本院審核結果 | F58: 告訴人陳報資料，本院卷四第369頁
C59: 劉秀麗 | D59: 276000 | E59: 同附表五編號42、396，交易金額分別為75,000、201,000元 | F59: 103年度證券交易稅一般代徵稅額繳款書，E17卷第36、40頁
C60: 謝美玲 | D60: 1380000 | E60: 附民原告並無其他交易憑證證實所述損害金額。爰以附表五編號52、392、418，交易金額分別為375,000、670,000、335,000元作為本院審核結果 | F60: 未提供相關交易憑證
A61: 47 | B61: 105年度附民字第159號 | C61: 林麗雲 | D61: 184000 | E61: 同附表一編號251、附表五編號232，交易金額分別為50,000、134,000元，本案已撤回 | F61: 103年度證券交易稅一般代徵稅額繳款書、第一商業銀行103年8月12日銀行對帳單，E14卷第136頁、E38卷第170頁反面
A62: 48 | B62: 105年度附民字第197號 | C62: 林麗雲 | D62: 184000 | E62: 同附表一編號251、附表五編號232，交易金額分別為50,000、134,000元。本案已撤回 | F62: 103年度證券交易稅一般代徵稅額繳款書、兆良公司103年8月12日第一商業銀行對帳單，E14卷第136頁、E38卷第170頁反面
A63: 49 | B63: 106年度附民字第44號 | C63: 柯佑在 | D63: 46000 | E63: 原告損害金額實為92,000，詳附表八編號43、134。然原告陳述已與被告劉勝宜達成46,000元之和解 | F63: 106年3月24日審判程序筆錄、103年12月26日證券交易稅一般代徵稅額繳款書二紙，第4頁
A64: 50 | B64: 106年度附民字第24號 | C64: 連捷 | D64: 510000 | E64: 同附表五編號153、507，交易金額分別為50,000、268,000元， | F64: 103年度證券交易稅一般代徵稅額繳款書，105年度附民字第179號第4頁
A65: 51 | B65: 105年度附民字第301號 | C65: 陳仰山 | D65: 134000 | E65: 同附表五編號541 | F65: 103年度證券交易稅一般代徵稅額繳款書，E16卷第223頁
...

Sheet 告訴人
D2: 附表九：告訴人刁品緣等358人名冊
F5: 德睿創投 | G5: 《兆豐資訊》 | J5: 《尚譽資訊》
F6: 萬豐財經 | G6: 《萬富資訊》 | J6: 《鴻寶創投》
F7: 聯寶財經 | G7: 《瑞豐投顧》 | J7: 《立達資訊》
G8: 《慶豐財經》
F9: 長旺資訊
F10: 京旺財經
F11: 其他投顧
A14: 被告黃馨儀提供證據(本院卷四) | B14: 與附表五重疊 | C14: 被告黃馨儀不爭執 | D14: 編號 | E14: 告訴人姓名 | G14: 盤商 | H14: 業務 | I14: 日期 | J14: 出處 | K14: 帳戶 | L14: 帳號 | M14: 帳戶出處 | N14: 出賣人
A15: V | B15: {=IF(OR(F15=#REF!),"重疊","")} -> #REF! | C15: V | D15: 1 | E15: 刁品緣（附回函） | F15: 刁品緣 | J15: E19P1 | K15: 中信城中 | L15: 107540515259
A16: V | B16: {=IF(OR(F16=#REF!),"重疊","")} -> #REF! | D16: 2 | E16: 尤伍能（附回函） | F16: 尤伍能 | J16: E19P4 | K16: 玉山城中、第一龍潭 | L16: 0532979066757、29210028883
B17: {=IF(OR(F17=#REF!),"重疊","")} -> #REF! | D17: 5 | E17: 王瑋璉 | F17: 王瑋璉
A18: V | B18: {=IF(OR(F18=#REF!),"重疊","")} -> #REF! | C18: V | D18: 6 | E18: 王宥東（匯款中信城中） | F18: 王宥東
A19: V | B19: {=IF(OR(F19=#REF!),"重疊","")} -> #REF! | C19: V | D19: 7 | E19: 王裕仁（附回函） | F19: 王裕仁 | J19: E19P17 | K19: 第一龍潭 | L19: 29210028883
A20: V | B20: {=IF(OR(F20=#REF!),"重疊","")} -> #REF! | C20: V | D20: 8 | E20: 王萬華（附回函） | F20: 王萬華
A21: V | B21: {=IF(OR(F21=#REF!),"重疊","")} -> #REF! | D21: 3 | E21: 尤銘德(附回函) | F21: 尤銘德 | G21: 德睿 | H21: 劉明英 | I21: 103.05、08、09、10 | J21: E13P67、89 | K21: 富邦襄陽、國泰、第一龍潭、中信信義 | L21: 731102007276、005530004858、29210028883、252540042729 | M21: P96-97
A22: V | B22: {=IF(OR(F22=#REF!),"重疊","")} -> #REF! | C22: V | D22: 4 | E22: 王錦盛（附回函） | F22: 王錦盛 | G22: 德睿 | H22: 黃馨儀 | I22: 103.05.25 | J22: E13P67 | K22: 中信城中 | L22: 107540515259 | M22: P72
A23: V | B23: {=IF(OR(F23=#REF!),"重疊","")} -> #REF! | C23: V | D23: 9 | E23: 王冬立（附回函） | F23: 王冬立 | G23: 德睿 | H23: 詹欣頤 | I23: 103.04、08 | J23: E13P109 | K23: 第一龍潭 | L23: 29210028883 | M23: P116
A24: V | B24: {=IF(OR(F24=#REF!),"重疊","")} -> #REF! | D24: 10 | E24: 王美智（附回函） | F24: 王美智 | G24: 長旺（前德睿） | H24: 楊舒涵、陳婉柔 | I24: 103.08.26、08.28、09.04 | J24: E17P65 | K24: 中信信義 | L24: 252540042729 | M24: E17P81-82
B25: {=IF(OR(F25=#REF!),"重疊","")} -> #REF! | C25: V | D25: 11 | E25: 王禎嫻（匯款中信城中） | F25: 王禎嫻 | G25: 德睿 | H25: 張峰達 | I25: 103.04.23 | J25: E13P109 | K25: 張佳容戶頭
A26: V | B26: {=IF(OR(F26=#REF!),"重疊","")} -> #REF! | C26: V | D26: 12 | E26: 王秀珠（附回函） | F26: 王秀珠 | G26: 德睿 | H26: 蔡昕諺 | I26: 102.09.04 | J26: E13P109
B27: {=IF(OR(F27=#REF!),"重疊","")} -> #REF! | D27: 13 | E27: 王俊霖 | F27: 王俊霖
A28: V | B28: {=IF(OR(F28=#REF!),"重疊","")} -> #REF! | D28: 14 | E28: 王淑玲（附回函） | F28: 王淑玲 | G28: 聯寶 | H28: 高薇馨 | J28: E19P46 | K28: 富邦龍山 | L28: 330168694091 | M28: P52
A29: V | B29: {=IF(OR(F29=#REF!),"重疊","")} -> #REF! | D29: 15 | E29: 王麗綾（附回函） | F29: 王麗綾 | G29: 萬豐 | H29: 高薇馨 | I29: 103.06.20 | J29: E19P57 | K29: 富邦龍山 | L29: 330168694091
A30: V | B30: {=IF(OR(F30=#REF!),"重疊","")} -> #REF! | D30: 16 | E30: 王定忠（附回函） | F30: 王定忠 | G30: 萬豐 | H30: 高薇馨 | I30: 103.06、08 | J30: E18P106 | K30: 富邦龍山、第一龍潭、台銀內湖 | L30: 330168694091、29210028883、153004368165 | M30: P106、108、E19P60-64
A31: V | B31: {=IF(OR(F31=#REF!),"重疊","")} -> #REF! | D31: 17 | E31: 王端美（附回函） | F31: 王端美 | G31: 萬豐 | H31: 高薇馨 | J31: E19P83 | K31: 富邦龍山、第一龍潭 | L31: 330168694091、29210028883 | M31: P85
A32: V | B32: {=IF(OR(F32=#REF!),"重疊","")} -> #REF! | C32: V | D32: 18 | E32: 王碧枝（附回函） | F32: 王碧枝
A33: V | B33: {=IF(OR(F33=#REF!),"重疊","")} -> #REF! | C33: V | D33: 19 | E33: 方燦堂（附回函） | F33: 方燦堂 | J33: E19P89 | K33: 第一龍潭 | L33: 29210028883 | M33: P89
A34: V | B34: {=IF(OR(F34=#REF!),"重疊","")} -> #REF! | C34: V | D34: 20 | E34: 方秀娟（附回函） | F34: 方秀娟
A35: V | B35: {=IF(OR(F35=#REF!),"重疊","")} -> #REF! | C35: V | D35: 21 | E35: 毛學玲（附回函） | F35: 毛學玲 | G35: 德睿 | H35: 吳家穎 | I35: 103.04.21 | J35: E13P125
A36: V | B36: {=IF(OR(F36=#REF!),"重疊","")} -> #REF! | C36: V | D36: 22 | E36: 白靜婷（附回函） | F36: 白靜婷
A37: V | B37: {=IF(OR(F37=#REF!),"重疊","")} -> #REF! | C37: V | D37: 23 | E37: 伍正康（附回函） | F37: 伍正康 | G37: 德睿 | H37: 陳薇伃 | I37: 103.05、08、09 | J37: E13P125 | K37: 中信城中、國泰明誠、第一龍潭 | L37: 107540515259、277506082015、29210028883 | M37: P135-136
A38: V | B38: {=IF(OR(F38=#REF!),"重疊","")} -> #REF! | D38: 24 | E38: 巫正和（附回函） | F38: 巫正和 | G38: 萬鈞 | H38: 季采璇 | I38: 103.12 | J38: 卷四P117 | K38: 富邦龍山 | L38: 330168694091
A39: V | B39: {=IF(OR(F39=#REF!),"重疊","")} -> #REF! | C39: V | D39: 25 | E39: 余春財（附回函） | F39: 余春財 | G39: 兆豐 | H39: 黃詩婷 | I39: 103.07、10 | J39: E13P125
B40: {=IF(OR(F40=#REF!),"重疊","")} -> #REF! | D40: 26 | E40: 呂坤霖 | F40: 呂坤霖
A41: V | B41: {=IF(OR(F41=#REF!),"重疊","")} -> #REF! | D41: 27 | E41: 呂月美（附回函） | F41: 呂月美 | G41: 德睿 | H41: 楊舒涵 | I41: 103.08.28 | J41: E17P91 | K41: 中信信義 | L41: 252540042729 | M41: P91
B42: {=IF(OR(F42=#REF!),"重疊","")} -> #REF! | D42: 28 | E42: 呂繆文 | F42: 呂繆文
B43: {=IF(OR(F43=#REF!),"重疊","")} -> #REF! | D43: 29 | E43: 吳梅枝 | F43: 吳梅枝
B44: {=IF(OR(F44=#REF!),"重疊","")} -> #REF! | C44: V | D44: 30 | E44: 吳堃霖（匯款中信城中） | F44: 吳堃霖
B45: {=IF(OR(F45=#REF!),"重疊","")} -> #REF! | C45: V | D45: 31 | E45: 吳家穎（員工） | F45: 吳家穎
...

Sheet 附表一
A1: 附表一：「兆良科技股份有限公司股東繳納現金股款明細表」
A2: 編號 | B2: 股東戶號 | C2: 股東姓名 | D2: 繳款日期 | E2: 繳款來源 | F2: 股數 | G2: 每股金額 | H2: 繳款金額 | I2: 送存銀行情形 | L2: 備註
I3: 銀行及帳戶 | J3: 日期 | K3: 金 額
A4: 1 | B4: ="97" -> 97 | C4: ="陳天輝" -> 陳天輝 | D4: 41842 | E4: 現金 | F4: 20000 | G4: 25 | H4: =F4*G4 -> 500000 | I4: 第一銀行龍潭分行000-00-000000 | J4: 41842 | K4: =H4 -> 500000
A5: 2 | B5: ="86" -> 86 | C5: ="吳世隆" -> 吳世隆 | D5: 41842 | E5: 現金 | F5: 2000 | G5: 25 | H5: =F5*G5 -> 50000 | I5: 第一銀行龍潭分行000-00-000000 | J5: 41842 | K5: =H5 -> 50000
A6: 3 | B6: ="222" -> 222 | C6: ="林谷安" -> 林谷安 | D6: 41844 | E6: 現金 | F6: 2000 | G6: 25 | H6: =F6*G6 -> 50000 | I6: 第一銀行龍潭分行000-00-000000 | J6: 41844 | K6: =H6 -> 50000
A7: 4 | B7: ="22" -> 22 | C7: ="柯重安" -> 柯重安 | D7: 41845 | E7: 現金 | F7: 10000 | G7: 25 | H7: =F7*G7 -> 250000 | I7: 第一銀行龍潭分行000-00-000000 | J7: 41845 | K7: =H7 -> 250000
A8: 5 | B8: ="284" -> 284 | C8: ="林慶華" -> 林慶華 | D8: 41845 | E8: 現金 | F8: 3000 | G8: 25 | H8: =F8*G8 -> 75000 | I8: 第一銀行龍潭分行000-00-000000 | J8: 41845 | K8: =H8 -> 75000
A9: 6 | B9: ="400" -> 400 | C9: ="莊心然" -> 莊心然 | D9: 41848 | E9: 現金 | F9: 2000 | G9: 25 | H9: =F9*G9 -> 50000 | I9: 第一銀行龍潭分行000-00-000000 | J9: 41848 | K9: =H9 -> 50000
A10: 7 | B10: ="90" -> 90 | C10: ="施锝岷" -> 施锝岷 | D10: 41848 | E10: 現金 | F10: 2000 | G10: 25 | H10: =F10*G10 -> 50000 | I10: 第一銀行龍潭分行000-00-000000 | J10: 41848 | K10: =H10 -> 50000
A11: 8 | B11: ="33" -> 33 | C11: ="傅應龍" -> 傅應龍 | D11: 41848 | E11: 現金 | F11: 12000 | G11: 25 | H11: =F11*G11 -> 300000 | I11: 第一銀行龍潭分行000-00-000000 | J11: 41848 | K11: =H11 -> 300000
A12: 9 | B12: ="15" -> 15 | C12: ="劉子鵬" -> 劉子鵬 | D12: 41848 | E12: 現金 | F12: 16000 | G12: 25 | H12: =F12*G12 -> 400000 | I12: 第一銀行龍潭分行000-00-000000 | J12: 41848 | K12: =H12 -> 400000
A13: 10 | B13: ="163" -> 163 | C13: ="郭連興" -> 郭連興 | D13: 41848 | E13: 現金 | F13: 1000 | G13: 25 | H13: =F13*G13 -> 25000 | I13: 第一銀行龍潭分行000-00-000000 | J13: 41848 | K13: =H13 -> 25000
A14: 11 | B14: ="250" -> 250 | C14: ="吳柏羽" -> 吳柏羽 | D14: 41848 | E14: 現金 | F14: 5000 | G14: 25 | H14: =F14*G14 -> 125000 | I14: 第一銀行龍潭分行000-00-000000 | J14: 41848 | K14: =H14 -> 125000 | L14: 查106年附民字第108號並無相關交易憑證，爰以本院審核結果為準
A15: 12 | B15: ="235" -> 235 | C15: ="江志賢" -> 江志賢 | D15: 41848 | E15: 現金 | F15: 1000 | G15: 25 | H15: =F15*G15 -> 25000 | I15: 第一銀行龍潭分行000-00-000000 | J15: 41848 | K15: =H15 -> 25000
A16: 13 | B16: ="363" -> 363 | C16: ="李渝倬" -> 李渝倬 | D16: 41848 | E16: 現金 | F16: 2000 | G16: 25 | H16: =F16*G16 -> 50000 | I16: 第一銀行龍潭分行000-00-000000 | J16: 41848 | K16: =H16 -> 50000
A17: 14 | B17: ="67" -> 67 | C17: ="黃麗娟" -> 黃麗娟 | D17: 41848 | E17: 現金 | F17: 1000 | G17: 25 | H17: =F17*G17 -> 25000 | I17: 第一銀行龍潭分行000-00-000000 | J17: 41848 | K17: =H17 -> 25000
A18: 15 | B18: ="150" -> 150 | C18: ="劉石振" -> 劉石振 | D18: 41848 | E18: 現金 | F18: 4000 | G18: 25 | H18: =F18*G18 -> 100000 | I18: 第一銀行龍潭分行000-00-000000 | J18: 41848 | K18: =H18 -> 100000 | L18: 103年7月28日匯款單據，E18卷第88頁
A19: 16 | B19: ="107" -> 107 | C19: ="魏哲云" -> 魏哲云 | D19: 41848 | E19: 現金 | F19: 1000 | G19: 25 | H19: =F19*G19 -> 25000 | I19: 第一銀行龍潭分行000-00-000000 | J19: 41848 | K19: =H19 -> 25000 | L19: 第一商業銀行103年7月28日存款存根聯，105年附民字第171號第2頁
A20: 17 | B20: ="48" -> 48 | C20: ="余忠實" -> 余忠實 | D20: 2014/7/28、8/1 | E20: 現金 | F20: 16000 | G20: 25 | H20: =F20*G20 -> 400000 | I20: 第一銀行龍潭分行000-00-000000 | J20: 2014/7/28、8/1 | K20: 400000 | L20: 7/28(1000股)
I21: 第一銀行龍潭分行000-00-000000 | L21: 8/1(5000股)
I22: 第一銀行龍潭分行000-00-000000 | L22: 8/7(10000股)
A23: 18 | B23: ="227" -> 227 | C23: ="郭鳳晴" -> 郭鳳晴 | D23: 41848 | E23: 現金 | F23: 2000 | G23: 25 | H23: =F23*G23 -> 50000 | I23: 第一銀行龍潭分行000-00-000000 | J23: 41848 | K23: =H23 -> 50000
A24: 19 | B24: ="315" -> 315 | C24: =" 陳姷女勻" -> 陳姷女勻 | D24: 41849 | E24: 現金 | F24: 5000 | G24: 25 | H24: =F24*G24 -> 125000 | I24: 第一銀行龍潭分行000-00-000000 | J24: 41849 | K24: =H24 -> 125000
A25: 20 | B25: ="196" -> 196 | C25: ="何彩綢" -> 何彩綢 | D25: 41849 | E25: 現金 | F25: 3000 | G25: 25 | H25: =F25*G25 -> 75000 | I25: 第一銀行龍潭分行000-00-000000 | J25: 41849 | K25: =H25 -> 75000
A26: 21 | B26: ="409" -> 409 | C26: ="劉素芬" -> 劉素芬 | D26: 41849 | E26: 現金 | F26: 10000 | G26: 25 | H26: =F26*G26 -> 250000 | I26: 第一銀行龍潭分行000-00-000000 | J26: 41849 | K26: =H26 -> 250000
A27: 22 | B27: ="164" -> 164 | C27: ="吳劉素琴" -> 吳劉素琴 | D27: 41849 | E27: 現金 | F27: 10000 | G27: 25 | H27: =F27*G27 -> 250000 | I27: 第一銀行龍潭分行000-00-000000 | J27: 41849 | K27: =H27 -> 250000
A28: 23 | B28: ="395" -> 395 | C28: ="陳沅池" -> 陳沅池 | D28: 41849 | E28: 現金 | F28: 3000 | G28: 25 | H28: =F28*G28 -> 75000 | I28: 第一銀行龍潭分行000-00-000000 | J28: 41849 | K28: =H28 -> 75000
A29: 24 | B29: ="314" -> 314 | C29: ="謝秋琴" -> 謝秋琴 | D29: 41849 | E29: 現金 | F29: 3000 | G29: 25 | H29: =F29*G29 -> 75000 | I29: 第一銀行龍潭分行000-00-000000 | J29: 41849 | K29: =H29 -> 75000
A30: 25 | B30: ="148" -> 148 | C30: ="陳萍實" -> 陳萍實 | D30: 41849 | E30: 現金 | F30: 10000 | G30: 25 | H30: =F30*G30 -> 250000 | I30: 第一銀行龍潭分行000-00-000000 | J30: 41849 | K30: =H30 -> 250000
A31: 26 | B31: ="310" -> 310 | C31: ="鍾毓珊" -> 鍾毓珊 | D31: 41849 | E31: 現金 | F31: 2000 | G31: 25 | H31: =F31*G31 -> 50000 | I31: 第一銀行龍潭分行000-00-000000 | J31: 41849 | K31: =H31 -> 50000
A32: 27 | B32: ="255" -> 255 | C32: ="陳鄧秀讓" -> 陳鄧秀讓 | D32: 41849 | E32: 現金 | F32: 10000 | G32: 25 | H32: =F32*G32 -> 250000 | I32: 第一銀行龍潭分行000-00-000000 | J32: 41849 | K32: =H32 -> 250000
A33: 28 | B33: ="300" -> 300 | C33: ="楊進義" -> 楊進義 | D33: 41849 | E33: 現金 | F33: 5000 | G33: 25 | H33: =F33*G33 -> 125000 | I33: 第一銀行龍潭分行000-00-000000 | J33: 41849 | K33: =H33 -> 125000
A34: 29 | B34: ="42" -> 42 | C34: ="羅家炎" -> 羅家炎 | D34: 41849 | E34: 現金 | F34: 20000 | G34: 25 | H34: =F34*G34 -> 500000 | I34: 第一銀行龍潭分行000-00-000000 | J34: 41849 | K34: =H34 -> 500000
A35: 30 | B35: ="377" -> 377 | C35: ="莊美琪" -> 莊美琪 | D35: 41849 | E35: 現金 | F35: 4000 | G35: 25 | H35: =F35*G35 -> 100000 | I35: 第一銀行龍潭分行000-00-000000 | J35: 41849 | K35: =H35 -> 100000
A36: 31 | B36: ="240" -> 240 | C36: ="黃賓" -> 黃賓 | D36: 41849 | E36: 現金 | F36: 2000 | G36: 25 | H36: =F36*G36 -> 50000 | I36: 第一銀行龍潭分行000-00-000000 | J36: 41849 | K36: =H36 -> 50000
A37: 32 | B37: ="201" -> 201 | C37: ="湯美珍" -> 湯美珍 | D37: 41849 | E37: 現金 | F37: 1000 | G37: 25 | H37: =F37*G37 -> 25000 | I37: 第一銀行龍潭分行000-00-000000 | J37: 41849 | K37: =H37 -> 25000 | L37: 第一商業銀行103年7月29日存款存根聯，E22卷第129頁
A38: 33 | B38: ="341" -> 341 | C38: ="何正民" -> 何正民 | D38: 41849 | E38: 現金 | F38: 5000 | G38: 25 | H38: =F38*G38 -> 125000 | I38: 第一銀行龍潭分行000-00-000000 | J38: 41849 | K38: =H38 -> 125000
A39: 34 | B39: ="12" -> 12 | C39: ="曾榮鑾" -> 曾榮鑾 | D39: 41849 | E39: 現金 | F39: 2000 | G39: 25 | H39: =F39*G39 -> 50000 | I39: 第一銀行龍潭分行000-00-000000 | J39: 41849 | K39: =H39 -> 50000
A40: 35 | B40: ="261" -> 261 | C40: ="郭德茂" -> 郭德茂 | D40: 41849 | E40: 現金 | F40: 1000 | G40: 25 | H40: =F40*G40 -> 25000 | I40: 第一銀行龍潭分行000-00-000000 | J40: 41849 | K40: =H40 -> 25000
...

Sheet 附表二
A1: 附表二：「羅栩亮出售兆良公司股票予王子源等6人明細表」（註1）
A2: 編號 | B2: 出賣人 | C2: 投資人 | D2: 成交日期 | E2: 成交股數 | F2: 成交單價 | G2: 成交總價
A3: 1 | B3: 羅栩亮 | C3: 王子源 | D3: 103/08/29 | E3: 100000 | F3: 10.2 | G3: 1020000
A4: 2 | B4: 羅栩亮 | C4: 鍾坤宏 | D4: 103/08/29 | E4: 30000 | F4: 10.2 | G4: 306000
A5: 3 | B5: 羅栩亮 | C5: 王芊富 | D5: 103/08/29 | E5: 80000 | F5: 10.2 | G5: 816000
A6: 4 | B6: 羅栩亮 | C6: 王秀珠 | D6: 103/08/29 | E6: 80000 | F6: 10.2 | G6: 816000
A7: 5 | B7: 羅栩亮 | C7: 林秝羽 | D7: 103/08/29 | E7: 100000 | F7: 10.2 | G7: 1020000
A8: 6 | B8: 羅栩亮 | C8: 王香懿 | D8: 103/08/29 | E8: 10000 | F8: 10.2 | G8: 102000
D9: 合計 | E9: =SUM(E3:E8) -> 400000 | G9: =SUM(G3:G8) -> 4080000
A10: 註1：卷證出處為A43卷第291頁。
A11: 註2：因成交單價僅為每股10.2元，產生之證券交易所得稅甚小，故於計算被告羅栩亮犯罪所得時予以忽略，併此敘明。

Sheet 附表三
A1: 附表三：「羅栩亮、林美雲出售兆良公司股票予黃泳學，黃泳學登記受讓人為王貴儀之明細表」
A2: 編號 | B2: 出賣人 | C2: 投資人 | D2: 成交日期 | E2: 成交股數 | F2: 成交單價 | G2: 成交總價
A3: 1 | B3: 羅栩亮 | C3: 王貴儀 | D3: 103/01/10 | E3: 600000 | F3: 15 | G3: 9000000
A4: 2 | B4: 林美雲 | C4: 王貴儀 | D4: 103/04/03 | E4: 500000 | F4: 15 | G4: 7500000
A5: 3 | B5: 林美雲 | C5: 王貴儀 | D5: 103/05/05 | E5: 500000 | F5: 15 | G5: 7500000
A6: 4 | B6: 林美雲 | C6: 王貴儀 | D6: 103/06/17 | E6: 400000 | F6: 15 | G6: 6000000
A7: 5 | B7: 林美雲 | C7: 王貴儀 | D7: 103/08/22 | E7: 199000 | F7: 15 | G7: 2985000
A8: 6 | B8: 林美雲 | C8: 王貴儀 | D8: 103/08/28 | E8: 1000 | F8: 15 | G8: 15000
A9: 7 | B9: 林美雲 | C9: 王貴儀 | D9: 103/09/12 | E9: 400000 | F9: 15 | G9: 6000000
A10: 8 | B10: 羅栩亮 | C10: 王貴儀 | D10: 103/10/21 | E10: 500000 | F10: 15 | G10: 7500000
A11: 9 | B11: 羅栩亮 | C11: 王貴儀 | D11: 103/11/07 | E11: 300000 | F11: 15 | G11: 4500000
A12: 10 | B12: 羅栩亮 | C12: 王貴儀 | D12: 103/12/17 | E12: 200000 | F12: 15 | G12: 3000000
A13: 11 | B13: 羅栩亮 | C13: 王貴儀 | D13: 103/12/24 | E13: 200000 | F13: 15 | G13: 3000000
A14: 12 | B14: 羅栩亮 | C14: 王貴儀 | D14: 104/01/26 | E14: 30000 | F14: 15 | G14: 450000
D15: 合計 | E15: =SUM(E3:E14) -> 3830000 | G15: =SUM(G3:G14) -> 57450000
A16: 卷證出處：A22卷第4頁、A43卷第292頁

Sheet 附表四 
A1: 附表四：「王貴儀出售兆良公司股票（依對象別）明細表」
A2: 編號 | B2: 出賣人 | C2: 投資人 | D2: 成交日期 | E2: 成交股數 | F2: 成交單價 | G2: 成交總價 | H2: 備註
A3: 1 | B3: 王貴儀 | C3: 孟鼎鈞 | D3: 103/01/22 | E3: 100000 | F3: 23 | G3: 2300000 | H3: 註3
A4: 2 | B4: 王貴儀 | C4: 孟鼎鈞 | D4: 103/02/24 | E4: 100000 | F4: 23 | G4: 2300000 | H4: 註3
A5: 3 | B5: 王貴儀 | C5: 沈花女 | D5: 103/02/25 | E5: 10000 | F5: 23 | G5: 230000
A6: 4 | B6: 王貴儀 | C6: 林明頡 | D6: 103/02/25 | E6: 10000 | F6: 23 | G6: 230000
A7: 5 | B7: 王貴儀 | C7: 王立華 | D7: 103/02/26 | E7: 15000 | F7: 23 | G7: 345000
A8: 6 | B8: 王貴儀 | C8: 孟鼎鈞 | D8: 103/03/04 | E8: 65000 | F8: 23 | G8: 1495000 | H8: 註3
A9: 7 | B9: 王貴儀 | C9: 孟鼎鈞 | D9: 103/03/10 | E9: 100000 | F9: 23 | G9: 2300000 | H9: 註3
A10: 8 | B10: 王貴儀 | C10: 沈花女 | D10: 103/03/17 | E10: 10000 | F10: 23 | G10: 230000
A11: 9 | B11: 王貴儀 | C11: 孟鼎鈞 | D11: 103/03/17 | E11: 90000 | F11: 23 | G11: 2070000 | H11: 註3
A12: 10 | B12: 王貴儀 | C12: 孟鼎鈞 | D12: 103/03/31 | E12: 90000 | F12: 23 | G12: 2070000 | H12: 註3
A13: 11 | B13: 王貴儀 | C13: 王立華 | D13: 103/03/31 | E13: 10000 | F13: 23 | G13: 230000
A14: 12 | B14: 王貴儀 | C14: 沈花女 | D14: 103/04/08 | E14: 10000 | F14: 23 | G14: 230000
A15: 13 | B15: 王貴儀 | C15: 李文揚 | D15: 103/04/08 | E15: 5000 | F15: 23 | G15: 115000
A16: 14 | B16: 王貴儀 | C16: 孟鼎鈞 | D16: 103/04/08 | E16: 35000 | F16: 23 | G16: 805000 | H16: 註3
A17: 15 | B17: 王貴儀 | C17: 王立華 | D17: 103/04/08 | E17: 10000 | F17: 23 | G17: 230000
A18: 16 | B18: 王貴儀 | C18: 林明頡 | D18: 103/04/08 | E18: 10000 | F18: 23 | G18: 230000
A19: 17 | B19: 王貴儀 | C19: 沈花女 | D19: 103/04/09 | E19: 10000 | F19: 23 | G19: 230000
A20: 18 | B20: 王貴儀 | C20: 沈花女 | D20: 103/04/16 | E20: 20000 | F20: 23 | G20: 460000
A21: 19 | B21: 王貴儀 | C21: 孟鼎鈞 | D21: 103/04/16 | E21: 50000 | F21: 23 | G21: 1150000 | H21: 註3
A22: 20 | B22: 王貴儀 | C22: 孟鼎鈞 | D22: 103/04/22 | E22: 50000 | F22: 23 | G22: 1150000 | H22: 註3
A23: 21 | B23: 王貴儀 | C23: 李文揚 | D23: 103/04/23 | E23: 20000 | F23: 23 | G23: 460000
A24: 22 | B24: 王貴儀 | C24: 沈花女 | D24: 103/04/25 | E24: 30000 | F24: 23 | G24: 690000
A25: 23 | B25: 王貴儀 | C25: 李文揚 | D25: 103/04/28 | E25: 2000 | F25: 23 | G25: 46000
A26: 24 | B26: 王貴儀 | C26: 孟鼎鈞 | D26: 103/04/30 | E26: 48000 | F26: 23 | G26: 1104000 | H26: 註3
A27: 25 | B27: 王貴儀 | C27: 孟鼎鈞 | D27: 103/05/08 | E27: 50000 | F27: 23 | G27: 1150000 | H27: 註3
A28: 26 | B28: 王貴儀 | C28: 李文揚 | D28: 103/05/12 | E28: 2000 | F28: 23 | G28: 46000
A29: 27 | B29: 王貴儀 | C29: 孟鼎鈞 | D29: 103/05/13 | E29: 18000 | F29: 23 | G29: 414000 | H29: 註3
A30: 28 | B30: 王貴儀 | C30: 孟鼎鈞 | D30: 103/05/14 | E30: 30000 | F30: 23 | G30: 690000 | H30: 註3
A31: 29 | B31: 王貴儀 | C31: 王立華 | D31: 103/05/15 | E31: 10000 | F31: 23 | G31: 230000
A32: 30 | B32: 王貴儀 | C32: 沈花女 | D32: 103/05/19 | E32: 20000 | F32: 23 | G32: 460000
A33: 31 | B33: 王貴儀 | C33: 孟鼎鈞 | D33: 103/05/19 | E33: 20000 | F33: 23 | G33: 460000 | H33: 註3
A34: 32 | B34: 王貴儀 | C34: 李文揚 | D34: 103/05/20 | E34: 1000 | F34: 23 | G34: 23000
A35: 33 | B35: 王貴儀 | C35: 孟鼎鈞 | D35: 103/05/20 | E35: 49000 | F35: 23 | G35: 1127000 | H35: 註3
A36: 34 | B36: 王貴儀 | C36: 林明頡 | D36: 103/05/22 | E36: 10000 | F36: 23 | G36: 230000
A37: 35 | B37: 王貴儀 | C37: 王乙涵 | D37: 103/05/22 | E37: 50000 | F37: 23 | G37: 1150000 | H37: 註3
A38: 36 | B38: 王貴儀 | C38: 沈花女 | D38: 103/05/23 | E38: 10000 | F38: 23 | G38: 230000
A39: 37 | B39: 王貴儀 | C39: 沈花女 | D39: 103/05/26 | E39: 5000 | F39: 23 | G39: 115000
A40: 38 | B40: 王貴儀 | C40: 王乙涵 | D40: 103/05/26 | E40: 15000 | F40: 23 | G40: 345000 | H40: 註3
...

Sheet 附表五
A1: 附表五：「朱緯業以沈花女、林明頡名義購入兆良公司股票後，出售予投資人明細表」
A3: 編號 | B3: 出賣人 | C3: 投資人 | D3: 業務 | E3: 成交日期 | F3: 成交股數 | G3: 成交單價 | H3: 成交總價 | I3: 被告備註 | J3: 原審備註 | K3: 本院審核註1 | L3: 卷證依據註1 | M3: 逐筆確認 | N3: 朱緯業犯罪所得 | O3: 黃馨瑩犯罪所得 | P3: 備註 | R3: 附表九編號 | S3: 與附表九重疊 | T3: 爭點 | U3: 被告黃馨瑩承認 | V3: 被告朱緯業承認 | W3: 原證7-33、7-34
A4: 1 | B4: 沈花女 | C4: 余忠實 | E4: 103/03/03 | F4: 1000 | G4: 67 | H4: 67000 | K4: 同原審認定 | N4: 67000 | P4: 註3 | Q4: =IF(N4<>0,"註3",IF(O4<>0,"註4","")) -> 註3 | R4: =INDEX([1]告訴人!$D$15:$F$372,MATCH(C4,[1]告訴人!$F$15:$F$372,0),1) -> #N/A | S4: {=IF(OR(C4=[1]告訴人!$F$15:$F$372),"重疊","")}
A5: 2 | B5: 沈花女 | C5: 黃麗娟 | E5: 103/03/07 | F5: 1000 | G5: 68 | H5: 68000 | K5: 同原審認定 | N5: 68000 | P5: 註3 | Q5: =IF(N5<>0,"註3",IF(O5<>0,"註4","")) -> 註3 | R5: =INDEX([1]告訴人!$D$15:$F$372,MATCH(C5,[1]告訴人!$F$15:$F$372,0),1) -> #N/A | S5: {=IF(OR(C5=[1]告訴人!$F$15:$F$372),"重疊","")}
A6: 3 | B6: 沈花女 | C6: 王湄雙 | E6: 103/03/10 | F6: 2000 | G6: 69 | H6: 138000 | K6: 同原審認定 | N6: 138000 | P6: 註3 | Q6: =IF(N6<>0,"註3",IF(O6<>0,"註4","")) -> 註3 | R6: =INDEX([1]告訴人!$D$15:$F$372,MATCH(C6,[1]告訴人!$F$15:$F$372,0),1) -> #N/A | S6: {=IF(OR(C6=[1]告訴人!$F$15:$F$372),"重疊","")}
A7: 4 | B7: 沈花女 | C7: 蘇碧玉 | E7: 103/03/12 | F7: 1000 | G7: 69 | H7: 69000 | K7: 同原審認定 | N7: 69000 | P7: 註3 | Q7: =IF(N7<>0,"註3",IF(O7<>0,"註4","")) -> 註3 | R7: =INDEX([1]告訴人!$D$15:$F$372,MATCH(C7,[1]告訴人!$F$15:$F$372,0),1) -> #N/A | S7: {=IF(OR(C7=[1]告訴人!$F$15:$F$372),"重疊","")}
A8: 5 | B8: 沈花女 | C8: 林文香 | E8: 103/03/13 | F8: 2000 | G8: 67 | H8: 134000 | I8: （註3） | J8: （註3） | K8: 本件聯絡窗口為聯寶財經員工黃秋華，亦無相關資金帳戶可供查證，應與被告黃馨瑩無涉；復此筆交易業經被告朱緯業承認為其所販售 | L8: 本院前審卷四第191頁、卷五第357頁 | M8: OK | N8: 134000 | P8: 註3 | Q8: =IF(N8<>0,"註3",IF(O8<>0,"註4","")) -> 註3 | R8: =INDEX([1]告訴人!$D$15:$F$372,MATCH(C8,[1]告訴人!$F$15:$F$372,0),1) -> 91 | S8: {=IF(OR(C8=[1]告訴人!$F$15:$F$372),"重疊","")} -> 重疊 | T8: 1 | V8: 1
A9: 6 | B9: 沈花女 | C9: 施鍀岷 | E9: 103/03/14 | F9: 2000 | G9: 69 | H9: 138000 | K9: 同原審認定 | N9: 138000 | P9: 註3 | Q9: =IF(N9<>0,"註3",IF(O9<>0,"註4","")) -> 註3 | R9: =INDEX([1]告訴人!$D$15:$F$372,MATCH(C9,[1]告訴人!$F$15:$F$372,0),1) -> #N/A | S9: {=IF(OR(C9=[1]告訴人!$F$15:$F$372),"重疊","")}
A10: 7 | B10: 沈花女 | C10: 王伯峰 | E10: 103/03/17 | F10: 1000 | G10: 67 | H10: 67000 | K10: 同原審認定 | N10: 67000 | P10: 註3 | Q10: =IF(N10<>0,"註3",IF(O10<>0,"註4","")) -> 註3 | R10: =INDEX([1]告訴人!$D$15:$F$372,MATCH(C10,[1]告訴人!$F$15:$F$372,0),1) -> #N/A | S10: {=IF(OR(C10=[1]告訴人!$F$15:$F$372),"重疊","")}
A11: 8 | B11: 沈花女 | C11: 邱碧芬 | E11: 103/03/17 | F11: 3000 | G11: 67 | H11: 201000 | I11: （註3） | J11: （註3） | K11: 本件聯絡窗口為聯寶財經員工黃秋華，亦無相關資金帳戶可供查證，應與被告黃馨瑩無涉；復此筆交易業經被告朱緯業承認為其所販售 | L11: E20第81頁、本院前審卷四第171頁、卷五第357頁 | M11: OK | N11: 201000 | P11: 註3 | Q11: =IF(N11<>0,"註3",IF(O11<>0,"註4","")) -> 註3 | R11: =INDEX([1]告訴人!$D$15:$F$372,MATCH(C11,[1]告訴人!$F$15:$F$372,0),1) -> 70 | S11: {=IF(OR(C11=[1]告訴人!$F$15:$F$372),"重疊","")} -> 重疊 | T11: 1 | V11: 1
A12: 9 | B12: 沈花女 | C12: 廖坤立 | E12: 103/03/17 | F12: 3000 | G12: 67 | H12: 201000 | K12: 同原審認定 | N12: 201000 | P12: 註3 | Q12: =IF(N12<>0,"註3",IF(O12<>0,"註4","")) -> 註3 | R12: =INDEX([1]告訴人!$D$15:$F$372,MATCH(C12,[1]告訴人!$F$15:$F$372,0),1) -> #N/A | S12: {=IF(OR(C12=[1]告訴人!$F$15:$F$372),"重疊","")}
A13: 10 | B13: 林明頡 | C13: 莊永隆 | E13: 103/03/27 | F13: 2000 | G13: 67 | H13: 134000 | K13: 同原審認定 | N13: 134000 | P13: 註3 | Q13: =IF(N13<>0,"註3",IF(O13<>0,"註4","")) -> 註3 | R13: =INDEX([1]告訴人!$D$15:$F$372,MATCH(C13,[1]告訴人!$F$15:$F$372,0),1) -> #N/A | S13: {=IF(OR(C13=[1]告訴人!$F$15:$F$372),"重疊","")}
A14: 11 | B14: 沈花女 | C14: 邱碧芬 | E14: 103/03/31 | F14: 3000 | G14: 67 | H14: 201000 | I14: （註3） | J14: （註3） | K14: 本件聯絡窗口為聯寶財經員工黃秋華，亦無相關資金帳戶可供查證，應與被告黃馨瑩無涉；復此筆交易業經被告朱緯業承認為其所販售 | L14: E20第81頁、本院前審卷四第171頁、104偵18394卷第12頁、104偵18394卷第20頁 | M14: OK | N14: 201000 | P14: 註3 | Q14: =IF(N14<>0,"註3",IF(O14<>0,"註4","")) -> 註3 | R14: =INDEX([1]告訴人!$D$15:$F$372,MATCH(C14,[1]告訴人!$F$15:$F$372,0),1) -> 70 | S14: {=IF(OR(C14=[1]告訴人!$F$15:$F$372),"重疊","")} -> 重疊 | T14: 1 | V14: 1
A15: 12 | B15: 林明頡 | C15: 劉石振 | E15: 103/04/03 | F15: 1000 | G15: 38 | H15: 38000 | I15: （註3） | J15: （註3） | K15: 本件聯絡窗口為京旺財經員工楊丹妮，匯款帳戶係富邦龍山分行、一銀龍潭分行帳戶，均非德睿公司之人頭帳戶，應與被告黃馨瑩無涉；復此筆交易業經被告朱緯業承認該投資人係其客戶 | L15: E18第86、90頁、本院前審卷七第319頁 | M15: OK | N15: 38000 | P15: 註3 | Q15: =IF(N15<>0,"註3",IF(O15<>0,"註4","")) -> 註3 | R15: =INDEX([1]告訴人!$D$15:$F$372,MATCH(C15,[1]告訴人!$F$15:$F$372,0),1) -> 341 | S15: {=IF(OR(C15=[1]告訴人!$F$15:$F$372),"重疊","")} -> 重疊 | T15: 1
A16: 13 | B16: 林明頡 | C16: 張羽寬 | E16: 103/04/03 | F16: 1000 | G16: 67 | H16: 67000 | K16: 同原審認定 | N16: 67000 | P16: 註3 | Q16: =IF(N16<>0,"註3",IF(O16<>0,"註4","")) -> 註3 | R16: =INDEX([1]告訴人!$D$15:$F$372,MATCH(C16,[1]告訴人!$F$15:$F$372,0),1) -> #N/A | S16: {=IF(OR(C16=[1]告訴人!$F$15:$F$372),"重疊","")}
A17: 14 | B17: 林明頡 | C17: 劉石振 | E17: 103/04/03 | F17: 3000 | G17: 67 | H17: 201000 | I17: （註3） | J17: （註3） | K17: 本件聯絡窗口為京旺財經員工楊丹妮，匯款帳戶係富邦龍山分行、一銀龍潭分行帳戶，均非德睿公司之人頭帳戶，應與被告黃馨瑩無涉；復此筆交易業經被告朱緯業承認該投資人為其客戶 | L17: E18第86、89頁、本院前審卷四第491頁，本院前審卷七第319頁 | M17: OK | N17: 201000 | P17: 註3 | Q17: =IF(N17<>0,"註3",IF(O17<>0,"註4","")) -> 註3 | R17: =INDEX([1]告訴人!$D$15:$F$372,MATCH(C17,[1]告訴人!$F$15:$F$372,0),1) -> 341 | S17: {=IF(OR(C17=[1]告訴人!$F$15:$F$372),"重疊","")} -> 重疊 | T17: 1
A18: 15 | B18: 沈花女 | C18: 楊名嶂 | E18: 103/04/07 | F18: 1000 | G18: 68 | H18: 68000 | K18: 同原審認定 | N18: 68000 | P18: 註3 | Q18: =IF(N18<>0,"註3",IF(O18<>0,"註4","")) -> 註3 | R18: =INDEX([1]告訴人!$D$15:$F$372,MATCH(C18,[1]告訴人!$F$15:$F$372,0),1) -> #N/A | S18: {=IF(OR(C18=[1]告訴人!$F$15:$F$372),"重疊","")}
A19: 16 | B19: 沈花女 | C19: 陳文福 | E19: 103/04/08 | F19: 5000 | G19: 67 | H19: 335000 | K19: 同原審認定 | N19: 335000 | P19: 註3 | Q19: =IF(N19<>0,"註3",IF(O19<>0,"註4","")) -> 註3 | R19: =INDEX([1]告訴人!$D$15:$F$372,MATCH(C19,[1]告訴人!$F$15:$F$372,0),1) -> #N/A | S19: {=IF(OR(C19=[1]告訴人!$F$15:$F$372),"重疊","")}
A20: 17 | B20: 林明頡 | C20: 林麗雲 | E20: 103/04/11 | F20: 2000 | G20: 67 | H20: 134000 | I20: （註3） | J20: （註3） | K20: 本件聯絡窗口為京旺財經員工何金芳，亦無相關資金帳戶可供查證，應與被告黃馨瑩無涉；復此筆交易業經被告朱緯業承認該投資人為其客戶 | L20: E14第99、135頁、本院前審卷四第199頁、E14卷第136頁，本院前審卷七第319頁 | M20: OK | N20: 134000 | P20: 註3 | Q20: =IF(N20<>0,"註3",IF(O20<>0,"註4","")) -> 註3 | R20: =INDEX([1]告訴人!$D$15:$F$372,MATCH(C20,[1]告訴人!$F$15:$F$372,0),1) -> 94 | S20: {=IF(OR(C20=[1]告訴人!$F$15:$F$372),"重疊","")} -> 重疊 | T20: 1
A21: 18 | B21: 沈花女 | C21: 米彥彰 | E21: 103/04/11 | F21: 3000 | G21: 67 | H21: 201000 | K21: 同原審認定 | N21: 201000 | P21: 註3 | Q21: =IF(N21<>0,"註3",IF(O21<>0,"註4","")) -> 註3 | R21: =INDEX([1]告訴人!$D$15:$F$372,MATCH(C21,[1]告訴人!$F$15:$F$372,0),1) -> #N/A | S21: {=IF(OR(C21=[1]告訴人!$F$15:$F$372),"重疊","")}
A22: 19 | B22: 沈花女 | C22: 鄭乃銘 | E22: 103/04/11 | F22: 4000 | G22: 67 | H22: 268000 | K22: 同原審認定 | N22: 268000 | P22: 註3 | Q22: =IF(N22<>0,"註3",IF(O22<>0,"註4","")) -> 註3 | R22: =INDEX([1]告訴人!$D$15:$F$372,MATCH(C22,[1]告訴人!$F$15:$F$372,0),1) -> #N/A | S22: {=IF(OR(C22=[1]告訴人!$F$15:$F$372),"重疊","")}
A23: 20 | B23: 沈花女 | C23: 呂浚雄 | E23: 103/04/14 | F23: 4000 | G23: 67 | H23: 268000 | K23: 同原審認定 | N23: 268000 | P23: 註3 | Q23: =IF(N23<>0,"註3",IF(O23<>0,"註4","")) -> 註3 | R23: =INDEX([1]告訴人!$D$15:$F$372,MATCH(C23,[1]告訴人!$F$15:$F$372,0),1) -> #N/A | S23: {=IF(OR(C23=[1]告訴人!$F$15:$F$372),"重疊","")}
A24: 21 | B24: 沈花女 | C24: 林錦裕 | E24: 103/04/16 | F24: 5000 | G24: 67 | H24: 335000 | K24: 同原審認定 | N24: 335000 | P24: 註3 | Q24: =IF(N24<>0,"註3",IF(O24<>0,"註4","")) -> 註3 | R24: =INDEX([1]告訴人!$D$15:$F$372,MATCH(C24,[1]告訴人!$F$15:$F$372,0),1) -> #N/A | S24: {=IF(OR(C24=[1]告訴人!$F$15:$F$372),"重疊","")}
A25: 22 | B25: 沈花女 | C25: 呂浚雄 | E25: 103/04/17 | F25: 9000 | G25: 67 | H25: 603000 | K25: 同原審認定 | N25: 603000 | P25: 註3 | Q25: =IF(N25<>0,"註3",IF(O25<>0,"註4","")) -> 註3 | R25: =INDEX([1]告訴人!$D$15:$F$372,MATCH(C25,[1]告訴人!$F$15:$F$372,0),1) -> #N/A | S25: {=IF(OR(C25=[1]告訴人!$F$15:$F$372),"重疊","")}
A26: 23 | B26: 沈花女 | C26: 馬幽梅 | E26: 103/04/22 | F26: 2000 | G26: 68 | H26: 136000 | K26: 同原審認定 | N26: 136000 | P26: 註3 | Q26: =IF(N26<>0,"註3",IF(O26<>0,"註4","")) -> 註3 | R26: =INDEX([1]告訴人!$D$15:$F$372,MATCH(C26,[1]告訴人!$F$15:$F$372,0),1) -> #N/A | S26: {=IF(OR(C26=[1]告訴人!$F$15:$F$372),"重疊","")}
A27: 24 | B27: 沈花女 | C27: 林薰洲 | E27: 103/04/23 | F27: 4000 | G27: 67 | H27: 268000 | K27: 同原審認定 | N27: 268000 | P27: 註3 | Q27: =IF(N27<>0,"註3",IF(O27<>0,"註4","")) -> 註3 | R27: =INDEX([1]告訴人!$D$15:$F$372,MATCH(C27,[1]告訴人!$F$15:$F$372,0),1) -> #N/A | S27: {=IF(OR(C27=[1]告訴人!$F$15:$F$372),"重疊","")}
A28: 25 | B28: 沈花女 | C28: 黃奕誠 | E28: 103/04/24 | F28: 1000 | G28: 67 | H28: 67000 | K28: 同原審認定 | N28: 67000 | P28: 註3 | Q28: =IF(N28<>0,"註3",IF(O28<>0,"註4","")) -> 註3 | R28: =INDEX([1]告訴人!$D$15:$F$372,MATCH(C28,[1]告訴人!$F$15:$F$372,0),1) -> #N/A | S28: {=IF(OR(C28=[1]告訴人!$F$15:$F$372),"重疊","")}
A29: 26 | B29: 沈花女 | C29: 莊志信 | E29: 103/04/25 | F29: 6000 | G29: 67 | H29: 402000 | K29: 同原審認定 | N29: 402000 | P29: 註3 | Q29: =IF(N29<>0,"註3",IF(O29<>0,"註4","")) -> 註3 | R29: =INDEX([1]告訴人!$D$15:$F$372,MATCH(C29,[1]告訴人!$F$15:$F$372,0),1) -> #N/A | S29: {=IF(OR(C29=[1]告訴人!$F$15:$F$372),"重疊","")}
A30: 27 | B30: 林明頡 | C30: 范士宏 | E30: 103/04/28 | F30: 1000 | G30: 67 | H30: 67000 | K30: 同原審認定 | N30: 67000 | P30: 註3 | Q30: =IF(N30<>0,"註3",IF(O30<>0,"註4","")) -> 註3 | R30: =INDEX([1]告訴人!$D$15:$F$372,MATCH(C30,[1]告訴人!$F$15:$F$372,0),1) -> #N/A | S30: {=IF(OR(C30=[1]告訴人!$F$15:$F$372),"重疊","")}
A31: 28 | B31: 沈花女 | C31: 廖坤立 | E31: 103/05/02 | F31: 2000 | G31: 67 | H31: 134000 | K31: 同原審認定 | N31: 134000 | P31: 註3 | Q31: =IF(N31<>0,"註3",IF(O31<>0,"註4","")) -> 註3 | R31: =INDEX([1]告訴人!$D$15:$F$372,MATCH(C31,[1]告訴人!$F$15:$F$372,0),1) -> #N/A | S31: {=IF(OR(C31=[1]告訴人!$F$15:$F$372),"重疊","")}
A32: 29 | B32: 沈花女 | C32: 李湘淇 | E32: 103/05/14 | F32: 2000 | G32: 67 | H32: 134000 | K32: 同原審認定 | N32: 134000 | P32: 註3 | Q32: =IF(N32<>0,"註3",IF(O32<>0,"註4","")) -> 註3 | R32: =INDEX([1]告訴人!$D$15:$F$372,MATCH(C32,[1]告訴人!$F$15:$F$372,0),1) -> #N/A | S32: {=IF(OR(C32=[1]告訴人!$F$15:$F$372),"重疊","")}
A33: 30 | B33: 沈花女 | C33: 余枝清 | E33: 103/05/16 | F33: 5000 | G33: 67 | H33: 335000 | I33: （註3） 其後於同年6月5日、23日、25日再過戶至投資人蔡魁馗、廖良習、李永澤名下 | J33: （註3） 其後於同年6月5日、23日、25日再過戶至投資人蔡魁馗、廖良習、李永澤名下 | K33: 此筆交易業經被告朱緯業承認為其所販售 | L33: 本院前審卷五第357頁 | M33: OK | N33: 335000 | P33: 註3 | Q33: =IF(N33<>0,"註3",IF(O33<>0,"註4","")) -> 註3 | R33: =INDEX([1]告訴人!$D$15:$F$372,MATCH(C33,[1]告訴人!$F$15:$F$372,0),1) -> #N/A | S33: {=IF(OR(C33=[1]告訴人!$F$15:$F$372),"重疊","")} | T33: 1 | V33: 1
A34: 31 | B34: 林明頡 | C34: 應志偉 | E34: 103/05/19 | F34: 2000 | G34: 67 | H34: 134000 | K34: 同原審認定 | N34: 134000 | P34: 註3 | Q34: =IF(N34<>0,"註3",IF(O34<>0,"註4","")) -> 註3 | R34: =INDEX([1]告訴人!$D$15:$F$372,MATCH(C34,[1]告訴人!$F$15:$F$372,0),1) -> #N/A | S34: {=IF(OR(C34=[1]告訴人!$F$15:$F$372),"重疊","")}
A35: 32 | B35: 沈花女 | C35: 邱子瑜 | E35: 103/05/19 | F35: 10000 | G35: 67 | H35: 670000 | K35: 同原審認定 | N35: 670000 | P35: 註3 | Q35: =IF(N35<>0,"註3",IF(O35<>0,"註4","")) -> 註3 | R35: =INDEX([1]告訴人!$D$15:$F$372,MATCH(C35,[1]告訴人!$F$15:$F$372,0),1) -> #N/A | S35: {=IF(OR(C35=[1]告訴人!$F$15:$F$372),"重疊","")}
A36: 33 | B36: 沈花女 | C36: 邱世宗 | E36: 103/05/19 | F36: 10000 | G36: 67 | H36: 670000 | K36: 同原審認定 | N36: 670000 | P36: 註3 | Q36: =IF(N36<>0,"註3",IF(O36<>0,"註4","")) -> 註3 | R36: =INDEX([1]告訴人!$D$15:$F$372,MATCH(C36,[1]告訴人!$F$15:$F$372,0),1) -> #N/A | S36: {=IF(OR(C36=[1]告訴人!$F$15:$F$372),"重疊","")}
A37: 34 | B37: 沈花女 | C37: 張嘉農 | E37: 103/05/20 | F37: 10000 | G37: 67 | H37: 670000 | K37: 同原審認定 | N37: 670000 | P37: 註3 | Q37: =IF(N37<>0,"註3",IF(O37<>0,"註4","")) -> 註3 | R37: =INDEX([1]告訴人!$D$15:$F$372,MATCH(C37,[1]告訴人!$F$15:$F$372,0),1) -> #N/A | S37: {=IF(OR(C37=[1]告訴人!$F$15:$F$372),"重疊","")}
A38: 35 | B38: 林明頡 | C38: 林慶華 | E38: 103/05/21 | F38: 3000 | G38: 67 | H38: 201000 | K38: 同原審認定 | N38: 201000 | P38: 註3 | Q38: =IF(N38<>0,"註3",IF(O38<>0,"註4","")) -> 註3 | R38: =INDEX([1]告訴人!$D$15:$F$372,MATCH(C38,[1]告訴人!$F$15:$F$372,0),1) -> #N/A | S38: {=IF(OR(C38=[1]告訴人!$F$15:$F$372),"重疊","")}
A39: 36 | B39: 林明頡 | C39: 朱秋金 | E39: 103/05/21 | F39: 2000 | G39: 67 | H39: 134000 | K39: 同原審認定 | N39: 134000 | P39: 註3 | Q39: =IF(N39<>0,"註3",IF(O39<>0,"註4","")) -> 註3 | R39: =INDEX([1]告訴人!$D$15:$F$372,MATCH(C39,[1]告訴人!$F$15:$F$372,0),1) -> #N/A | S39: {=IF(OR(C39=[1]告訴人!$F$15:$F$372),"重疊","")}
A40: 37 | B40: 沈花女 | C40: 王素如 | D40: 湯美珠 | E40: 103/05/22 | F40: 5000 | G40: 67 | H40: 335000 | K40: 同原審認定 | L40: 104他6878卷第34頁、104偵18394卷第12反 | N40: 335000 | P40: 註3 | Q40: =IF(N40<>0,"註3",IF(O40<>0,"註4","")) -> 註3 | R40: =INDEX([1]告訴人!$D$15:$F$372,MATCH(C40,[1]告訴人!$F$15:$F$372,0),1) -> 352 | S40: {=IF(OR(C40=[1]告訴人!$F$15:$F$372),"重疊","")} -> 重疊
A41: 38 | B41: 林明頡 | C41: 林清裕 | E41: 103/05/22 | F41: 2000 | G41: 67 | H41: 134000 | K41: 同原審認定 | N41: 134000 | P41: 註3 | Q41: =IF(N41<>0,"註3",IF(O41<>0,"註4","")) -> 註3 | R41: =INDEX([1]告訴人!$D$15:$F$372,MATCH(C41,[1]告訴人!$F$15:$F$372,0),1) -> #N/A | S41: {=IF(OR(C41=[1]告訴人!$F$15:$F$372),"重疊","")}
...

Sheet 附表六 
A1: 附表六：「黃馨瑩以賴國隆名義購入兆良公司股票後，出售予投資人明細表」
A2: 編號 | B2: 出賣人 | C2: 投資人 | D2: 業務 | E2: 成交日期 | F2: 成交股數 | G2: 成交單價 | H2: 成交總價 | I2: 備註 | J2: 本院審核註1 | K2: 卷證依據註1 | L2: 黃馨瑩犯罪所得 | M2: 備註 | O2: 附表九編號 | Q2: 被告黃馨瑩爭執
A3: 1 | B3: 賴國隆 | C3: 張清波 | E3: 103/01/22 | F3: 2000 | G3: 65 | H3: 130000 | J3: 同原審認定 | K3: 103年度偵字第18883號編號1-6第3頁 | L3: 130000 | O3: =INDEX([1]告訴人!$D$15:$F$372,MATCH(C3,[1]告訴人!$F$15:$F$372,0),1) -> 159
A4: 2 | B4: 賴國隆 | C4: 郭怡和 | E4: 103/01/22 | F4: 5000 | G4: 65 | H4: 325000 | J4: 卷內無相關資料，應認非屬黃馨瑩旗下德睿公司販售 | N4: =IF(L4<>0,"註3","") | O4: =INDEX([1]告訴人!$D$15:$F$372,MATCH(C4,[1]告訴人!$F$15:$F$372,0),1) -> #N/A | P4: 被告未提相關佐證，難以辨認 | Q4: 1
A5: 3 | B5: 賴國隆 | C5: 張惠蓉 | E5: 103/02/07 | F5: 5000 | G5: 65 | H5: 325000 | J5: 卷內無相關資料，應認非屬黃馨瑩旗下德睿公司販售 | N5: =IF(L5<>0,"註3","") | O5: =INDEX([1]告訴人!$D$15:$F$372,MATCH(C5,[1]告訴人!$F$15:$F$372,0),1) -> #N/A | P5: 被告未提相關佐證，難以辨認 | Q5: 1
A6: 4 | B6: 賴國隆 | C6: 曾榮鑾 | E6: 103/02/07 | F6: 2000 | G6: 65 | H6: 130000 | J6: 同原審認定 | K6: 本院前審卷六第413頁、103年度偵字第18883號編號1-6第3頁 | L6: 130000 | O6: =INDEX([1]告訴人!$D$15:$F$372,MATCH(C6,[1]告訴人!$F$15:$F$372,0),1) -> 217
A7: 5 | B7: 賴國隆 | C7: 張清波 | E7: 103/02/07 | F7: 2000 | G7: 65 | H7: 130000 | J7: 同原審認定 | K7: 103年度偵字第18883號編號1-6第3頁 | L7: 130000 | O7: =INDEX([1]告訴人!$D$15:$F$372,MATCH(C7,[1]告訴人!$F$15:$F$372,0),1) -> 159
A8: 6 | B8: 賴國隆 | C8: 呂理維 | E8: 103/02/07 | F8: 1000 | G8: 65 | H8: 65000 | J8: 同原審認定 | K8: 本院前審卷六第413頁、103年度偵字第18883號編號1-6第3頁 | L8: 65000 | O8: =INDEX([1]告訴人!$D$15:$F$372,MATCH(C8,[1]告訴人!$F$15:$F$372,0),1) -> #N/A
A9: 7 | B9: 賴國隆 | C9: 賴宥材 | E9: 103/02/07 | F9: 1000 | G9: 65 | H9: 65000 | J9: 同原審認定 | K9: 本院前審卷六第413頁、103年度偵字第18883號編號1-6第3頁 | L9: 65000 | O9: =INDEX([1]告訴人!$D$15:$F$372,MATCH(C9,[1]告訴人!$F$15:$F$372,0),1) -> 297
A10: 8 | B10: 賴國隆 | C10: 張清波 | E10: 103/02/11 | F10: 2000 | G10: 65 | H10: 130000 | J10: 同原審認定 | K10: 103年度偵字第18883號編號1-6第3頁 | L10: 130000 | O10: =INDEX([1]告訴人!$D$15:$F$372,MATCH(C10,[1]告訴人!$F$15:$F$372,0),1) -> 159
A11: 9 | B11: 賴國隆 | C11: 劉子鵬 | E11: 103/02/11 | F11: 10000 | G11: 65 | H11: 650000 | J11: 同原審認定 | K11: 本院前審卷六第413頁、103年度偵字第18883號編號1-6第3頁 | L11: 650000 | O11: =INDEX([1]告訴人!$D$15:$F$372,MATCH(C11,[1]告訴人!$F$15:$F$372,0),1) -> 278
A12: 10 | B12: 賴國隆 | C12: 林淑貞 | E12: 103/02/11 | F12: 1000 | G12: 65 | H12: 65000 | J12: 同原審認定 | K12: 103年度偵字第18883號編號1-7第3頁 | L12: 65000 | O12: =INDEX([1]告訴人!$D$15:$F$372,MATCH(C12,[1]告訴人!$F$15:$F$372,0),1) -> #N/A
A13: 11 | B13: 賴國隆 | C13: 韓寶玲 | E13: 103/02/11 | F13: 2000 | G13: 67 | H13: 134000 | J13: 同原審認定 | K13: 本院前審卷六第413頁、103年度偵字第18883號編號1-6第2頁，106年度附民字第106號第7頁 | L13: 134000 | O13: =INDEX([1]告訴人!$D$15:$F$372,MATCH(C13,[1]告訴人!$F$15:$F$372,0),1) -> 309
A14: 12 | B14: 賴國隆 | C14: 劉志峰 | E14: 103/02/12 | F14: 2000 | G14: 67 | H14: 134000 | J14: 同原審認定 | K14: 本院前審卷六第413頁、103年度偵字第18883號編號2-6第1頁 | L14: 134000 | O14: =INDEX([1]告訴人!$D$15:$F$372,MATCH(C14,[1]告訴人!$F$15:$F$372,0),1) -> #N/A
A15: 13 | B15: 賴國隆 | C15: 張陳雪玉 | E15: 103/02/14 | F15: 3000 | G15: 65 | H15: 195000 | J15: 同原審認定 | K15: 103年度偵字第18883號編號1-6第3頁 | L15: 195000 | O15: =INDEX([1]告訴人!$D$15:$F$372,MATCH(C15,[1]告訴人!$F$15:$F$372,0),1) -> #N/A
A16: 14 | B16: 賴國隆 | C16: 柯重安 | E16: 103/02/14 | F16: 5000 | G16: 67 | H16: 335000 | J16: 同原審認定 | K16: 本院前審卷六第423頁、103年度偵字第18883號編號2-13第1頁 | L16: 335000 | O16: =INDEX([1]告訴人!$D$15:$F$372,MATCH(C16,[1]告訴人!$F$15:$F$372,0),1) -> 108
A17: 15 | B17: 賴國隆 | C17: 張書鑑 | E17: 103/02/17 | F17: 5000 | G17: 65 | H17: 325000 | J17: 卷內無相關資料，應認非屬黃馨瑩旗下德睿公司販售 | N17: =IF(L17<>0,"註3","") | O17: =INDEX([1]告訴人!$D$15:$F$372,MATCH(C17,[1]告訴人!$F$15:$F$372,0),1) -> #N/A | P17: 被告未提相關佐證，難以辨認 | Q17: 1
A18: 16 | B18: 賴國隆 | C18: 黃順良 | D18: 陳薇伃（B4卷第26頁） | E18: 103/02/17 | F18: 2000 | G18: 65 | H18: 130000 | J18: 同原審認定 | K18: 本院前審卷六第415頁、103年度偵字第18883號編號1-7第2頁、105年度附民字第226號第103頁 | L18: 130000 | O18: =INDEX([1]告訴人!$D$15:$F$372,MATCH(C18,[1]告訴人!$F$15:$F$372,0),1) -> 248
A19: 17 | B19: 賴國隆 | C19: 高雅蘭 | E19: 103/02/17 | F19: 1000 | G19: 65 | H19: 65000 | J19: 同原審認定 | K19: 本院前審卷六第415頁、103年度偵字第18883號編號1-7第3頁 | L19: 65000 | O19: =INDEX([1]告訴人!$D$15:$F$372,MATCH(C19,[1]告訴人!$F$15:$F$372,0),1) -> 342
A20: 18 | B20: 賴國隆 | C20: 黃秀芬 | E20: 103/02/18 | F20: 2000 | G20: 65 | H20: 130000 | J20: 同原審認定 | K20: 本院前審卷六第411頁、103年度偵字第18883號編號1-7第3頁 | L20: 130000 | O20: =INDEX([1]告訴人!$D$15:$F$372,MATCH(C20,[1]告訴人!$F$15:$F$372,0),1) -> 246
A21: 19 | B21: 賴國隆 | C21: 陳孟雪 | E21: 103/02/20 | F21: 1000 | G21: 65 | H21: 65000 | J21: 卷內無相關資料，應認非屬黃馨瑩旗下德睿公司販售 | N21: =IF(L21<>0,"註3","") | O21: =INDEX([1]告訴人!$D$15:$F$372,MATCH(C21,[1]告訴人!$F$15:$F$372,0),1) -> #N/A | P21: 被告未提相關佐證，難以辨認 | Q21: 1
A22: 20 | B22: 賴國隆 | C22: 陳信佑 | E22: 103/02/20 | F22: 2000 | G22: 67 | H22: 134000 | J22: 同原審認定 | K22: 103年度偵字第18883號編號1-6第2頁 | L22: 134000 | O22: =INDEX([1]告訴人!$D$15:$F$372,MATCH(C22,[1]告訴人!$F$15:$F$372,0),1) -> #N/A
A23: 21 | B23: 賴國隆 | C23: 邱永鎮 | E23: 103/02/21 | F23: 6000 | G23: 65 | H23: 390000 | J23: 同原審認定 | K23: 本院前審卷六第415頁、103年度偵字第18883號編號1-7第3頁 | L23: 390000 | O23: =INDEX([1]告訴人!$D$15:$F$372,MATCH(C23,[1]告訴人!$F$15:$F$372,0),1) -> 68
A24: 22 | B24: 賴國隆 | C24: 蘇沛晨 | E24: 103/02/21 | F24: 2000 | G24: 67 | H24: 134000 | J24: 同原審認定 | K24: 本院前審卷六第413頁、103年度偵字第18883號編號1-7第2頁 | L24: 134000 | O24: =INDEX([1]告訴人!$D$15:$F$372,MATCH(C24,[1]告訴人!$F$15:$F$372,0),1) -> 345
A25: 23 | B25: 賴國隆 | C25: 王碧枝 | E25: 103/02/21 | F25: 6000 | G25: 67 | H25: 402000 | J25: 同原審認定 | K25: 本院前審卷六第415頁、103年度偵字第18883號編號1-6第2頁，本院前審卷十三第457-459頁 | L25: 402000 | O25: =INDEX([1]告訴人!$D$15:$F$372,MATCH(C25,[1]告訴人!$F$15:$F$372,0),1) -> 18
A26: 24 | B26: 賴國隆 | C26: 張煥洲 | E26: 103/02/24 | F26: 1000 | G26: 38 | H26: 38000 | J26: 同原審認定 | K26: 本院前審卷六第415頁 | L26: 38000 | O26: =INDEX([1]告訴人!$D$15:$F$372,MATCH(C26,[1]告訴人!$F$15:$F$372,0),1) -> 165
A27: 25 | B27: 賴國隆 | C27: 傅應龍 | E27: 103/02/24 | F27: 2000 | G27: 38 | H27: 76000 | J27: 同原審認定 | K27: 本院前審卷六第415頁、103年度偵字第18883號編號1-6第5頁 | L27: 76000 | O27: =INDEX([1]告訴人!$D$15:$F$372,MATCH(C27,[1]告訴人!$F$15:$F$372,0),1) -> 213
A28: 26 | B28: 賴國隆 | C28: 李淑錦 | E28: 103/02/24 | F28: 10000 | G28: 65 | H28: 650000 | J28: 卷內無相關資料，應認非屬黃馨瑩旗下德睿公司販售 | N28: =IF(L28<>0,"註3","") | O28: =INDEX([1]告訴人!$D$15:$F$372,MATCH(C28,[1]告訴人!$F$15:$F$372,0),1) -> 45 | P28: 被告未提相關佐證，難以辨認 | Q28: 1
A29: 27 | B29: 賴國隆 | C29: 曹庭耀 | E29: 103/02/24 | F29: 2000 | G29: 65 | H29: 130000 | J29: 同原審認定 | K29: 本院前審卷六第415頁、103年度偵字第18883號編號1-7第3頁 | L29: 130000 | O29: =INDEX([1]告訴人!$D$15:$F$372,MATCH(C29,[1]告訴人!$F$15:$F$372,0),1) -> 135
A30: 28 | B30: 賴國隆 | C30: 傅應龍 | E30: 103/02/24 | F30: 10000 | G30: 65 | H30: 650000 | I30: 其後於同年月25日再以同一價格過戶至蔡文益名下 | J30: 同原審認定 | K30: 本院前審卷六第415頁、103年度偵字第18883號編號1-6第3頁 | L30: 650000 | M30: 其後於同年月25日再以同一價格過戶至蔡文益名下 | O30: =INDEX([1]告訴人!$D$15:$F$372,MATCH(C30,[1]告訴人!$F$15:$F$372,0),1) -> 213
A31: 29 | B31: 賴國隆 | C31: 陳啟瀚 | E31: 103/02/24 | F31: 4000 | G31: 67 | H31: 268000 | J31: 同原審認定 | K31: 103年度偵字第18883號編號1-7第2頁 | L31: 268000 | O31: =INDEX([1]告訴人!$D$15:$F$372,MATCH(C31,[1]告訴人!$F$15:$F$372,0),1) -> 192
A32: 30 | B32: 賴國隆 | C32: 張煥洲 | E32: 103/02/24 | F32: 4000 | G32: 67 | H32: 268000 | J32: 同原審認定 | K32: 本院前審卷六第415頁 | L32: 268000 | O32: =INDEX([1]告訴人!$D$15:$F$372,MATCH(C32,[1]告訴人!$F$15:$F$372,0),1) -> 165
A33: 31 | B33: 賴國隆 | C33: 林智瑝 | E33: 103/02/25 | F33: 4000 | G33: 65 | H33: 260000 | J33: 同原審認定 | K33: 本院前審卷六第415頁、103年度偵字第18883號編號1-7第3頁 | L33: 260000 | O33: =INDEX([1]告訴人!$D$15:$F$372,MATCH(C33,[1]告訴人!$F$15:$F$372,0),1) -> 74
A34: 32 | B34: 賴國隆 | C34: 張潘喜英 | E34: 103/02/25 | F34: 2000 | G34: 65 | H34: 130000 | J34: 同原審認定 | K34: 本院前審卷六第415頁、103年度偵字第18883號編號1-7第3頁 | L34: 130000 | O34: =INDEX([1]告訴人!$D$15:$F$372,MATCH(C34,[1]告訴人!$F$15:$F$372,0),1) -> #N/A
A35: 33 | B35: 賴國隆 | C35: 賴美珍 | E35: 103/02/25 | F35: 2000 | G35: 67 | H35: 134000 | J35: 同原審認定 | K35: 本院前審卷六第415頁、103年度偵字第18883號編號1-7第2頁 | L35: 134000 | O35: =INDEX([1]告訴人!$D$15:$F$372,MATCH(C35,[1]告訴人!$F$15:$F$372,0),1) -> 295
A36: 34 | B36: 賴國隆 | C36: 顏春風 | E36: 103/02/25 | F36: 1000 | G36: 67 | H36: 67000 | J36: 依扣押物所示成交明細，可知投資人顏春風亦在德睿公司成交名單中，堪認屬德睿公司所販賣者 | K36: 103年度偵字第18883號編號1-6第2頁 | L36: 67000 | O36: =INDEX([1]告訴人!$D$15:$F$372,MATCH(C36,[1]告訴人!$F$15:$F$372,0),1) -> #N/A | P36: 被告未提相關佐證，難以辨認 | Q36: 1
A37: 35 | B37: 賴國隆 | C37: 傅應龍 | E37: 103/02/25 | F37: 10000 | G37: 68 | H37: 680000 | J37: 同原審認定 | K37: 本院前審卷六第415頁 | L37: 680000 | O37: =INDEX([1]告訴人!$D$15:$F$372,MATCH(C37,[1]告訴人!$F$15:$F$372,0),1) -> 213
A38: 36 | B38: 賴國隆 | C38: 羅家炎 | E38: 103/02/26 | F38: 2000 | G38: 38 | H38: 76000 | J38: 同原審認定 | K38: 本院前審卷六第415頁、103年度偵字第18883號編號1-6第5頁 | L38: 76000 | O38: =INDEX([1]告訴人!$D$15:$F$372,MATCH(C38,[1]告訴人!$F$15:$F$372,0),1) -> 327
A39: 37 | B39: 賴國隆 | C39: 鍾美玉 | E39: 103/02/26 | F39: 5000 | G39: 65 | H39: 325000 | J39: 本案聯絡窗口為德睿公司張玉汝，亦屬被告黃馨瑩主導之股票交易 | K39: 本院前審卷四第447頁 | L39: 325000 | O39: =INDEX([1]告訴人!$D$15:$F$372,MATCH(C39,[1]告訴人!$F$15:$F$372,0),1) -> 302 | Q39: 1
A40: 38 | B40: 賴國隆 | C40: 羅家炎 | E40: 103/02/26 | F40: 12000 | G40: 67 | H40: 804000 | J40: 同原審認定 | K40: 本院前審卷六第415頁、103年度偵字第18883號編號1-6第2頁 | L40: 804000 | O40: =INDEX([1]告訴人!$D$15:$F$372,MATCH(C40,[1]告訴人!$F$15:$F$372,0),1) -> 327
...

Sheet 附表七
A1: 附表七：「黃馨瑩出售元龍、金隆公司股票明細表」
A2: 編號 | B2: 股票名稱 | C2: 投資人 | D2: 業務 | E2: 成交日期 | F2: 成交股數 | G2: 成交單價 | H2: 成交總價 | I2: 卷證出處
A3: 1 | B3: 金隆 | C3: 羅元彥 | E3: 103/10/17 | F3: 1000 | G3: 65 | H3: =F3*G3 -> 65000 | I3: 扣押物「7-33」P15
A4: 2 | B4: 金隆 | C4: 孫秋萍 | D4: 劉任修 | E4: 103/11/03 | F4: 2000 | G4: 65 | H4: =F4*G4 -> 130000 | I4: 扣押物「7-33」P12
A5: 3 | B5: 金隆 | C5: 林財正 | D5: 黃亭瑄 | E5: 103/11/05 | F5: 3000 | G5: 60 | H5: =F5*G5 -> 180000 | I5: 扣押物「7-33」P12
A6: 4 | B6: 金隆 | C6: 陳沅池 | D6: 劉任修 | E6: 103/11/08 | F6: 1000 | G6: 65 | H6: =F6*G6 -> 65000 | I6: 扣押物「7-33」P12
A7: 5 | B7: 金隆 | C7: 林柏昌 | D7: 黃亭瑄 | E7: 103/11/18 | F7: 2000 | G7: 65 | H7: =F7*G7 -> 130000 | I7: 扣押物「7-33」P12
A8: 6 | B8: 金隆 | C8: 陳仁誠 | E8: 103/11/20 | F8: 3000 | G8: 65 | H8: =F8*G8 -> 195000 | I8: 扣押物「7-33」P12
A9: 7 | B9: 金隆 | C9: 謝季恩 | E9: 103/11/21 | F9: 4000 | G9: 65 | H9: =F9*G9 -> 260000 | I9: 扣押物「7-33」P12
A10: 8 | B10: 金隆 | C10: 謝季恩 | E10: 103/11/21 | F10: 1000 | G10: 35 | H10: =F10*G10 -> 35000 | I10: 扣押物「7-33」P12
A11: 9 | B11: 金隆 | C11: 林威揚 | E11: 103/11/21 | F11: 1000 | G11: 65 | H11: =F11*G11 -> 65000 | I11: 扣押物「7-33」P12
A12: 10 | B12: 金隆 | C12: 張凱雄 | D12: 劉任修 | E12: 103/11/21 | F12: 5000 | G12: 65 | H12: =F12*G12 -> 325000 | I12: 扣押物「7-33」P12
A13: 11 | B13: 金隆 | C13: 張凱雄 | D13: 劉任修 | E13: 103/11/21 | F13: 1000 | G13: 35 | H13: =F13*G13 -> 35000 | I13: 扣押物「7-33」P12
A14: 12 | B14: 金隆 | C14: 郭秀霞 | E14: 103/11/24 | F14: 3000 | G14: 65 | H14: =F14*G14 -> 195000 | I14: 扣押物「7-33」P12
A15: 13 | B15: 金隆 | C15: 陳沅池 | D15: 劉任修 | E15: 103/110/8 | F15: 1000 | G15: 45 | H15: =F15*G15 -> 45000 | I15: 扣押物「7-33」P12
A16: 14 | B16: 金隆 | C16: 彭秋月 | E16: 103/12/01 | F16: 10000 | G16: 65 | H16: =F16*G16 -> 650000 | I16: 扣押物「7-33」P10
A17: 15 | B17: 金隆 | C17: 彭秋月 | E17: 103/12/01 | F17: 2000 | G17: 35 | H17: =F17*G17 -> 70000 | I17: 扣押物「7-33」P10
A18: 16 | B18: 金隆 | C18: 陳玉枝 | E18: 103/12/01 | F18: 5000 | G18: 65 | H18: =F18*G18 -> 325000 | I18: 扣押物「7-33」P10
A19: 17 | B19: 金隆 | C19: 陳玉枝 | E19: 103/12/01 | F19: 1000 | G19: 35 | H19: =F19*G19 -> 35000 | I19: 扣押物「7-33」P10
A20: 18 | B20: 金隆 | C20: 卓維煌 | E20: 103/12/01 | F20: 5000 | G20: 65 | H20: =F20*G20 -> 325000 | I20: 扣押物「7-33」P10
A21: 19 | B21: 金隆 | C21: 卓維煌 | E21: 103/12/01 | F21: 1000 | G21: 35 | H21: =F21*G21 -> 35000 | I21: 扣押物「7-33」P10
A22: 20 | B22: 金隆 | C22: 闕千惠 | E22: 103/12/03 | F22: 5000 | G22: 65 | H22: =F22*G22 -> 325000 | I22: 扣押物「7-33」P10
A23: 21 | B23: 金隆 | C23: 闕千惠 | E23: 103/12/03 | F23: 1000 | G23: 35 | H23: =F23*G23 -> 35000 | I23: 扣押物「7-33」P10
A24: 22 | B24: 金隆 | C24: 洪華憶 | E24: 103/12/04 | F24: 2000 | G24: 65 | H24: =F24*G24 -> 130000 | I24: 扣押物「7-33」P10
A25: 23 | B25: 金隆 | C25: 余春財 | E25: 103/12/05 | F25: 5000 | G25: 65 | H25: =F25*G25 -> 325000 | I25: 扣押物「7-33」P10
A26: 24 | B26: 金隆 | C26: 余春財 | E26: 103/12/05 | F26: 1000 | G26: 35 | H26: =F26*G26 -> 35000 | I26: 扣押物「7-33」P10
A27: 25 | B27: 金隆 | C27: 孫秋萍 | D27: 劉任修 | E27: 103/12/05 | F27: 8000 | G27: 65 | H27: =F27*G27 -> 520000 | I27: 扣押物「7-33」P10
A28: 26 | B28: 金隆 | C28: 孫秋萍 | D28: 劉任修 | E28: 103/12/05 | F28: 2000 | G28: 35 | H28: =F28*G28 -> 70000 | I28: 扣押物「7-33」P10
A29: 27 | B29: 金隆 | C29: 張宏嘉 | D29: 劉任修 | E29: 103/12/08 | F29: 5000 | G29: 65 | H29: =F29*G29 -> 325000 | I29: 扣押物「7-33」P10
A30: 28 | B30: 金隆 | C30: 張宏嘉 | D30: 劉任修 | E30: 103/12/08 | F30: 1000 | G30: 35 | H30: =F30*G30 -> 35000 | I30: 扣押物「7-33」P10
A31: 29 | B31: 金隆 | C31: 謝小島 | D31: 劉任修 | E31: 103/12/26 | F31: 3000 | G31: 65 | H31: =F31*G31 -> 195000 | I31: 扣押物「7-33」P10
A32: 30 | B32: 金隆 | C32: 黃國榕 | E32: 104/01/05 | F32: 1000 | G32: 65 | H32: =F32*G32 -> 65000 | I32: 扣押物「7-33」P7
A33: 31 | B33: 金隆 | C33: 張宏嘉 | D33: 劉任修 | E33: 104/01/06 | F33: 10000 | G33: 65 | H33: =F33*G33 -> 650000 | I33: 扣押物「7-33」P8
A34: 32 | B34: 金隆 | C34: 張宏嘉 | D34: 劉任修 | E34: 104/01/06 | F34: 2000 | G34: 35 | H34: =F34*G34 -> 70000 | I34: 扣押物「7-33」P8
A35: 33 | B35: 金隆 | C35: 張慧玉 | D35: 劉任修 | E35: 104/01/06 | F35: 10000 | G35: 65 | H35: =F35*G35 -> 650000 | I35: 扣押物「7-33」P8
A36: 34 | B36: 金隆 | C36: 張慧玉 | D36: 劉任修 | E36: 104/01/06 | F36: 2000 | G36: 35 | H36: =F36*G36 -> 70000 | I36: 扣押物「7-33」P8
A37: 35 | B37: 金隆 | C37: 劉子鵬 | E37: 104/02/26 | F37: 2000 | G37: 65 | H37: =F37*G37 -> 130000 | I37: 扣押物「7-33」P8
A38: 36 | B38: 金隆 | C38: 謝小島 | D38: 劉任修 | E38: 104/02/26 | F38: 1000 | G38: 65 | H38: =F38*G38 -> 65000 | I38: 扣押物「7-33」P8
A39: 37 | B39: 金隆 | C39: 黃銀河 | D39: 詹雅玲 | E39: 104/03/04 | F39: 1000 | G39: 65 | H39: =F39*G39 -> 65000 | I39: 扣押物「7-33」P6
A40: 38 | B40: 金隆 | C40: 黃國榕 | E40: 104/03/11 | F40: 4000 | G40: 65 | H40: =F40*G40 -> 260000 | I40: 扣押物「7-33」P6
...

Sheet 附表八 
A1: 附表八：「劉勝誼購入兆良公司股票後出售予投資人明細表」（註）
A2: 編號 | B2: 出賣人 | C2: 投資人 | D2: 成交日期 | E2: 成交股數 | F2: 成交單價 | G2: 成交總價 | H2: 備註
A3: 1 | B3: 劉勝誼 | C3: 洪純翠 | D3: 103/09/02 | E3: 10000 | F3: 67 | G3: 670000 | H3: 本院光碟資料卷P14反
A4: 2 | B4: 劉勝誼 | C4: 何儒婷 | D4: 103/09/03 | E4: 5000 | F4: 67 | G4: 335000 | H4: 本院光碟資料卷P4反
A5: 3 | B5: 劉勝誼 | C5: 趙正凱 | D5: 103/09/04 | E5: 2000 | F5: 67 | G5: 134000 | H5: 本院光碟資料卷P7
A6: 4 | B6: 劉勝誼 | C6: 李孝君 | D6: 103/09/04 | E6: 2000 | F6: 67 | G6: 134000 | H6: 本院光碟資料卷P9反
A7: 5 | B7: 劉勝誼 | C7: 傅仁杰 | D7: 103/09/04 | E7: 2000 | F7: 67 | G7: 134000 | H7: 本院光碟資料卷P9反
A8: 6 | B8: 劉勝誼 | C8: 顏萬清 | D8: 103/10/01 | E8: 1000 | F8: 67 | G8: 67000 | H8: 本院光碟資料卷P3
A9: 7 | B9: 劉勝誼 | C9: 陳建攸 | D9: 103/10/01 | E9: 1000 | F9: 67 | G9: 67000 | H9: 本院光碟資料卷P3反
A10: 8 | B10: 劉勝誼 | C10: 魏麗華 | D10: 103/10/01 | E10: 1000 | F10: 67 | G10: 67000 | H10: 本院光碟資料卷P3反
A11: 9 | B11: 劉勝誼 | C11: 鄭人豪 | D11: 103/10/01 | E11: 1000 | F11: 67 | G11: 67000 | H11: 本院光碟資料卷P7
A12: 10 | B12: 劉勝誼 | C12: 鄧錦華 | D12: 103/10/01 | E12: 3000 | F12: 67 | G12: 201000 | H12: 本院光碟資料卷P11
A13: 11 | B13: 劉勝誼 | C13: 劉靜枝 | D13: 103/10/01 | E13: 1000 | F13: 67 | G13: 67000 | H13: 本院光碟資料卷P11
A14: 12 | B14: 劉勝誼 | C14: 蕭舜耀 | D14: 103/10/01 | E14: 10000 | F14: 67 | G14: 670000 | H14: 本院光碟資料卷P12
... A145: 143 | B145: 劉勝誼 | C145: 劉桂有 | D145: 104/01/26 | E145: 6000 | F145: 67 | G145: 402000 | H145: 本院光碟資料卷P17
E146: =SUBTOTAL(9,E3:E145) -> 604000 | F146: 總計 | G146: =SUBTOTAL(9,G3:G145) -> 29926000
A147: 註： | B147: 卷證出處為A21卷第113至144頁、原審卷六第241至244頁所附光碟及本院列印資料 1份（本院光碟資料卷第2-17頁）。

Sheet 附表九
A1: 附表九：「兆良公司100年9月至104年4月銷售額一覽表」（註1）
A2: 年月 | B2: 銷售額 | C2: 銷貨退回 | D2: 備註
A3: 100年9至10月 | B3: 0
A4: 100年11至12月 | B4: 0
A5: 101年1至2月 | B5: 0
A6: 101年3至4月 | B6: 0
A7: 101年5至6月 | B7: 0
A8: 101年7至8月 | B8: 0
A9: 101年9至10月 | B9: 0
A10: 101年11至12月 | B10: 61905
A11: 102年1至2月 | B11: 0
A12: 102年3至4月 | B12: 0
A13: 102年5至6月 | B13: 0
A14: 102年7至8月 | B14: 0
A15: 102年9至10月 | B15: 0
A16: 102年11至12月 | B16: 10357143 | D16: 其中對「兆乾公司」、「豪倫公司」之銷售額為9,357,143元，占該期間銷售額比重為90.34%（註2）
A17: 103年1至2月 | B17: 9619048 | D17: 其中對「豪倫公司」之銷售額為9,619,048元，占該期間銷售額比重為100%（註3）
A18: 103年3至4月 | B18: 12380953 | D18: 其中對「豪倫公司」之銷售額為12,380,953元，占該期間銷售額比重為100%（註4）
A19: 103年5至6月 | B19: 17619047 | D19: 其中對「豪倫公司」、「習拿納生醫公司」之銷售額為17,619,047元，占該期間銷售額比重為100%（註5）
A20: 103年7至8月 | B20: 8448781 | D20: 其中對「習拿納生醫公司」之銷售額為8,308,304元，占該期間銷售額比重為98.34%（註6）
A21: 103年9至10月 | B21: 145238
A22: 103年11至12月 | B22: 702500 | C22: -6482691
A23: 104年1至2月 | B23: 0 | C23: -43367001
A24: 104年3至4月 | B24: 1460008
A25: 註1：卷證出處為A43卷第303至313反頁。
A26: 註2：其中銷售對象為「兆乾公司」、「豪倫公司」之銷售明細如下（A30卷第89至92頁）：
A27: 年月 | B27: 銷售對象 | C27: 銷售額 | D27: 營業稅 | E27: 總金額
A28: 102/11 | B28: 兆乾公司 | C28: 2000000 | D28: 100000 | E28: =C28+D28 -> 2100000
A29: 102/11 | B29: 兆乾公司 | C29: 2000000 | D29: 100000 | E29: =C29+D29 -> 2100000
A30: 102/11 | B30: 兆乾公司 | C30: 2500000 | D30: 125000 | E30: =C30+D30 -> 2625000
A31: 102/12 | B31: 豪倫公司 | C31: 2857143 | D31: 142857 | E31: =C31+D31 -> 3000000
A32: 小計 | C32: =SUM(C28:C31) -> 9357143 | D32: =SUM(D28:D31) -> 467857 | E32: =SUM(E28:E31) -> 9825000
A33: 比重 | C33: =C32/B16 -> 0.90344828
A34: 註3：其中銷售對象為「豪倫公司」之銷售明細如下（A30卷第89至92頁）：
A35: 年月 | B35: 銷售對象 | C35: 銷售額 | D35: 營業稅 | E35: 總金額
A36: 103/01 | B36: 豪倫公司 | C36: 2857143 | D36: 142857 | E36: =C36+D36 -> 3000000
A37: 103/02 | B37: 豪倫公司 | C37: 2952381 | D37: 147619 | E37: =C37+D37 -> 3100000
A38: 103/02 | B38: 豪倫公司 | C38: 3809524 | D38: 190476 | E38: =C38+D38 -> 4000000
A39: 小計 | C39: =SUM(C36:C38) -> 9619048 | D39: =SUM(D35:D38) -> 480952 | E39: =SUM(E35:E38) -> 10100000
A40: 比重 | C40: =C39/B17 -> 1
...

Sheet 附表十
A1: 附表十：「以王立華、施明宏名義購入兆良公司股票後，出售予投資人明細表」
A2: 編號 | B2: 出賣人 | C2: 投資人 | D2: 成交日期 | E2: 成交股數 | F2: 成交單價 | G2: 成交總價 | H2: 本院審核註1 | I2: 卷證依據註1 | J2: 備註 | S2: 朱緯業犯罪所得 | U2: 黃馨瑩犯罪所得
A3: 1 | B3: 王立華 | C3: 施明宏 | D3: 103/02/26 | E3: 5000 | F3: 25 | G3: 125000 | J3: =IF(S3<>0,"註2",IF(U3<>0,"註3",""))
A4: 2 | B4: 王立華 | C4: 彭士哲 | D4: 103/02/26 | E4: 5000 | F4: 25 | G4: 125000 | J4: =IF(S4<>0,"註2",IF(U4<>0,"註3",""))
A5: 3 | B5: 王立華 | C5: 黃宥穎 | D5: 103/03/19 | E5: 1000 | F5: 68 | G5: 68000 | J5: =IF(S5<>0,"註2",IF(U5<>0,"註3",""))
A6: 4 | B6: 王立華 | C6: 劉振發 | D6: 103/03/20 | E6: 5000 | F6: 68 | G6: 340000 | J6: =IF(S6<>0,"註2",IF(U6<>0,"註3",""))
A7: 5 | B7: 王立華 | C7: 劉麗蘭 | D7: 103/03/21 | E7: 5000 | F7: 68 | G7: 340000 | J7: =IF(S7<>0,"註2",IF(U7<>0,"註3",""))
A8: 6 | B8: 王立華 | C8: 康美玉 | D8: 103/03/26 | E8: 2000 | F8: 67 | G8: 134000 | J8: =IF(S8<>0,"註2",IF(U8<>0,"註3",""))
A9: 7 | B9: 王立華 | C9: 薛柏林 | D9: 103/03/27 | E9: 4000 | F9: 67 | G9: 268000 | H9: 該交易透過萬豐公司聯絡，被告朱緯業承認其為該公司實際負責人，應與被告黃馨瑩無涉 | I9: 本院前審卷四第521頁、卷五第357頁、卷七第52頁 | J9: =IF(S9<>0,"註2",IF(U9<>0,"註3","")) -> 註2 | S9: 268000
A10: 8 | B10: 王立華 | C10: 劉信武 | D10: 103/03/31 | E10: 1000 | F10: 68 | G10: 68000 | J10: =IF(S10<>0,"註2",IF(U10<>0,"註3",""))
A11: 9 | B11: 王立華 | C11: 李桂鶯 | D11: 103/04/01 | E11: 5000 | F11: 67 | G11: 335000 | H11: 該交易透過萬豐公司聯絡，被告朱緯業承認為其實際負責人，應與被告黃馨瑩無涉 | I11: 本院前審卷四第523頁、卷五第357頁、卷七第52頁 | J11: =IF(S11<>0,"註2",IF(U11<>0,"註3","")) -> 註2 | S11: 335000
A12: 10 | B12: 施明宏 | C12: 王立華 | D12: 103/04/03 | E12: -5000 | F12: 25 | G12: -125000 | J12: =IF(S12<>0,"註2",IF(U12<>0,"註3",""))
A13: 11 | B13: 王立華 | C13: 洪筱梅 | D13: 103/04/03 | E13: 5000 | F13: 67 | G13: 335000 | H13: 該交易透過萬豐公司聯絡，被告朱緯業承認為其實際負責人，應與被告黃馨瑩無涉 | I13: 本院前審卷四第513頁、卷五第357頁、卷七第52頁 | J13: =IF(S13<>0,"註2",IF(U13<>0,"註3","")) -> 註2 | S13: 335000
A14: 12 | B14: 王立華 | C14: 彭士哲 | D14: 103/04/08 | E14: 3000 | F14: 25 | G14: 75000 | J14: =IF(S14<>0,"註2",IF(U14<>0,"註3",""))
A15: 13 | B15: 王立華 | C15: 尤伍能 | D15: 103/04/16 | E15: 2000 | F15: 67 | G15: 134000 | H15: 該交易透過萬豐公司聯絡，被告朱緯業承認為其實際負責人，應與被告黃馨瑩無涉 | I15: 本院前審卷四第525頁、卷五第357頁、卷七第52頁 | J15: =IF(S15<>0,"註2",IF(U15<>0,"註3","")) -> 註2 | S15: 134000
A16: 14 | B16: 王立華 | C16: 江志賢 | D16: 103/05/08 | E16: 1000 | F16: 67 | G16: 67000 | J16: =IF(S16<>0,"註2",IF(U16<>0,"註3",""))
A17: 15 | B17: 施明宏 | C17: 郭德茂 | D17: 103/05/14 | E17: 1000 | F17: 67 | G17: 67000 | J17: =IF(S17<>0,"註2",IF(U17<>0,"註3",""))
A18: 16 | B18: 王立華 | C18: 江佳倫 | D18: 103/05/15 | E18: 3000 | F18: 67 | G18: 201000 | J18: =IF(S18<>0,"註2",IF(U18<>0,"註3",""))
A19: 17 | B19: 王立華 | C19: 彭士哲 | D19: 103/05/20 | E19: 5000 | F19: 25 | G19: 125000 | J19: =IF(S19<>0,"註2",IF(U19<>0,"註3",""))
A20: 18 | B20: 王立華 | C20: 許秋霞 | D20: 103/05/27 | E20: 5000 | F20: 67 | G20: 335000 | H20: 該交易透過聯寶公司聯絡，被告朱緯業承認為其實際負責人，應與被告黃馨瑩無涉 | I20: 本院前審卷四第515頁、卷五第357頁、卷七第52頁 | J20: =IF(S20<>0,"註2",IF(U20<>0,"註3","")) -> 註2 | S20: 335000
A21: 19 | B21: 王立華 | C21: 李慧玲 | D21: 103/06/03 | E21: 3000 | F21: 67 | G21: 201000 | H21: 該交易透過萬豐公司聯絡，被告朱緯業承認為其實際負責人，應與被告黃馨瑩無涉 | I21: 本院前審卷四第519頁、卷五第357頁、卷七第52頁 | J21: =IF(S21<>0,"註2",IF(U21<>0,"註3","")) -> 註2 | S21: 201000
A22: 20 | B22: 王立華 | C22: 羅羽孜 | D22: 103/06/03 | E22: 2000 | F22: 67 | G22: 134000 | J22: =IF(S22<>0,"註2",IF(U22<>0,"註3",""))
A23: 21 | B23: 王立華 | C23: 王俊隆 | D23: 103/06/03 | E23: 2000 | F23: 67 | G23: 134000 | J23: =IF(S23<>0,"註2",IF(U23<>0,"註3",""))
A24: 22 | B24: 王立華 | C24: 曾耀慶 | D24: 103/06/05 | E24: 5000 | F24: 67 | G24: 335000 | J24: =IF(S24<>0,"註2",IF(U24<>0,"註3",""))
A25: 23 | B25: 王立華 | C25: 羅羽孜 | D25: 103/06/05 | E25: 3000 | F25: 67 | G25: 201000 | J25: =IF(S25<>0,"註2",IF(U25<>0,"註3",""))
A26: 24 | B26: 王立華 | C26: 游秀玉 | D26: 103/06/06 | E26: 2000 | F26: 67 | G26: 134000 | I26: E16卷第226頁 | J26: =IF(S26<>0,"註2",IF(U26<>0,"註3",""))
A27: 25 | B27: 王立華 | C27: 王俊隆 | D27: 103/06/06 | E27: 2000 | F27: 67 | G27: 134000 | J27: =IF(S27<>0,"註2",IF(U27<>0,"註3",""))
A28: 26 | B28: 王立華 | C28: 李桂鶯 | D28: 103/06/09 | E28: 10000 | F28: 67 | G28: 670000 | H28: 該交易透過萬豐公司聯絡，被告朱緯業承認為其實際負責人，應與被告黃馨瑩無涉 | I28: 本院前審卷四第523頁、卷五第357頁、卷七第52頁 | J28: =IF(S28<>0,"註2",IF(U28<>0,"註3","")) -> 註2 | S28: 670000
A29: 27 | B29: 王立華 | C29: 謝永昌 | D29: 103/06/09 | E29: 3000 | F29: 68 | G29: 204000 | J29: =IF(S29<>0,"註2",IF(U29<>0,"註3",""))
A30: 28 | B30: 王立華 | C30: 彭士哲 | D30: 103/06/10 | E30: 4000 | F30: 25 | G30: 100000 | J30: =IF(S30<>0,"註2",IF(U30<>0,"註3",""))
A31: 29 | B31: 施明宏 | C31: 張建成 | D31: 103/06/10 | E31: 5000 | F31: 69 | G31: 345000 | H31: 被告黃馨瑩不爭執 | I31: 本院前審卷七第52頁 | J31: =IF(S31<>0,"註2",IF(U31<>0,"註3","")) -> 註3 | U31: 345000
A32: 30 | B32: 施明宏 | C32: 謝秀菊 | D32: 103/06/10 | E32: 4000 | F32: 69 | G32: 276000 | H32: 被告黃馨瑩不爭執 | I32: 本院前審卷七第52頁 | J32: =IF(S32<>0,"註2",IF(U32<>0,"註3","")) -> 註3 | U32: 276000
A33: 31 | B33: 施明宏 | C33: 鄭明華 | D33: 103/06/10 | E33: 7000 | F33: 69 | G33: 483000 | H33: 被告黃馨瑩不爭執 | I33: 本院前審卷七第52頁 | J33: =IF(S33<>0,"註2",IF(U33<>0,"註3","")) -> 註3 | U33: 483000
A34: 32 | B34: 施明宏 | C34: 陳玉燕 | D34: 103/06/10 | E34: 5000 | F34: 69 | G34: 345000 | H34: 被告黃馨瑩不爭執 | I34: 本院前審卷七第52頁 | J34: =IF(S34<>0,"註2",IF(U34<>0,"註3","")) -> 註3 | U34: 345000
A35: 33 | B35: 施明宏 | C35: 程美玉 | D35: 103/06/10 | E35: 2000 | F35: 69 | G35: 138000 | H35: 被告黃馨瑩不爭執 | I35: 本院前審卷七第52頁 | J35: =IF(S35<>0,"註2",IF(U35<>0,"註3","")) -> 註3 | U35: 138000
A36: 34 | B36: 王立華 | C36: 康美玉 | D36: 103/06/17 | E36: 3000 | F36: 67 | G36: 201000 | J36: =IF(S36<>0,"註2",IF(U36<>0,"註3",""))
A37: 35 | B37: 王立華 | C37: 羅羽孜 | D37: 103/06/18 | E37: 3000 | F37: 67 | G37: 201000 | J37: =IF(S37<>0,"註2",IF(U37<>0,"註3",""))
A38: 36 | B38: 王立華 | C38: 江曜松 | D38: 103/07/22 | E38: 5000 | F38: 67 | G38: 335000 | J38: =IF(S38<>0,"註2",IF(U38<>0,"註3",""))
A39: 37 | B39: 王立華 | C39: 曾清忠 | D39: 103/07/22 | E39: 1000 | F39: 67 | G39: 67000 | J39: =IF(S39<>0,"註2",IF(U39<>0,"註3",""))
A40: 38 | B40: 王立華 | C40: 李銘心 | D40: 103/07/30 | E40: 2000 | F40: 67 | G40: 134000 | J40: =IF(S40<>0,"註2",IF(U40<>0,"註3",""))
...

Sheet 附表十一
A1: 附表十一：「106年度偵字第5083號附表」
A2: 項目 | B2: 營業人名稱 | C2: 與兆乾公司交易期間 | D2: 取得兆乾公司開立統一發票張數 | E2: 與兆乾公司往來之銷售額 | F2: 與兆乾公司往來之稅額 | G2: 提出申報扣抵之發票張數 | H2: 扣抵發票之銷售額 | I2: 扣抵之稅額
A3: 1 | B3: 光倫公司 | C3: 102年12月至103年4月 | D3: 7 | E3: 24476192 | F3: 1223808 | G3: 7 | H3: 24476192 | I3: 1223808
A4: 2 | B4: 玉倫公司 | C4: 103年5月至6月 | D4: 7 | E4: 9142857 | F4: 457143 | G4: 7 | H4: 9142857 | I4: 457143
A5: 3 | B5: 緯騏公司 | C5: 103年6月至同年12月 | D5: 19 | E5: 14780928 | F5: 739046 | G5: 19 | H5: 14780928 | I5: 739046
A6: 合計 | D6: 33 | E6: =SUM(E3:E5) -> 48399977 | F6: =SUM(F3:F5) -> 2419997 | G6: =SUM(G3:G5) -> 33 | H6: =SUM(H3:H5) -> 48399977 | I6: =SUM(I3:I5) -> 2419997
A7: 出處：專案申請調檔查核清單（105他4192卷一第374至377頁）

Sheet 附表十二
A1: 附表十二：「106年度偵字第5626號附表」
A2: 編號 | B2: 發票 開立年月 | C2: 發票號碼 | D2: 銷售額 | E2: 稅額（兆乾公司已扣抵稅額）
A3: 1 | B3: 103年6月 | C3: AQ27734502 | D3: 794762 | E3: 39738
A4: 2 | B4: 103年6月 | C4: AQ27734503 | D4: 888286 | E4: 44414
A5: 3 | B5: 103年6月 | C5: AQ27734506 | D5: 824095 | E5: 41205
A6: 4 | B6: 103年6月 | C6: AQ27734507 | D6: 932762 | E6: 46638
A7: 5 | B7: 103年6月 | C7: AQ27734508 | D7: 859524 | E7: 42976
A8: 6 | B8: 103年6月 | C8: AQ27734509 | D8: 843552 | E8: 42178
A9: 7 | B9: 103年6月 | C9: AQ27734510 | D9: 786924 | E9: 39346
A10: 8 | B10: 103年6月 | C10: AQ27734511 | D10: 832000 | E10: 41600
A11: 9 | B11: 103年7月 | C11: BK27549950 | D11: 689454 | E11: 34473
A12: 10 | B12: 103年7月 | C12: BK27549951 | D12: 626554 | E12: 31328
A13: 11 | B13: 103年7月 | C13: BK27549953 | D13: 837406 | E13: 41870
A14: 12 | B14: 103年7月 | C14: BK27549954 | D14: 744055 | E14: 37203
... A21: 19 | B21: 103年8月 | C21: BK27549962 | D21: 617580 | E21: 30879
A22: 合計 | D22: =SUM(D3:D21) -> 14240651 | E22: =SUM(E3:E21) -> 712032
